BEGIN:VCALENDAR
VERSION:2.0
PRODID:-//One Chippenham - ECPv6.15.20//NONSGML v1.0//EN
CALSCALE:GREGORIAN
METHOD:PUBLISH
X-ORIGINAL-URL:https://onechippenham.org.uk
X-WR-CALDESC:Events for One Chippenham
REFRESH-INTERVAL;VALUE=DURATION:PT1H
X-Robots-Tag:noindex
X-PUBLISHED-TTL:PT1H
BEGIN:VTIMEZONE
TZID:Europe/London
BEGIN:DAYLIGHT
TZOFFSETFROM:+0000
TZOFFSETTO:+0100
TZNAME:BST
DTSTART:20220327T010000
END:DAYLIGHT
BEGIN:STANDARD
TZOFFSETFROM:+0100
TZOFFSETTO:+0000
TZNAME:GMT
DTSTART:20221030T010000
END:STANDARD
BEGIN:DAYLIGHT
TZOFFSETFROM:+0000
TZOFFSETTO:+0100
TZNAME:BST
DTSTART:20230326T010000
END:DAYLIGHT
BEGIN:STANDARD
TZOFFSETFROM:+0100
TZOFFSETTO:+0000
TZNAME:GMT
DTSTART:20231029T010000
END:STANDARD
BEGIN:DAYLIGHT
TZOFFSETFROM:+0000
TZOFFSETTO:+0100
TZNAME:BST
DTSTART:20240331T010000
END:DAYLIGHT
BEGIN:STANDARD
TZOFFSETFROM:+0100
TZOFFSETTO:+0000
TZNAME:GMT
DTSTART:20241027T010000
END:STANDARD
END:VTIMEZONE
BEGIN:VEVENT
DTSTART;TZID=Europe/London:20230224T190000
DTEND;TZID=Europe/London:20230224T230000
DTSTAMP:20260425T113216
CREATED:20230207T215116Z
LAST-MODIFIED:20230222T190501Z
UID:11057-1677265200-1677279600@onechippenham.org.uk
SUMMARY:Fringe Feb Megashow Weekender
DESCRIPTION:Big two-dayer music event at the Old Road Tavern with Oxygen Thief\, Qariaq\, Kate Lomas\, Ravetank\, Just Parsons\, Mac Lloyd\, Harmony Asia\, Lucky Number Seven\, Phreakers\, Peter You’re a Pirate?\, Lonely Daughter\, Lloyd Edwards\, Kirsty Clinch\, and the mysterious MASCARPONE\, plus DJ sets from Poor Mans Friend Records. \nPay what you can – £5 suggestion. \nThanks to Chippenham Borough Lands Charity for supporting this event.
URL:https://onechippenham.org.uk/event/fringe-feb-megashow-weekender/2023-02-24/
LOCATION:The Old Road Tavern\, SN15 1JA
CATEGORIES:Arts,Fringe Feb,Gig,Live band,Music
ATTACH;FMTTYPE=image/jpeg:https://onechippenham.org.uk/wp-content/uploads/2023/02/329025108_3484458368474657_2306656384822943844_n.jpeg
END:VEVENT
END:VCALENDAR