BEGIN:VCALENDAR
VERSION:2.0
PRODID:-//One Chippenham - ECPv6.15.20//NONSGML v1.0//EN
CALSCALE:GREGORIAN
METHOD:PUBLISH
X-WR-CALNAME:One Chippenham
X-ORIGINAL-URL:https://onechippenham.org.uk
X-WR-CALDESC:Events for One Chippenham
REFRESH-INTERVAL;VALUE=DURATION:PT1H
X-Robots-Tag:noindex
X-PUBLISHED-TTL:PT1H
BEGIN:VTIMEZONE
TZID:Europe/London
BEGIN:DAYLIGHT
TZOFFSETFROM:+0000
TZOFFSETTO:+0100
TZNAME:BST
DTSTART:20220327T010000
END:DAYLIGHT
BEGIN:STANDARD
TZOFFSETFROM:+0100
TZOFFSETTO:+0000
TZNAME:GMT
DTSTART:20221030T010000
END:STANDARD
BEGIN:DAYLIGHT
TZOFFSETFROM:+0000
TZOFFSETTO:+0100
TZNAME:BST
DTSTART:20230326T010000
END:DAYLIGHT
BEGIN:STANDARD
TZOFFSETFROM:+0100
TZOFFSETTO:+0000
TZNAME:GMT
DTSTART:20231029T010000
END:STANDARD
BEGIN:DAYLIGHT
TZOFFSETFROM:+0000
TZOFFSETTO:+0100
TZNAME:BST
DTSTART:20240331T010000
END:DAYLIGHT
BEGIN:STANDARD
TZOFFSETFROM:+0100
TZOFFSETTO:+0000
TZNAME:GMT
DTSTART:20241027T010000
END:STANDARD
END:VTIMEZONE
BEGIN:VEVENT
DTSTART;TZID=Europe/London:20230513T183000
DTEND;TZID=Europe/London:20230513T230000
DTSTAMP:20260422T180346
CREATED:20230502T115310Z
LAST-MODIFIED:20230502T115310Z
UID:13058-1684002600-1684018800@onechippenham.org.uk
SUMMARY:Abba's Angels at The Pewsham
DESCRIPTION:Abba tribute band Abbas Angels perform live at The Pewsham. \nTickets £17.50
URL:https://onechippenham.org.uk/event/abbas-angels-at-the-pewsham-13th-may/
LOCATION:The Pewsham\, The Pewsham\, Chippenham\, Wiltshire\, SN15 3RU\, United Kingdom
CATEGORIES:Live band
ATTACH;FMTTYPE=image/png:https://onechippenham.org.uk/wp-content/uploads/2023/05/A9017936-393E-430D-9953-C292DF56CA33.png
END:VEVENT
BEGIN:VEVENT
DTSTART;TZID=Europe/London:20230520T190000
DTEND;TZID=Europe/London:20230520T233000
DTSTAMP:20260422T180346
CREATED:20230502T115108Z
LAST-MODIFIED:20230502T115108Z
UID:13089-1684609200-1684625400@onechippenham.org.uk
SUMMARY:Triple JD
DESCRIPTION:Triple JD are performing live all your rock ‘n’ roll favourites live at the Constitutional Club\, Chippenham on Saturday 20th May all in aid of Teenage Cancer Trust!
URL:https://onechippenham.org.uk/event/triple-jd/
LOCATION:Constitutional Club\, 36 Foghamshire\, Chippenham\, SN15 1HB\, United Kingdom
CATEGORIES:Live band
ATTACH;FMTTYPE=image/jpeg:https://onechippenham.org.uk/wp-content/uploads/2023/05/Triple-JD.jpg
ORGANIZER;CN="Consti Club":MAILTO:info@consticlub.co.uk
END:VEVENT
END:VCALENDAR