BEGIN:VCALENDAR
VERSION:2.0
PRODID:-//One Chippenham - ECPv6.15.20//NONSGML v1.0//EN
CALSCALE:GREGORIAN
METHOD:PUBLISH
X-WR-CALNAME:One Chippenham
X-ORIGINAL-URL:https://onechippenham.org.uk
X-WR-CALDESC:Events for One Chippenham
REFRESH-INTERVAL;VALUE=DURATION:PT1H
X-Robots-Tag:noindex
X-PUBLISHED-TTL:PT1H
BEGIN:VTIMEZONE
TZID:Europe/London
BEGIN:DAYLIGHT
TZOFFSETFROM:+0000
TZOFFSETTO:+0100
TZNAME:BST
DTSTART:20220327T010000
END:DAYLIGHT
BEGIN:STANDARD
TZOFFSETFROM:+0100
TZOFFSETTO:+0000
TZNAME:GMT
DTSTART:20221030T010000
END:STANDARD
BEGIN:DAYLIGHT
TZOFFSETFROM:+0000
TZOFFSETTO:+0100
TZNAME:BST
DTSTART:20230326T010000
END:DAYLIGHT
BEGIN:STANDARD
TZOFFSETFROM:+0100
TZOFFSETTO:+0000
TZNAME:GMT
DTSTART:20231029T010000
END:STANDARD
BEGIN:DAYLIGHT
TZOFFSETFROM:+0000
TZOFFSETTO:+0100
TZNAME:BST
DTSTART:20240331T010000
END:DAYLIGHT
BEGIN:STANDARD
TZOFFSETFROM:+0100
TZOFFSETTO:+0000
TZNAME:GMT
DTSTART:20241027T010000
END:STANDARD
END:VTIMEZONE
BEGIN:VEVENT
DTSTART;TZID=Europe/London:20230701T190000
DTEND;TZID=Europe/London:20230701T233000
DTSTAMP:20260422T020430
CREATED:20230502T120120Z
LAST-MODIFIED:20230502T120120Z
UID:13141-1688238000-1688254200@onechippenham.org.uk
SUMMARY:Uncle Jack Live Jukebox
DESCRIPTION:Uncle Jack’s Live Jukebox are here playing any song you request! Just like an interactive Jukebox\, on Saturday 1st July at the Constitutional Club\, Chippenham. \nDoors open 7pm \nTickets available behind the bar or via our ticket line 01249 652387. \nMembers Free\nNon Members £3
URL:https://onechippenham.org.uk/event/uncle-jack-live-jukebox/
LOCATION:Constitutional Club\, 36 Foghamshire\, Chippenham\, SN15 1HB\, United Kingdom
CATEGORIES:Live band
ATTACH;FMTTYPE=image/jpeg:https://onechippenham.org.uk/wp-content/uploads/2023/05/Uncle-Jack.jpg
ORGANIZER;CN="Consti Club":MAILTO:info@consticlub.co.uk
END:VEVENT
BEGIN:VEVENT
DTSTART;TZID=Europe/London:20230729T190000
DTEND;TZID=Europe/London:20230729T233000
DTSTAMP:20260422T020430
CREATED:20230502T120217Z
LAST-MODIFIED:20230502T120217Z
UID:13152-1690657200-1690673400@onechippenham.org.uk
SUMMARY:Wrong Jovi
DESCRIPTION:Wrong Jovi are an award winning tribute to the great Bon Jovi\, and they are here\, at the Constitutional Club\, Chippenham on Saturday 29th July. \nDoors open 7pm \nTickets available behind the bar or via our ticket line 01249 652387. \nMembers £8\nNon Members £10
URL:https://onechippenham.org.uk/event/wrong-jovi/
LOCATION:Constitutional Club\, 36 Foghamshire\, Chippenham\, SN15 1HB\, United Kingdom
CATEGORIES:Live band
ATTACH;FMTTYPE=image/jpeg:https://onechippenham.org.uk/wp-content/uploads/2023/05/Wrong-Jovi.jpg
ORGANIZER;CN="Consti Club":MAILTO:info@consticlub.co.uk
END:VEVENT
END:VCALENDAR