BEGIN:VCALENDAR
VERSION:2.0
PRODID:-//One Chippenham - ECPv6.15.20//NONSGML v1.0//EN
CALSCALE:GREGORIAN
METHOD:PUBLISH
X-WR-CALNAME:One Chippenham
X-ORIGINAL-URL:https://onechippenham.org.uk
X-WR-CALDESC:Events for One Chippenham
REFRESH-INTERVAL;VALUE=DURATION:PT1H
X-Robots-Tag:noindex
X-PUBLISHED-TTL:PT1H
BEGIN:VTIMEZONE
TZID:Europe/London
BEGIN:DAYLIGHT
TZOFFSETFROM:+0000
TZOFFSETTO:+0100
TZNAME:BST
DTSTART:20220327T010000
END:DAYLIGHT
BEGIN:STANDARD
TZOFFSETFROM:+0100
TZOFFSETTO:+0000
TZNAME:GMT
DTSTART:20221030T010000
END:STANDARD
BEGIN:DAYLIGHT
TZOFFSETFROM:+0000
TZOFFSETTO:+0100
TZNAME:BST
DTSTART:20230326T010000
END:DAYLIGHT
BEGIN:STANDARD
TZOFFSETFROM:+0100
TZOFFSETTO:+0000
TZNAME:GMT
DTSTART:20231029T010000
END:STANDARD
BEGIN:DAYLIGHT
TZOFFSETFROM:+0000
TZOFFSETTO:+0100
TZNAME:BST
DTSTART:20240331T010000
END:DAYLIGHT
BEGIN:STANDARD
TZOFFSETFROM:+0100
TZOFFSETTO:+0000
TZNAME:GMT
DTSTART:20241027T010000
END:STANDARD
END:VTIMEZONE
BEGIN:VEVENT
DTSTART;TZID=Europe/London:20231231T190000
DTEND;TZID=Europe/London:20231231T233000
DTSTAMP:20260420T055315
CREATED:20230503T082519Z
LAST-MODIFIED:20230503T082519Z
UID:13190-1704049200-1704065400@onechippenham.org.uk
SUMMARY:New Years Eve with Siren!
DESCRIPTION:Join us on New Year’s Eve at Constitutional Club\, Chippenham to see Siren\, a fantastic upcoming band from Wiltshire\, playing ultimate rock & pop covers. Doors open at 7 pm\, and tickets are available at the bar or through our ticket line at 01249 652387\, priced at £10 for both members and non-members.
URL:https://onechippenham.org.uk/event/new-years-eve-with-siren/
LOCATION:Constitutional Club\, 36 Foghamshire\, Chippenham\, SN15 1HB\, United Kingdom
CATEGORIES:Live band
ATTACH;FMTTYPE=image/jpeg:https://onechippenham.org.uk/wp-content/uploads/2023/05/NYE.jpg
ORGANIZER;CN="Consti Club":MAILTO:info@consticlub.co.uk
END:VEVENT
END:VCALENDAR