BEGIN:VCALENDAR
VERSION:2.0
PRODID:-//One Chippenham - ECPv6.15.20//NONSGML v1.0//EN
CALSCALE:GREGORIAN
METHOD:PUBLISH
X-WR-CALNAME:One Chippenham
X-ORIGINAL-URL:https://onechippenham.org.uk
X-WR-CALDESC:Events for One Chippenham
REFRESH-INTERVAL;VALUE=DURATION:PT1H
X-Robots-Tag:noindex
X-PUBLISHED-TTL:PT1H
BEGIN:VTIMEZONE
TZID:Europe/London
BEGIN:DAYLIGHT
TZOFFSETFROM:+0000
TZOFFSETTO:+0100
TZNAME:BST
DTSTART:20220327T010000
END:DAYLIGHT
BEGIN:STANDARD
TZOFFSETFROM:+0100
TZOFFSETTO:+0000
TZNAME:GMT
DTSTART:20221030T010000
END:STANDARD
BEGIN:DAYLIGHT
TZOFFSETFROM:+0000
TZOFFSETTO:+0100
TZNAME:BST
DTSTART:20230326T010000
END:DAYLIGHT
BEGIN:STANDARD
TZOFFSETFROM:+0100
TZOFFSETTO:+0000
TZNAME:GMT
DTSTART:20231029T010000
END:STANDARD
BEGIN:DAYLIGHT
TZOFFSETFROM:+0000
TZOFFSETTO:+0100
TZNAME:BST
DTSTART:20240331T010000
END:DAYLIGHT
BEGIN:STANDARD
TZOFFSETFROM:+0100
TZOFFSETTO:+0000
TZNAME:GMT
DTSTART:20241027T010000
END:STANDARD
BEGIN:DAYLIGHT
TZOFFSETFROM:+0000
TZOFFSETTO:+0100
TZNAME:BST
DTSTART:20250330T010000
END:DAYLIGHT
BEGIN:STANDARD
TZOFFSETFROM:+0100
TZOFFSETTO:+0000
TZNAME:GMT
DTSTART:20251026T010000
END:STANDARD
BEGIN:DAYLIGHT
TZOFFSETFROM:+0000
TZOFFSETTO:+0100
TZNAME:BST
DTSTART:20260329T010000
END:DAYLIGHT
BEGIN:STANDARD
TZOFFSETFROM:+0100
TZOFFSETTO:+0000
TZNAME:GMT
DTSTART:20261025T010000
END:STANDARD
BEGIN:DAYLIGHT
TZOFFSETFROM:+0000
TZOFFSETTO:+0100
TZNAME:BST
DTSTART:20270328T010000
END:DAYLIGHT
BEGIN:STANDARD
TZOFFSETFROM:+0100
TZOFFSETTO:+0000
TZNAME:GMT
DTSTART:20271031T010000
END:STANDARD
END:VTIMEZONE
BEGIN:VEVENT
DTSTART;TZID=Europe/London:20231118T190000
DTEND;TZID=Europe/London:20231118T233000
DTSTAMP:20260426T015214
CREATED:20230503T082746Z
LAST-MODIFIED:20230503T082746Z
UID:13180-1700334000-1700350200@onechippenham.org.uk
SUMMARY:Get Carter
DESCRIPTION:Get Carter are back again\, and here to play all your favourite modern rock\, pop and indie covers\, live at the Constitutional Club\, Chippenham on Saturday 18th November. \nDoors open 7pm \nTickets available behind the bar or via our ticket line 01249 652387. \nMembers £8\nNon Members £10
URL:https://onechippenham.org.uk/event/get-carter/
LOCATION:Constitutional Club\, 36 Foghamshire\, Chippenham\, SN15 1HB\, United Kingdom
CATEGORIES:Live band
ATTACH;FMTTYPE=image/jpeg:https://onechippenham.org.uk/wp-content/uploads/2023/05/Get-Carter.jpg
ORGANIZER;CN="Consti Club":MAILTO:info@consticlub.co.uk
END:VEVENT
BEGIN:VEVENT
DTSTART;TZID=Europe/London:20231202T190000
DTEND;TZID=Europe/London:20231202T233000
DTSTAMP:20260426T015214
CREATED:20230503T082629Z
LAST-MODIFIED:20230503T082629Z
UID:13185-1701543600-1701559800@onechippenham.org.uk
SUMMARY:The Dynamos - Mamma Mia Tribute
DESCRIPTION:Mamma Mia\, here we go again. This time its the Dynamos turn to perform all your favourite tracks\, live at the Constitutional Club\, Chippenham on Saturday 2nd December. \nDoors open 7pm \nTickets available behind the bar or via our ticket line 01249 652387. \nMembers £8\nNon Members £10
URL:https://onechippenham.org.uk/event/the-dynamos-mamma-mia-tribute/
LOCATION:Constitutional Club\, 36 Foghamshire\, Chippenham\, SN15 1HB\, United Kingdom
CATEGORIES:Live band
ATTACH;FMTTYPE=image/jpeg:https://onechippenham.org.uk/wp-content/uploads/2023/05/Dynamos.jpg
ORGANIZER;CN="Consti Club":MAILTO:info@consticlub.co.uk
END:VEVENT
BEGIN:VEVENT
DTSTART;TZID=Europe/London:20231231T190000
DTEND;TZID=Europe/London:20231231T233000
DTSTAMP:20260426T015214
CREATED:20230503T082519Z
LAST-MODIFIED:20230503T082519Z
UID:13190-1704049200-1704065400@onechippenham.org.uk
SUMMARY:New Years Eve with Siren!
DESCRIPTION:Join us on New Year’s Eve at Constitutional Club\, Chippenham to see Siren\, a fantastic upcoming band from Wiltshire\, playing ultimate rock & pop covers. Doors open at 7 pm\, and tickets are available at the bar or through our ticket line at 01249 652387\, priced at £10 for both members and non-members.
URL:https://onechippenham.org.uk/event/new-years-eve-with-siren/
LOCATION:Constitutional Club\, 36 Foghamshire\, Chippenham\, SN15 1HB\, United Kingdom
CATEGORIES:Live band
ATTACH;FMTTYPE=image/jpeg:https://onechippenham.org.uk/wp-content/uploads/2023/05/NYE.jpg
ORGANIZER;CN="Consti Club":MAILTO:info@consticlub.co.uk
END:VEVENT
BEGIN:VEVENT
DTSTART;TZID=Europe/London:20240217T193000
DTEND;TZID=Europe/London:20240217T213000
DTSTAMP:20260426T015214
CREATED:20240102T105240Z
LAST-MODIFIED:20240102T105737Z
UID:25319-1708198200-1708205400@onechippenham.org.uk
SUMMARY:VALENTINES CONCERT
DESCRIPTION:WILTSHIRE POLICE BAND Valentines Concert with guest Gemma Brown in aid of the Alzheimers Society. \nTickets available here. \nThe Wiltshire Police Band is a wind band comprising of woodwind\, brass and percussion sections. Find out more on our website – www.wiltshirepoliceband.com
URL:https://onechippenham.org.uk/event/valentines-concert/
LOCATION:St Andrew’s Church\, St Mary’s Street\, Chippenham\, SN15 3JN\, United Kingdom
CATEGORIES:Live band
ATTACH;FMTTYPE=image/png:https://onechippenham.org.uk/wp-content/uploads/2024/01/VALENTINE-CONCERT-2.png
END:VEVENT
BEGIN:VEVENT
DTSTART;TZID=Europe/London:20240224T163000
DTEND;TZID=Europe/London:20240224T180000
DTSTAMP:20260426T015214
CREATED:20240131T093805Z
LAST-MODIFIED:20240221T150119Z
UID:26702-1708792200-1708797600@onechippenham.org.uk
SUMMARY:The Rosellys at The Rivo Lounge\, Fringe Feb
DESCRIPTION:Calling all fans of original Country and Americana – the Rosellys will be performing upstairs at The Rivo Lounge with beautiful harmonies and an array of instruments\, including pedal guitar. \nThe Rosellys are a 5-piece British-Americana band with a love for alternative country music\, The Rosellys draw influence from artists like James Taylor\, Chris Stapleton and Alison Krauss to name a few. \nThe family-led band is not short of musical talent\, with vocals\, guitar\, banjo\, drums\, keys\, fiddle\, peddle steel\, accordian and bass all accounted for. \n“Production is top-dollar and this is a band full of taste and talent\, an outfit with a firm grip and grasp of the modern country scene” (Music News Nashville) \n“The Rosellys displayed boundless energy” (American UK Live Review\, 2023) \n“Capturing the essence of country\, with folk ingredients baked into a transatlantic roots fusion” (R2 Magazine) \n“The Rosellys blend English accents with lyrical references to both the UK and US alongside well pitched bass\, feisty drum beats and stunning pedal steel and fiddle to create a sound that walks the fine line between Celtic folk and Americana” (Nashville Over Here) \n\n4:30PM – 6:30PM upstairs at The Rivo Lounge\n£5.00 (+booking fee)\nDiscounted tickets for ages 18-29yr olds\nBook your tickets in advance here. \n\n\nThis event is part of a three-day arts festival happening around Chippenham from the 23rd-25th February. Find out more about Chippenham Fringe Feb 2024 and the other creative and vibrant Fringe performances and activities taking place by visiting here. \nChippenham Fringe Feb is produced and delivered by Melt Productions in collaboration with Chippenham Borough Lands Charity (CBLC) and the Chippenham Chat group. Funding for the event is provided by Chippenham Borough Lands Charity. \n#FringeFeb24 #FringeFeb #ChippEvents
URL:https://onechippenham.org.uk/event/the-rosellys/
LOCATION:The Rivo Lounge\, 2-4 The Bridge\, Chippenham\, SN151EX
CATEGORIES:Adults,Concert,Family Friendly,Fringe Feb,Live band,Music,Performance,Performing Arts
ATTACH;FMTTYPE=image/jpeg:https://onechippenham.org.uk/wp-content/uploads/2024/01/Rosellys.jpg
END:VEVENT
BEGIN:VEVENT
DTSTART;TZID=Europe/London:20240602T110000
DTEND;TZID=Europe/London:20240602T160000
DTSTAMP:20260426T015214
CREATED:20240114T072550Z
LAST-MODIFIED:20240114T072550Z
UID:25954-1717326000-1717344000@onechippenham.org.uk
SUMMARY:Cherished Vehicle & Family Fun Day
DESCRIPTION:This is the twelfth year we have held this event and it grows in size and popularity every year. We will have a large variety of attractions for all the family to enjoy and we expect to have in excess of 250 cherished cars attending as well as a performance Arena\, Fairground\, Local Foods\, Craft\, Charity and Trade Stands. \nOur main charity this year is Dorothy House Hospialong with other Lions Charities – local\, national and international – but mostly local. \nThe site is in the Chippenham countryside with the Avon close by\, a couple of miles north of Chippenham and about three miles south of the M4 J17. It has good access through wide lanes with plenty of easy parking – so why not make it a day out … \nOur main charity this year is Dorothy House Hospice Care along with other Lions Charities – local\, national and international – but mostly local. \nSee our event website at: http://cvs.rocks to book\, how to find us\, make enquires and much more.
URL:https://onechippenham.org.uk/event/cherished-vehicle-family-fun-day-2/
LOCATION:Meadow Farm Nurseries\, Langley Burrell\, Chippenham\, Wiltshire\, SN15 4LW\, United Kingdom
CATEGORIES:Charity,Community,Fairs & Fetes,Family,Family Friendly,Food and Drink,Live band
ATTACH;FMTTYPE=image/jpeg:https://onechippenham.org.uk/wp-content/uploads/2024/01/Topper.jpg
ORGANIZER;CN="Chippenham Lions":MAILTO:secretary@chippenhamlions.org.uk
END:VEVENT
BEGIN:VEVENT
DTSTART;TZID=Europe/London:20240615T183000
DTEND;TZID=Europe/London:20240615T233000
DTSTAMP:20260426T015214
CREATED:20240422T120007Z
LAST-MODIFIED:20240422T120832Z
UID:29421-1718476200-1718494200@onechippenham.org.uk
SUMMARY:Grease and Dirty Dancing tribute night
DESCRIPTION:Live music by Summer lovin’ at The Pewsham. Entertaining us with music and dance.\nTickets include a sharing board and dessert\, cabaret style\, fancy dress a must! \nContact hello@thepewsham.com for tickets
URL:https://onechippenham.org.uk/event/grease-and-dirty-dancing-tribute-night/
LOCATION:The Pewsham\, The Pewsham\, Chippenham\, Wiltshire\, SN15 3RU\, United Kingdom
CATEGORIES:Food and Drink,Live band,Music
ATTACH;FMTTYPE=image/jpeg:https://onechippenham.org.uk/wp-content/uploads/2024/04/Grease-tribute-night.jpeg
END:VEVENT
BEGIN:VEVENT
DTSTART;TZID=Europe/London:20240706T190000
DTEND;TZID=Europe/London:20240706T235900
DTSTAMP:20260426T015214
CREATED:20240629T101758Z
LAST-MODIFIED:20240629T101758Z
UID:31256-1720292400-1720310340@onechippenham.org.uk
SUMMARY:Uncle Jack Live Jukebox
DESCRIPTION:Uncle Jack Live Jukebox @ The Constitutional Club Chippenham\nSaturday 6th July – Doors open at 7pm\nThe Ultimate Live Jukebox – You request it the band perform it!
URL:https://onechippenham.org.uk/event/uncle-jack-live-jukebox-2/
LOCATION:Constitutional Club\, 36 Foghamshire\, Chippenham\, SN15 1HB\, United Kingdom
CATEGORIES:Live band,Music
ATTACH;FMTTYPE=image/jpeg:https://onechippenham.org.uk/wp-content/uploads/2024/06/Uncle-Jack.jpg
ORGANIZER;CN="Consti Club":MAILTO:info@consticlub.co.uk
END:VEVENT
BEGIN:VEVENT
DTSTART;TZID=Europe/London:20241127T193000
DTEND;TZID=Europe/London:20241127T230000
DTSTAMP:20260426T015214
CREATED:20241118T071911Z
LAST-MODIFIED:20241118T071911Z
UID:36135-1732735800-1732748400@onechippenham.org.uk
SUMMARY:Waverley Album Listening Club - November 27th
DESCRIPTION:This month’s album listening club fundraiser event for Dorothy House Hospice at The Waverley bar in Chippenham on Wednesday 27th November includes the local band\, Bottlemoth\, who released a debut LP ‘Even Us Ghosts’ last month. \nMembers of the band will be in attendance to talk about their music and will have copies of the record to buy. They also hope to play a couple of acoustic songs live for us. Ethan from the band chose this month’s ‘classic’ vinyl album we will also listen to\, which is the most famous Amy Winehouse release ‘Back To Black’ \nWe will be listening to the deluxe 2LP Abbey Road Studios half-speed master copy of Amy’s album for a happy connection with last month’s choices which were recorded at Abbey Road \nThe Bottlemoth LP we will also hear is an exclusive ‘eco-mix’ copy using recycled vinyl
URL:https://onechippenham.org.uk/event/waverley-album-listening-club-november-27th/
LOCATION:The Waverley\, Chippenham\, United Kingdom
CATEGORIES:Live band,Music
ATTACH;FMTTYPE=image/jpeg:https://onechippenham.org.uk/wp-content/uploads/2024/11/Capture.jpg
END:VEVENT
BEGIN:VEVENT
DTSTART;VALUE=DATE:20241130
DTEND;VALUE=DATE:20241201
DTSTAMP:20260426T015214
CREATED:20241114T145213Z
LAST-MODIFIED:20241129T110012Z
UID:35883-1732924800-1733011199@onechippenham.org.uk
SUMMARY:Chippenham Christmas Lights Switch On
DESCRIPTION:We’ve got a great line-up of entertainment lined up for you at our Christmas Light Switch On on Saturday 30 November! \nThere are some names you will recognise from previous events\, such as singer Robbie Culley\, 5 piece band Switch\, Wiltshire Police Band and local youth am-dram group CLOGS Musical Theatre CLOGettes alongside interactive walkabout entertainment and children’s creative activities. \nThe festivities will conclude with the traditional abseiling Santa and the countdown to the switch-on at 4.55pm. \nMain Stage\n🎄12 noon – 12.45pm Robbie Culley\n🎄1.30pm – 2.15pm CLOGettes\n🎄2.15pm – 3.15pm Switch\n🎄4.30pm – 5.30pm Switch \nOutside the Town Hall\n🎄12.45pm – 1.30pm Robbie Culley \nMarket Place\n🎄3.15pm – 4.30pm Wiltshire Police Band \nAnd at the Roundhouse on Christmas Island\, as part of the Christmas Fringe programme run by Melt Productions\, there will also be some later evening entertainment: \nRoundhouse\n🎄7pm – 8pm Spitz & Co Present… ‘Elvis On Christmas Island’\n🎄8.30pm – 10pm Live Music from Bradley Cowtan \nChippenham Christmas Island will be open from Thursday 28th November – Sunday 1st December\, with family friendly activities in the day and an adult evening programme. \nFind out more details and view the full programme on the Chippenham Town Council website here.
URL:https://onechippenham.org.uk/event/chippenham-christmas-lights-switch-on/
LOCATION:Chippenham Town Centre
CATEGORIES:Adults,Children,Christmas,Community,Family,Family Friendly,Live band,Music,Performance,Teens,Tweens
ATTACH;FMTTYPE=image/jpeg:https://onechippenham.org.uk/wp-content/uploads/2024/11/IMG_2902.jpeg
END:VEVENT
BEGIN:VEVENT
DTSTART;VALUE=DATE:20241130
DTEND;VALUE=DATE:20241201
DTSTAMP:20260426T015214
CREATED:20241114T162907Z
LAST-MODIFIED:20241127T215606Z
UID:35898-1732924800-1733011199@onechippenham.org.uk
SUMMARY:Chippenham Christmas Island & Festive Fringe
DESCRIPTION:For the fourth year running\, come and experience the banks of the River Avon spectacularly lit up\, bringing some wonderful Christmas cheer into the heart of Chippenham. Situated within it’s usual spot of The Island in Monkton Park\, the event will once more feature a full roster of live\, festive entertainment. \nThe trail will be open Thursday 28th November – Sunday 1st December (inclusive). \nWith family friendly activities\, workshops and performances throughout the afternoon\, leading on to more adult based evening entertainment. Showcasing live Music and Comedy from some excellent musicians and comedians\, to Film Screenings\, Festive Workshops\, Artisan Market stall traders and even a live Brass Band playing Christmas Carols by Candlelight! \nThe event is funded by Chippenham Town Council in collaboration with Melt Productions and is a completely free experience for the local community and surrounding areas to enjoy. \nAll seating will be allocated on a first come\, first serve basis\, so please ensure you arrive nice and early if you are keen to watch any of the live shows and entertainment. \nThis years’ focal point will once again be the beautiful wooden Roundhouse\, a cosy\, heated wooden structure serving up delicious hot and cold drinks and tasty food from local vendors. A perfect spot to enjoy the entertainment as well as some much needed ‘Hygee’. \nView the full programme on the Chippenham Town Council website here. \nA huge thank you to our generous sponsors who have kindly sponsored the event now for several years:-\nHale Veterinary Clinic\, Scott Windle – the local property guy\, Nightingale Emergency Vets\, Propercorn and Wiltshire Print Group. \n 
URL:https://onechippenham.org.uk/event/chippenham-christmas-island-festive-fringe-2/
LOCATION:Island Park\, Chippenham
CATEGORIES:Adults,Christmas,Comedy,Community,Family,Family Friendly,Film,Food and Drink,Live band,Music,Outdoor,Performance,Teens,Tweens,Young adults
ATTACH;FMTTYPE=image/jpeg:https://onechippenham.org.uk/wp-content/uploads/2024/11/IMG_2859.jpeg
END:VEVENT
BEGIN:VEVENT
DTSTART;TZID=Europe/London:20241214T193000
DTEND;TZID=Europe/London:20241214T213000
DTSTAMP:20260426T015214
CREATED:20241107T221406Z
LAST-MODIFIED:20241107T221406Z
UID:35647-1734204600-1734211800@onechippenham.org.uk
SUMMARY:CHRISTMAS CONCERT
DESCRIPTION:WILTSHIRE POLICE BAND\nCHRISTMAS CONCERT\nWith Guest Soprano Kristina Takashina\nIn aid of Chippenham Hospital Radio
URL:https://onechippenham.org.uk/event/christmas-concert/
LOCATION:St Paul’s Church\, Malmesbury Road\, Chippenham\, SN15 1PW\, United Kingdom
CATEGORIES:Concert,Live band,Music
ATTACH;FMTTYPE=image/jpeg:https://onechippenham.org.uk/wp-content/uploads/2024/11/14Dec.jpg
ORGANIZER;CN="Wiltshire Police Band":MAILTO:wiltshirepoliceband@gmail.com
END:VEVENT
BEGIN:VEVENT
DTSTART;TZID=Europe/London:20250802T110000
DTEND;TZID=Europe/London:20250802T180000
DTSTAMP:20260426T015214
CREATED:20250706T065059Z
LAST-MODIFIED:20250714T165552Z
UID:43552-1754132400-1754157600@onechippenham.org.uk
SUMMARY:The Arc Open Day
DESCRIPTION:Join us at The Arc in Chippenham for our big Open Day\, packed full of climbing tasters\, music\, games\, great food and family-friendly fun. Whether you’re a seasoned climber or just curious to give it a go\, this is your chance to explore everything The Arc has to offer. \n\nTry climbing on our awesome walls – no experience needed\nEnjoy the free kids play park next to the cafe\nChill on our giant café decking (with both sunny and sheltered seating)\nTuck into a BBQ and tasty treats from our café\nExplore Westmead Open Space and CBLC’s fantastic woodland creature Sculpture Walk\nEnjoy live music throughout the day and plenty of people-watching\nOur cafe and outside areas are dog-friendly – with doggie gelatos available\n\nAnd that’s not all\nBURT’S FEST IS BACK!\n\nAt the skatepark\, Burt’s Fest will be bringing high-energy skate jam vibes\, with: \n\nA skate jam and demos\nA comp with prizes\nLive graffiti\nMerch stalls and more\n\nCome hang out\, skate\, spectate and celebrate Chippenham’s amazing community.
URL:https://onechippenham.org.uk/event/the-arc-open-day-burtsfest/
LOCATION:The Arc\, Westmead Lane\, Chippenham\, Wiltshire\, SN15 3HZ\, United Kingdom
CATEGORIES:Climbing,Exercise,Family Fun Day,Games,Live band,Music,Open Day,Pop up shop
ATTACH;FMTTYPE=image/jpeg:https://onechippenham.org.uk/wp-content/uploads/2025/07/ARC-Open-Day-Insta-Pic-scaled.jpg
END:VEVENT
BEGIN:VEVENT
DTSTART;TZID=Europe/London:20250924T193000
DTEND;TZID=Europe/London:20250924T223000
DTSTAMP:20260426T015214
CREATED:20250905T103233Z
LAST-MODIFIED:20250905T103233Z
UID:46451-1758742200-1758753000@onechippenham.org.uk
SUMMARY:Waverley Album Listening Party
DESCRIPTION:September’s fundraising Album Listening Party for Dorothy House at The Waverley in Chippenham will be on Wednesday September 24th from 7.30pm\, with the music starting around 8pm. \nThis month we will have a special guest acoustic live performance by local musician Reuben Tyghe and will listen to a vinyl copy of his brand new album ‘Leylanding’ released at the end of August 2025\, This is Reuben’s second album from his solo project band\, Reuben’s Daughters\, which finds the UK singer/songwriter pushing the sound of his 2022 debut LP ‘Mami Wata’ into new and fascinating places. Reuben and his band are touring in support of the record\, including appearances at the 2025 Glastonbury Festival and Beautiful Days Festival\, so its a honour and a pleasure to host him at The Waverley for our event. \n“Reuben’s Daughters is a moonlight swim under a weeping willow slide guitar forest… Ghosts and clouds turn into melodies that crouch on the banks and whisper pictures into your brain.” says Particle Kid [Micah Nelson\, son of Willie Nelson]\nReuben suggested Radiohead’s ‘OK Computer’ as a classic vinyl album to pair his work with and so we will also listen to the remastered special edition ‘OK Computer OKNOTOK 1997-2017’ LP set \nAs usual the event is open to everyone and is free to attend\, but voluntary donations to aid the work of the local Hospice are very welcome
URL:https://onechippenham.org.uk/event/waverley-album-listening-party/
LOCATION:The Waverley\, Chippenham\, United Kingdom
CATEGORIES:Charity,Live band,Music
ATTACH;FMTTYPE=image/jpeg:https://onechippenham.org.uk/wp-content/uploads/2025/09/RD-•-2025-scaled.jpg
END:VEVENT
BEGIN:VEVENT
DTSTART;TZID=Europe/London:20251119T193000
DTEND;TZID=Europe/London:20251119T230000
DTSTAMP:20260426T015214
CREATED:20251105T132408Z
LAST-MODIFIED:20251105T132559Z
UID:52415-1763580600-1763593200@onechippenham.org.uk
SUMMARY:November Waverley Music Event for Dorothy House Hospice - with live band!
DESCRIPTION:November’s fundraising event for Dorothy House Hospice at The Waverley in Chippenham is going to be wild. \nBristol-based musician Lunda is coming back to Chippenham bringing her full 5-piece band to play live for us at The Waverley. Last here in Chippenham 30/11/24 at an event alongside Cousin Norman’s\, she now returns to our town with a brand new EP for us to hear too. \nAlongside this Lunda selected the classic 1974 Betty Davis album ‘They Say I’m Different’ for us to listen to. \nThere is no charge to attend but any voluntary donations to aid the work of the Hospice would be very welcome! \nGet there early to grab a beer and a good view – the music will start promptly at 8pm
URL:https://onechippenham.org.uk/event/november-waverley-music-event-for-dorothy-house-hospice-with-live-band/
LOCATION:The Waverley\, Chippenham\, United Kingdom
CATEGORIES:Charity,Live band
ATTACH;FMTTYPE=image/jpeg:https://onechippenham.org.uk/wp-content/uploads/2025/11/Nov-Waverley.jpeg
END:VEVENT
BEGIN:VEVENT
DTSTART;TZID=Europe/London:20251213T193000
DTEND;TZID=Europe/London:20251213T213000
DTSTAMP:20260426T015214
CREATED:20251111T205407Z
LAST-MODIFIED:20251111T205407Z
UID:52676-1765654200-1765661400@onechippenham.org.uk
SUMMARY:CHRISTMAS CONCERT
DESCRIPTION:WILTSHIRE POLICE BAND \nCome along and enjoy an evening of great music. \nwww.wiltshirepoliceband.com
URL:https://onechippenham.org.uk/event/christmas-concert-2/
LOCATION:St Paul’s Church\, Malmesbury Road\, Chippenham\, SN15 1PW\, United Kingdom
CATEGORIES:Christmas,Concert,Family Friendly,Live band
ATTACH;FMTTYPE=image/jpeg:https://onechippenham.org.uk/wp-content/uploads/2025/11/WhatsApp-Image-2025-11-11-at-17.01.20_f999e937.jpg
ORGANIZER;CN="Wiltshire Police Band":MAILTO:wiltshirepoliceband@gmail.com
END:VEVENT
BEGIN:VEVENT
DTSTART;TZID=Europe/London:20260213T193000
DTEND;TZID=Europe/London:20260213T220000
DTSTAMP:20260426T015214
CREATED:20260127T110705Z
LAST-MODIFIED:20260127T110705Z
UID:55550-1771011000-1771020000@onechippenham.org.uk
SUMMARY:Take the Stage 2026\, Heat 1
DESCRIPTION:Riverbank Studios presents Take The Stage \nTake The Stage is back for 2026! Starting in February\, the competition will see 9 young music acts compete across three heats for a place in the final\, with the chance to play for some great prizes. \nKeep an eye on Riverbank Studios | Take The Stage for further information. \nUnder 15s must be accompanied by a responsible adult. \nPhotos and video for use by Chippenham Town Council and Riverbank Studios will be taken at this event. \nTickets: £6 \nAge Restrictions: Under 15s must be accompanied by a responsible adult. \nPlease contact the venue for any access requirements. \nTickets are also available through our Box Office on 01249 446699\, from the Neeld Box Office or at the Town Hall. \nTickets are non-refundable unless this event is cancelled or postponed.
URL:https://onechippenham.org.uk/event/take-the-stage-2026-heat-1/
LOCATION:The Neeld
CATEGORIES:Adults,Community,Competition,Live band,Music,Singing,Teens,Tweens,Young adults
ATTACH;FMTTYPE=image/jpeg:https://onechippenham.org.uk/wp-content/uploads/2026/01/Take-the-Stage-main-image.jpg
END:VEVENT
BEGIN:VEVENT
DTSTART;TZID=Europe/London:20260327T183000
DTEND;TZID=Europe/London:20260327T230000
DTSTAMP:20260426T015214
CREATED:20260323T113805Z
LAST-MODIFIED:20260323T113805Z
UID:59493-1774636200-1774652400@onechippenham.org.uk
SUMMARY:Local Band Night
DESCRIPTION:Come down and support three amazing local musicians 🤩
URL:https://onechippenham.org.uk/event/local-band-night/
LOCATION:The Ruze\, 7 Union Road\, Chippenham\, Chippenham\, Wiltshire\, SN15 1HW
CATEGORIES:Live band
ATTACH;FMTTYPE=image/jpeg:https://onechippenham.org.uk/wp-content/uploads/2026/03/FB_IMG_1774082441887.jpg
END:VEVENT
END:VCALENDAR