BEGIN:VCALENDAR
VERSION:2.0
PRODID:-//One Chippenham - ECPv6.15.20//NONSGML v1.0//EN
CALSCALE:GREGORIAN
METHOD:PUBLISH
X-ORIGINAL-URL:https://onechippenham.org.uk
X-WR-CALDESC:Events for One Chippenham
REFRESH-INTERVAL;VALUE=DURATION:PT1H
X-Robots-Tag:noindex
X-PUBLISHED-TTL:PT1H
BEGIN:VTIMEZONE
TZID:Europe/London
BEGIN:DAYLIGHT
TZOFFSETFROM:+0000
TZOFFSETTO:+0100
TZNAME:BST
DTSTART:20220327T010000
END:DAYLIGHT
BEGIN:STANDARD
TZOFFSETFROM:+0100
TZOFFSETTO:+0000
TZNAME:GMT
DTSTART:20221030T010000
END:STANDARD
BEGIN:DAYLIGHT
TZOFFSETFROM:+0000
TZOFFSETTO:+0100
TZNAME:BST
DTSTART:20230326T010000
END:DAYLIGHT
BEGIN:STANDARD
TZOFFSETFROM:+0100
TZOFFSETTO:+0000
TZNAME:GMT
DTSTART:20231029T010000
END:STANDARD
BEGIN:DAYLIGHT
TZOFFSETFROM:+0000
TZOFFSETTO:+0100
TZNAME:BST
DTSTART:20240331T010000
END:DAYLIGHT
BEGIN:STANDARD
TZOFFSETFROM:+0100
TZOFFSETTO:+0000
TZNAME:GMT
DTSTART:20241027T010000
END:STANDARD
END:VTIMEZONE
BEGIN:VEVENT
DTSTART;TZID=Europe/London:20231104T190000
DTEND;TZID=Europe/London:20231104T233000
DTSTAMP:20260420T083427
CREATED:20230503T082828Z
LAST-MODIFIED:20230503T082828Z
UID:13175-1699124400-1699140600@onechippenham.org.uk
SUMMARY:2 Tone All Ska
DESCRIPTION:Back by popular demand\, 2 Tone All Ska are back at the Constitutional Club\, Chippenham on Saturday 4th November. \nDoors open 7pm \nTickets available behind the bar or via our ticket line 01249 652387. \nMembers £5\nNon Members £5
URL:https://onechippenham.org.uk/event/2-tone-all-ska-2/
LOCATION:Constitutional Club\, 36 Foghamshire\, Chippenham\, SN15 1HB\, United Kingdom
CATEGORIES:Live band
ATTACH;FMTTYPE=image/jpeg:https://onechippenham.org.uk/wp-content/uploads/2023/05/SKA-2.jpg
ORGANIZER;CN="Consti Club":MAILTO:info@consticlub.co.uk
END:VEVENT
END:VCALENDAR