BEGIN:VCALENDAR
VERSION:2.0
PRODID:-//One Chippenham - ECPv6.15.20//NONSGML v1.0//EN
CALSCALE:GREGORIAN
METHOD:PUBLISH
X-ORIGINAL-URL:https://onechippenham.org.uk
X-WR-CALDESC:Events for One Chippenham
REFRESH-INTERVAL;VALUE=DURATION:PT1H
X-Robots-Tag:noindex
X-PUBLISHED-TTL:PT1H
BEGIN:VTIMEZONE
TZID:Europe/London
BEGIN:DAYLIGHT
TZOFFSETFROM:+0000
TZOFFSETTO:+0100
TZNAME:BST
DTSTART:20230326T010000
END:DAYLIGHT
BEGIN:STANDARD
TZOFFSETFROM:+0100
TZOFFSETTO:+0000
TZNAME:GMT
DTSTART:20231029T010000
END:STANDARD
BEGIN:DAYLIGHT
TZOFFSETFROM:+0000
TZOFFSETTO:+0100
TZNAME:BST
DTSTART:20240331T010000
END:DAYLIGHT
BEGIN:STANDARD
TZOFFSETFROM:+0100
TZOFFSETTO:+0000
TZNAME:GMT
DTSTART:20241027T010000
END:STANDARD
BEGIN:DAYLIGHT
TZOFFSETFROM:+0000
TZOFFSETTO:+0100
TZNAME:BST
DTSTART:20250330T010000
END:DAYLIGHT
BEGIN:STANDARD
TZOFFSETFROM:+0100
TZOFFSETTO:+0000
TZNAME:GMT
DTSTART:20251026T010000
END:STANDARD
END:VTIMEZONE
BEGIN:VEVENT
DTSTART;TZID=Europe/London:20241130T103000
DTEND;TZID=Europe/London:20241130T163000
DTSTAMP:20260420T065021
CREATED:20241105T152641Z
LAST-MODIFIED:20241105T152747Z
UID:35581-1732962600-1732984200@onechippenham.org.uk
SUMMARY:Christmas Craft Market\, Yelde Hall
DESCRIPTION:Explore products by local artists and makers in the historic Yelde Hall. Free entry\, drop-in.
URL:https://onechippenham.org.uk/event/christmas-craft-market-yelde-hall/2024-11-30/
LOCATION:The Yelde Hall
CATEGORIES:Christmas,Market
ATTACH;FMTTYPE=image/jpeg:https://onechippenham.org.uk/wp-content/uploads/2024/11/Facebook.jpg
ORGANIZER;CN="Chippenham Museum":MAILTO:heritage@chippenham.gov.uk
END:VEVENT
BEGIN:VEVENT
DTSTART;TZID=Europe/London:20241130T150000
DTEND;TZID=Europe/London:20241130T180000
DTSTAMP:20260420T065021
CREATED:20241113T150221Z
LAST-MODIFIED:20241113T150221Z
UID:35857-1732978800-1732989600@onechippenham.org.uk
SUMMARY:Grounded Café Bar Christmas Market
DESCRIPTION:We’ve got some really lovely stallholders and some fabulous festive treats – FREE entry! \n  \n 
URL:https://onechippenham.org.uk/event/grounded-cafe-bar-christmas-market/
LOCATION:Cafe Grounded\, 1 Bath Rd\, Chippenham\, Wiltshire\, SN15 2BB\, United Kingdom
CATEGORIES:Christmas,Market
ATTACH;FMTTYPE=image/jpeg:https://onechippenham.org.uk/wp-content/uploads/2024/11/IMG_2856.jpeg
END:VEVENT
BEGIN:VEVENT
DTSTART;TZID=Europe/London:20241201T103000
DTEND;TZID=Europe/London:20241201T163000
DTSTAMP:20260420T065021
CREATED:20241105T152641Z
LAST-MODIFIED:20241105T152748Z
UID:35586-1733049000-1733070600@onechippenham.org.uk
SUMMARY:Christmas Craft Market\, Yelde Hall
DESCRIPTION:Explore products by local artists and makers in the historic Yelde Hall. Free entry\, drop-in.
URL:https://onechippenham.org.uk/event/christmas-craft-market-yelde-hall/2024-12-01/
LOCATION:The Yelde Hall
CATEGORIES:Christmas,Market
ATTACH;FMTTYPE=image/jpeg:https://onechippenham.org.uk/wp-content/uploads/2024/11/Facebook.jpg
ORGANIZER;CN="Chippenham Museum":MAILTO:heritage@chippenham.gov.uk
END:VEVENT
END:VCALENDAR