BEGIN:VCALENDAR
VERSION:2.0
PRODID:-//One Chippenham - ECPv6.15.20//NONSGML v1.0//EN
CALSCALE:GREGORIAN
METHOD:PUBLISH
X-WR-CALNAME:One Chippenham
X-ORIGINAL-URL:https://onechippenham.org.uk
X-WR-CALDESC:Events for One Chippenham
REFRESH-INTERVAL;VALUE=DURATION:PT1H
X-Robots-Tag:noindex
X-PUBLISHED-TTL:PT1H
BEGIN:VTIMEZONE
TZID:Europe/London
BEGIN:DAYLIGHT
TZOFFSETFROM:+0000
TZOFFSETTO:+0100
TZNAME:BST
DTSTART:20230326T010000
END:DAYLIGHT
BEGIN:STANDARD
TZOFFSETFROM:+0100
TZOFFSETTO:+0000
TZNAME:GMT
DTSTART:20231029T010000
END:STANDARD
BEGIN:DAYLIGHT
TZOFFSETFROM:+0000
TZOFFSETTO:+0100
TZNAME:BST
DTSTART:20240331T010000
END:DAYLIGHT
BEGIN:STANDARD
TZOFFSETFROM:+0100
TZOFFSETTO:+0000
TZNAME:GMT
DTSTART:20241027T010000
END:STANDARD
BEGIN:DAYLIGHT
TZOFFSETFROM:+0000
TZOFFSETTO:+0100
TZNAME:BST
DTSTART:20250330T010000
END:DAYLIGHT
BEGIN:STANDARD
TZOFFSETFROM:+0100
TZOFFSETTO:+0000
TZNAME:GMT
DTSTART:20251026T010000
END:STANDARD
END:VTIMEZONE
BEGIN:VEVENT
DTSTART;TZID=Europe/London:20240111T193000
DTEND;TZID=Europe/London:20240111T213000
DTSTAMP:20260425T163256
CREATED:20240110T024302Z
LAST-MODIFIED:20240110T024517Z
UID:25806-1705001400-1705008600@onechippenham.org.uk
SUMMARY:Lingmara - Chippenham World Music Choir
DESCRIPTION:If you’ve ever wanted to sing lovely songs from all over the world\, then this is the perfect place to start! The repertoire is varied and there is no need to read music. \nLingmara is a community choir led by musical director Alex Walker. Open to Soprano\, Alto\, Tenor and Bass singers with some singing experience. \n  \n 
URL:https://onechippenham.org.uk/event/lingmara-chippenham-world-music-choir/
LOCATION:The Cause Music and Arts Centre\, 42 The Causeway\, Chippenham\, Wiltshire\, SN15 3DD\, United Kingdom
CATEGORIES:Adults,Arts,Choir,Community,Music,Performance
ATTACH;FMTTYPE=image/jpeg:https://onechippenham.org.uk/wp-content/uploads/2024/01/IMG_9718.jpeg
ORGANIZER;CN="The Cause Music and Arts":MAILTO:fred@thecausevenue.com
END:VEVENT
BEGIN:VEVENT
DTSTART;TZID=Europe/London:20240111T200000
DTEND;TZID=Europe/London:20240111T213000
DTSTAMP:20260425T163256
CREATED:20231207T093318Z
LAST-MODIFIED:20231208T180317Z
UID:24472-1705003200-1705008600@onechippenham.org.uk
SUMMARY:PSG Choirs
DESCRIPTION:This lively and popular choir meet on Thursday’s at 8:30pm at the King Alfred Hall. We sing a wide range of Pop\, Soul and Gospel arrangements. New members are always welcome. Please get in touch if you would like to come along to a free taster session. \nFind out more – www.psgchoirs.co.uk \n 
URL:https://onechippenham.org.uk/event/psg-choirs/2024-01-11/
LOCATION:King Alfred Hall\, Market Place\, Chippenham\, SN15 3HT
CATEGORIES:Adults,Arts,Music,Singing
ATTACH;FMTTYPE=image/png:https://onechippenham.org.uk/wp-content/uploads/2023/12/4.png
END:VEVENT
BEGIN:VEVENT
DTSTART;TZID=Europe/London:20240113T143000
DTEND;TZID=Europe/London:20240113T163000
DTSTAMP:20260425T163256
CREATED:20231104T083032Z
LAST-MODIFIED:20231117T113947Z
UID:16726-1705156200-1705163400@onechippenham.org.uk
SUMMARY:Frozen Sing-A-Long
DESCRIPTION:CLOGS Musical Theatre presents Musical Movie Sing-A-Long. Experience the Magic of Disney’s Frozen with us! \nJoin us for an unforgettable afternoon filled with music\, laughter and memories. Sing along to your favourite Frozen tunes and get lost in the enchanting story of Anna\, Elsa and Olaf.\nBut wait\, there’s more – you might even get a chance to meet our beloved princesses! \nCome to the Neeld in Chippenham ready to be entertained! Get ready to sing along to ‘Let It Go’\, ‘For the First Time in Forever’ and ‘Love is an Open Door’. \nTickets: Adults £15* | Concessions (under 16s) £10* | Family of Four £40* \n(*Plus booking fee) \nUnder 16s must be accompanied by an adult
URL:https://onechippenham.org.uk/event/frozen-sing-a-long/
LOCATION:Neeld Community & Arts Centre\, The Neeld\, High Street\, Chippenham\, Wiltshire\, SN15 3ER\, United Kingdom
CATEGORIES:Film,Music
ATTACH;FMTTYPE=image/jpeg:https://onechippenham.org.uk/wp-content/uploads/2023/11/Crop-for-Neeld-website.jpg
END:VEVENT
BEGIN:VEVENT
DTSTART;TZID=Europe/London:20240120T100000
DTEND;TZID=Europe/London:20240120T160000
DTSTAMP:20260425T163256
CREATED:20240110T022343Z
LAST-MODIFIED:20240110T022814Z
UID:25785-1705744800-1705766400@onechippenham.org.uk
SUMMARY:Chippenham  Record Fair
DESCRIPTION:A whole shopping mall of vinyl records\, CD\,s etc 25 x 6ft tables. Expert sellers from all over South and West. Almost all genres catered for. Free entry.
URL:https://onechippenham.org.uk/event/chippenham-record-fair/
LOCATION:Doorway\, The Citadel\, Bath Road\, Chippenham\, Doorway\, The Citadel\, Bath Road\, Chippenham\, SN15 2AB
CATEGORIES:Music
ATTACH;FMTTYPE=image/jpeg:https://onechippenham.org.uk/wp-content/uploads/2024/01/IMG_9723.jpeg
END:VEVENT
BEGIN:VEVENT
DTSTART;TZID=Europe/London:20240120T200000
DTEND;TZID=Europe/London:20240120T200000
DTSTAMP:20260425T163256
CREATED:20240116T202512Z
LAST-MODIFIED:20240116T202512Z
UID:26124-1705780800-1705780800@onechippenham.org.uk
SUMMARY:Ceilidh at the Consti with the Lucky 7 Band
DESCRIPTION:Looking for something a bit different to brighten up your January? Look no further! \nA fantastic evening of music\, dancing and plenty of laughter all for a good cause! \nRegister your space by emailing jilly.tinson@gmail.com \n 
URL:https://onechippenham.org.uk/event/ceilidh-at-the-consti-with-the-lucky-7-band/
LOCATION:Constitutional Club\, 36 Foghamshire\, Chippenham\, SN15 1HB\, United Kingdom
CATEGORIES:Ceilidh,Charity,Community,Dance,Music
ATTACH;FMTTYPE=image/jpeg:https://onechippenham.org.uk/wp-content/uploads/2024/01/IMG_9952.jpeg
END:VEVENT
BEGIN:VEVENT
DTSTART;TZID=Europe/London:20240125T190000
DTEND;TZID=Europe/London:20240125T210000
DTSTAMP:20260425T163256
CREATED:20240122T084055Z
LAST-MODIFIED:20240122T084055Z
UID:26171-1706209200-1706216400@onechippenham.org.uk
SUMMARY:Burns Night Bagpipes at Wine Monkey
DESCRIPTION:Join us and listen to local Chippenham resident Callum as he plays his bagpipes in celebration of Burns Night. \nWe serve great wines\, beers\, ciders\, cocktails and soft drinks as well as amazing charcuterie\, cheeses and homemade dips. Sounds like a great night out! \n\nOpen 2-10pm\nMusic 7-9pm\nFree entry
URL:https://onechippenham.org.uk/event/burns-night-bagpipes-at-wine-monkey/
LOCATION:The Cellar by Wine Monkey\, 20 Borough Parade\, Chippenham\, SN15 3WL\, United Kingdom
CATEGORIES:Food and Drink,Music
ATTACH;FMTTYPE=image/jpeg:https://onechippenham.org.uk/wp-content/uploads/2024/01/IMG_2794.jpeg
ORGANIZER;CN="Wine Monkey":MAILTO:Thecellar@winemonkey.co.uk
END:VEVENT
BEGIN:VEVENT
DTSTART;TZID=Europe/London:20240126T190000
DTEND;TZID=Europe/London:20240126T213000
DTSTAMP:20260425T163256
CREATED:20240103T092229Z
LAST-MODIFIED:20240107T105927Z
UID:25542-1706295600-1706304600@onechippenham.org.uk
SUMMARY:Music Cafe
DESCRIPTION:A popular music show with 5-7 different musical acts performing a variety of songs from jazz standards to folk to blues to classic pop with lots of fun! \nAlways the last Friday of the month and always different.
URL:https://onechippenham.org.uk/event/music-cafe-8/2024-01-26/
LOCATION:The Cause Music and Arts Centre\, 42 The Causeway\, Chippenham\, Wiltshire\, SN15 3DD\, United Kingdom
CATEGORIES:Community,Music
ATTACH;FMTTYPE=image/jpeg:https://onechippenham.org.uk/wp-content/uploads/2024/01/music-cafe-2024.jpg
ORGANIZER;CN="The Cause Music and Arts":MAILTO:fred@thecausevenue.com
END:VEVENT
BEGIN:VEVENT
DTSTART;TZID=Europe/London:20240127T190000
DTEND;TZID=Europe/London:20240127T190000
DTSTAMP:20260425T163256
CREATED:20240108T135446Z
LAST-MODIFIED:20240108T135751Z
UID:25720-1706382000-1706382000@onechippenham.org.uk
SUMMARY:70’s 80’s 90’s disco at The Pewsham
DESCRIPTION:Party at The Pewsham\nThe best of the 70’s\, 80’s and 90’s \nTickets £5 available online here.
URL:https://onechippenham.org.uk/event/70s-80s-90s-disco-at-the-pewsham/
LOCATION:The Pewsham\, The Pewsham\, Chippenham\, Wiltshire\, SN15 3RU\, United Kingdom
CATEGORIES:Music
ATTACH;FMTTYPE=image/jpeg:https://onechippenham.org.uk/wp-content/uploads/2024/01/C19D5D98-FBA9-4947-8745-500D4698001E.jpeg
END:VEVENT
END:VCALENDAR