BEGIN:VCALENDAR
VERSION:2.0
PRODID:-//One Chippenham - ECPv6.15.20//NONSGML v1.0//EN
CALSCALE:GREGORIAN
METHOD:PUBLISH
X-ORIGINAL-URL:https://onechippenham.org.uk
X-WR-CALDESC:Events for One Chippenham
REFRESH-INTERVAL;VALUE=DURATION:PT1H
X-Robots-Tag:noindex
X-PUBLISHED-TTL:PT1H
BEGIN:VTIMEZONE
TZID:Europe/London
BEGIN:DAYLIGHT
TZOFFSETFROM:+0000
TZOFFSETTO:+0100
TZNAME:BST
DTSTART:20230326T010000
END:DAYLIGHT
BEGIN:STANDARD
TZOFFSETFROM:+0100
TZOFFSETTO:+0000
TZNAME:GMT
DTSTART:20231029T010000
END:STANDARD
BEGIN:DAYLIGHT
TZOFFSETFROM:+0000
TZOFFSETTO:+0100
TZNAME:BST
DTSTART:20240331T010000
END:DAYLIGHT
BEGIN:STANDARD
TZOFFSETFROM:+0100
TZOFFSETTO:+0000
TZNAME:GMT
DTSTART:20241027T010000
END:STANDARD
BEGIN:DAYLIGHT
TZOFFSETFROM:+0000
TZOFFSETTO:+0100
TZNAME:BST
DTSTART:20250330T010000
END:DAYLIGHT
BEGIN:STANDARD
TZOFFSETFROM:+0100
TZOFFSETTO:+0000
TZNAME:GMT
DTSTART:20251026T010000
END:STANDARD
END:VTIMEZONE
BEGIN:VEVENT
DTSTART;TZID=Europe/London:20240302T143000
DTEND;TZID=Europe/London:20240302T143000
DTSTAMP:20260423T140746
CREATED:20240208T231201Z
LAST-MODIFIED:20240302T073541Z
UID:27300-1709389800-1709389800@onechippenham.org.uk
SUMMARY:Annie Get Your Gun (musical)
DESCRIPTION:🌟SADDLE UP🌟 \nJoin us for Annie Get Your Gun from 28th Feb – 2nd March\, and see Annie’s high flying adventure through the Wild West 🤠 \nFeaturing classic hits “Anything You Can Do I Can Do Better” & “There’s No Business Like Showbusiness”\, it’s a sharp-shootin’ sensation 🎶 \nWed – Sat 7:30pm\nSat 2:30pm \nTickets available NOW! 🌟 \n🎟️ https://thelittleboxoffice.com/neeld/book/event/191555\n🗓️ 28 Feb – 2 March\n📍Neeld Community & Arts Centre in Chippenham
URL:https://onechippenham.org.uk/event/annie-get-your-gun-musical/2024-03-02/
LOCATION:Neeld Community & Arts Centre\, The Neeld\, High Street\, Chippenham\, Wiltshire\, SN15 3ER\, United Kingdom
CATEGORIES:Music,Theatre
ATTACH;FMTTYPE=image/jpeg:https://onechippenham.org.uk/wp-content/uploads/2024/02/0EFAE422-ED05-4AE4-9D0D-80C3B22CE5BE.jpeg
END:VEVENT
BEGIN:VEVENT
DTSTART;TZID=Europe/London:20240309T193000
DTEND;TZID=Europe/London:20240309T193000
DTSTAMP:20260423T140746
CREATED:20230913T133423Z
LAST-MODIFIED:20230913T133423Z
UID:15327-1710012600-1710012600@onechippenham.org.uk
SUMMARY:ABBA Sensation
DESCRIPTION:Making their first ever appearance in Chippenham! \nWidely considered to be one of the best ever Abba Tribute Acts\, they play to packed theatres and festivals throughout Europe. A stunning stage show\, which combines costume changes\, lighting effects and a faithful reproduction of the Abba sound. \nA great evening’s entertainment is guaranteed for all age ranges. \nThe band love audience participation\, so you can sing along\, clap or even get up and dance. If however you are ‘too posh’ to join in\, then no problem\, just rattle your jewellery !!! \nPlease note\, this bands concerts tend to sell out very quickly\, so please book your tickets as soon as possible for a great night out. \nTICKETS £19.50\nFrom The Neeld Box Office 01249 446699\, or at the Town Hall or online at www.neeld.co.uk \nPlease contact the venue for any access requirements.\nTickets are non-refundable unless this event is cancelled or postponed.
URL:https://onechippenham.org.uk/event/abba-sensation/
LOCATION:The Neeld
CATEGORIES:Music
ATTACH;FMTTYPE=image/jpeg:https://onechippenham.org.uk/wp-content/uploads/2023/09/BACKDROP-abba.jpg
END:VEVENT
BEGIN:VEVENT
DTSTART;TZID=Europe/London:20240309T193000
DTEND;TZID=Europe/London:20240309T193000
DTSTAMP:20260423T140746
CREATED:20240206T133210Z
LAST-MODIFIED:20240206T133210Z
UID:26995-1710012600-1710012600@onechippenham.org.uk
SUMMARY:NWSO Spring 2024 concert at St. Andrew’s Church
DESCRIPTION:  \n \nNorth Wiltshire Symphony Orchestra presents: \n\nSaint-Saens: Symphony No 3 ‘Organ’ and Danse macabre\nFaure: Pavane\nChabrier: Espana\nDebussy: Prelude a l’apres- midi d’un Faune\n\nSoloist: Michael Butterfield \nConductor: Alex Arkwright \nLeader: Sara Stagg \n  \n\nStandard ticket: £15 | Concessions (under 16s) £2\nDuration: 2 hours including interval\nPlease contact the venue for any access requirements.\nTickets are also available through our Box Office on 01249 446699\, or from The Neeld.\nTickets are non-refundable unless this event is cancelled or postponed.
URL:https://onechippenham.org.uk/event/nwso-spring-2024-concert-at-st-andrews-church/
LOCATION:Neeld Community & Arts Centre\, The Neeld\, High Street\, Chippenham\, Wiltshire\, SN15 3ER\, United Kingdom
CATEGORIES:Music
ATTACH;FMTTYPE=image/jpeg:https://onechippenham.org.uk/wp-content/uploads/2024/02/nwso-poster-jpg.jpg
END:VEVENT
BEGIN:VEVENT
DTSTART;TZID=Europe/London:20240309T193000
DTEND;TZID=Europe/London:20240309T220000
DTSTAMP:20260423T140746
CREATED:20230915T105252Z
LAST-MODIFIED:20230915T105252Z
UID:15410-1710012600-1710021600@onechippenham.org.uk
SUMMARY:ABBA Sensation
DESCRIPTION:Making their first ever appearance in Chippenham \nWidely considered to be one of the best ever Abba Tribute Acts\, they play to packed theatres and festivals throughout Europe. A stunning stage show\, which combines costume changes\, lighting effects and a faithful reproduction of the Abba sound. \nA great evening’s entertainment is guaranteed for all age ranges. \nThe band love audience participation\, so you can sing along\, clap or even get up and dance. If however you are ‘too posh’ to join in\, then no problem\, just rattle your jewellery !!! \nPlease note\, this bands concerts tend to sell out very quickly\, so please book your tickets as soon as possible for a great night out.
URL:https://onechippenham.org.uk/event/abba-sensation-2/
LOCATION:Neeld Community & Arts Centre\, The Neeld\, High Street\, Chippenham\, Wiltshire\, SN15 3ER\, United Kingdom
CATEGORIES:Music,Tribute
ATTACH;FMTTYPE=image/jpeg:https://onechippenham.org.uk/wp-content/uploads/2023/09/ABBA-STAGE-10.jpg
END:VEVENT
END:VCALENDAR