BEGIN:VCALENDAR
VERSION:2.0
PRODID:-//One Chippenham - ECPv6.15.20//NONSGML v1.0//EN
CALSCALE:GREGORIAN
METHOD:PUBLISH
X-ORIGINAL-URL:https://onechippenham.org.uk
X-WR-CALDESC:Events for One Chippenham
REFRESH-INTERVAL;VALUE=DURATION:PT1H
X-Robots-Tag:noindex
X-PUBLISHED-TTL:PT1H
BEGIN:VTIMEZONE
TZID:Europe/London
BEGIN:DAYLIGHT
TZOFFSETFROM:+0000
TZOFFSETTO:+0100
TZNAME:BST
DTSTART:20230326T010000
END:DAYLIGHT
BEGIN:STANDARD
TZOFFSETFROM:+0100
TZOFFSETTO:+0000
TZNAME:GMT
DTSTART:20231029T010000
END:STANDARD
BEGIN:DAYLIGHT
TZOFFSETFROM:+0000
TZOFFSETTO:+0100
TZNAME:BST
DTSTART:20240331T010000
END:DAYLIGHT
BEGIN:STANDARD
TZOFFSETFROM:+0100
TZOFFSETTO:+0000
TZNAME:GMT
DTSTART:20241027T010000
END:STANDARD
BEGIN:DAYLIGHT
TZOFFSETFROM:+0000
TZOFFSETTO:+0100
TZNAME:BST
DTSTART:20250330T010000
END:DAYLIGHT
BEGIN:STANDARD
TZOFFSETFROM:+0100
TZOFFSETTO:+0000
TZNAME:GMT
DTSTART:20251026T010000
END:STANDARD
END:VTIMEZONE
BEGIN:VEVENT
DTSTART;TZID=Europe/London:20240405T200000
DTEND;TZID=Europe/London:20240405T200000
DTSTAMP:20260423T042211
CREATED:20240325T102621Z
LAST-MODIFIED:20240325T102717Z
UID:28705-1712347200-1712347200@onechippenham.org.uk
SUMMARY:Reuben’s Daughters & Harmer Jays at The Old Road Tavern
DESCRIPTION:Friday 5th April\, Vamos Promotions bring Reuben’s Daughters to Chippenham! 8pm start\, pay what you want entry. \nReuben’s Daughters\nAn artist of a region where alternative-pop is like a second religion Reuben Myles Tyghe\, aka Reuben’s Daughters has been evolving for almost two decades at the heart of the local independent scene in the South West of England. In 2022\, Reuben wrote a new chapter in his musical history\, with a debut album\, under the name Reuben’s Daughters. A sunnier\, more catchy and even pleasantly heady chapter. “Mami Wata”\, like the African goddess of the same name\, immediately seduces by her brilliance. The album is an adventure with\npsychedelic and hopping tones of which Reuben and a few conscripts have the secret. \nHis ‘daughters’ accompany on the stage\, in the studio and with all creative elements. Behind this nickname\, both intimate and affectionate\, hide the pillars of a rock-solid pop architecture. Musicians\, producers\, photographers\, directors\, designers who are the precious artisans collaborating on an energetic record to which everyone contributes. A collective at the service of the song\, a hive of creators whose harmonious buzz is heard from the\nfirst notes and then slides throughout an album that can be alternately catchy or exploratory.\nMami Wata was released 1st April 2022 via French label Microcultures Records to world-wide acclaim\, with lead singles playlisted on French national radio station FIP and BBC 6 Music airing courtesy of Steve Lamacq. \nReuben’s Daughters are currently finishing the follow up to Mami Wata\, which will be released in Autumn 2024 and will be touring the UK throughout the year. \nHarmer Jays\nBristol-based artist Harmer Jays is a rising force in the indie-pop scene with his evocative sound and soulful vocals. In his music\, Harmer Jays masterfully blends rich instrumentation with powerful vocals that come to the forefront\, delivering a truly unique listening experience. His lyrics explore a range of themes\, from the breathtaking bioluminescent waves in California to the struggles of maintaining relationships in the digital age. \nPay what you want on the door or advance etickets – https://www.ticketsource.co.uk/riverbank-studios/reubens-daughters-harmer-jays-at-the-old-road-tavern/2024-04-05/20:00/t-xmjlnqk? \n 
URL:https://onechippenham.org.uk/event/reubens-daughters-harmer-jays-at-the-old-road-tavern/
LOCATION:The Old Road Tavern\, SN15 1JA
CATEGORIES:Gig,Music
ATTACH;FMTTYPE=image/jpeg:https://onechippenham.org.uk/wp-content/uploads/2024/03/IMG_2541.jpeg
END:VEVENT
BEGIN:VEVENT
DTSTART;TZID=Europe/London:20240409T110000
DTEND;TZID=Europe/London:20240409T120000
DTSTAMP:20260423T042211
CREATED:20240102T113614Z
LAST-MODIFIED:20240102T113614Z
UID:25279-1712660400-1712664000@onechippenham.org.uk
SUMMARY:Café Concert at St Andrew’s Chippenham
DESCRIPTION:PLEASE NOTE CHANGE OF DATE TO 2nd TUESDAY of the month. \nTrio Paradis play a Café Concert in the beautiful surroundings and fine acoustic of St Andrew’s Church\, Chippenham (usually!) on the first Tuesday of each month at 11am: an informal concert with refreshments available in the pop-up café from 10.30am\, where you can meet friends and make new ones over tea/coffee and cakes\, and then enjoy live music. \nApril’s theme is Birdsong\, with music from a wide variety of eras and styles: Daquin: Cuckoo\, McVie’s Songbird\, Casals’ haunting arrangement of the Catalan folk song\, Song of the Birds\, and more… \nThe concert lasts c45m and entrance is by donation\, with a retiring collection. All ages welcome\, including children. No need to book. \nMore information at www.trioparadis.com.
URL:https://onechippenham.org.uk/event/cafe-concert-at-st-andrews-chippenham/
LOCATION:St Andrew’s Church\, St Mary’s Street\, Chippenham\, SN15 3JN\, United Kingdom
CATEGORIES:Community,Concert,Music
ATTACH;FMTTYPE=image/jpeg:https://onechippenham.org.uk/wp-content/uploads/2023/12/4440BEE8-A0BB-4954-A18A-C65DF92A73E3.jpeg
ORGANIZER;CN="Trio Paradis":MAILTO:trioparadis@gmail.com
END:VEVENT
BEGIN:VEVENT
DTSTART;TZID=Europe/London:20240410T190000
DTEND;TZID=Europe/London:20240410T220000
DTSTAMP:20260423T042211
CREATED:20240115T102752Z
LAST-MODIFIED:20240115T102752Z
UID:26046-1712775600-1712786400@onechippenham.org.uk
SUMMARY:Runny Snotts Open Mic
DESCRIPTION:It’s the night for pairing your pints with beautiful acoustic music… it’s Runny Snotts Open Mic Night! \nThe fun starts at 7pm\, so bring a song (and an instrument\, if you play)\, gather your cheer squad\, and get ready to take your turn on the mic. \nAs always\, we’re open to absolutely everyone – you won’t find a more welcoming bunch than us! Even if you don’t sing or play\, come and join us for the incredible pints and beautiful music from Runny Snotts Acoustic Sessions! \nℹ️ This is a regular event\, so keep your diary clear on the second Wednesday of every month!!
URL:https://onechippenham.org.uk/event/runny-snotts-open-mic-2-2024-04-10/
LOCATION:Three Crowns Pub\, 18 The Causeway\, Chippenham\, SN15 3DB\, United Kingdom
CATEGORIES:Music
ATTACH;FMTTYPE=image/jpeg:https://onechippenham.org.uk/wp-content/uploads/2024/01/FB_IMG_16970915832952.jpg
ORGANIZER;CN="Runny Snotts":MAILTO:runnysnott@gmail.com
END:VEVENT
BEGIN:VEVENT
DTSTART;TZID=Europe/London:20240411T200000
DTEND;TZID=Europe/London:20240411T213000
DTSTAMP:20260423T042211
CREATED:20231208T180431Z
LAST-MODIFIED:20231208T180431Z
UID:24609-1712865600-1712871000@onechippenham.org.uk
SUMMARY:PSG Choirs
DESCRIPTION:This lively and popular choir meet on Thursday’s at 8:30pm at the King Alfred Hall. We sing a wide range of Pop\, Soul and Gospel arrangements. New members are always welcome. Please get in touch if you would like to come along to a free taster session. \nFind out more – www.psgchoirs.co.uk \n 
URL:https://onechippenham.org.uk/event/psg-choirs/2024-04-11/
LOCATION:King Alfred Hall\, Market Place\, Chippenham\, SN15 3HT
CATEGORIES:Adults,Arts,Music,Singing
ATTACH;FMTTYPE=image/png:https://onechippenham.org.uk/wp-content/uploads/2023/12/4.png
END:VEVENT
BEGIN:VEVENT
DTSTART;TZID=Europe/London:20240416T193000
DTEND;TZID=Europe/London:20240416T210000
DTSTAMP:20260423T042211
CREATED:20230904T122558Z
LAST-MODIFIED:20230904T122558Z
UID:14890-1713295800-1713301200@onechippenham.org.uk
SUMMARY:Allsorts Community Choir
DESCRIPTION:Allsorts Community Choir in Chippenham meet on Tuesday evenings from 7.30pm at Sheldon Road Methodist Church. \nAll sorts of age and gender welcome. No singing experience necessary. No need to read music\, No auditions\, basically if you’re enthusiastic and committed\, you’re in! All sorts of music styles from swing to gospel to folk and pop with a generous helping of everything in between. \nTwo weeks free trial\, then £3 per session (paid termly).
URL:https://onechippenham.org.uk/event/allsorts-community-choir-4/2024-04-16/
LOCATION:Sheldon Methodist Church\, Audley Road\, SN14 0DU
CATEGORIES:Choir,Community,Music,Singing
ATTACH;FMTTYPE=image/jpeg:https://onechippenham.org.uk/wp-content/uploads/2023/08/Photo-06-08-2023-13-24-24-scaled.jpg
ORGANIZER;CN="Allsorts Community Choir":MAILTO:allsortschippenham@hotmail.com
END:VEVENT
BEGIN:VEVENT
DTSTART;TZID=Europe/London:20240418T200000
DTEND;TZID=Europe/London:20240418T213000
DTSTAMP:20260423T042211
CREATED:20231208T180431Z
LAST-MODIFIED:20231208T180431Z
UID:24610-1713470400-1713475800@onechippenham.org.uk
SUMMARY:PSG Choirs
DESCRIPTION:This lively and popular choir meet on Thursday’s at 8:30pm at the King Alfred Hall. We sing a wide range of Pop\, Soul and Gospel arrangements. New members are always welcome. Please get in touch if you would like to come along to a free taster session. \nFind out more – www.psgchoirs.co.uk \n 
URL:https://onechippenham.org.uk/event/psg-choirs/2024-04-18/
LOCATION:King Alfred Hall\, Market Place\, Chippenham\, SN15 3HT
CATEGORIES:Adults,Arts,Music,Singing
ATTACH;FMTTYPE=image/png:https://onechippenham.org.uk/wp-content/uploads/2023/12/4.png
END:VEVENT
BEGIN:VEVENT
DTSTART;TZID=Europe/London:20240419T200000
DTEND;TZID=Europe/London:20240419T223000
DTSTAMP:20260423T042211
CREATED:20231218T115204Z
LAST-MODIFIED:20231218T115414Z
UID:24994-1713556800-1713565800@onechippenham.org.uk
SUMMARY:Take the stage 2024
DESCRIPTION:Take The Stage is back for 2024! \nStarting in February\, the competition will see 12 young music acts compete across four heats for a place in the final\, with the chance to play for some great prizes. So long as you are under 21 years of age\, you can apply. \nKeep an eye on www.riverbankchippenham.co.uk for further information on how to enter this year’s battle. \nTickets: Purchased in advance = £5.00 Purchased on door = £6.00 \nDoors 7:30pm for an 8:00pm start. Approx. 10:30pm finish \nHeat 1 – Friday 2nd of February\nHeat 2 – Friday 23rd of February\nHeat 3 – Friday 8th of March\nHeat 4 – Friday 22nd of March\nThe Final – Friday 19th of April \nPlease contact the venue for any access requirements.\nThis is a standing event with limited\, unreserved seating available.\nTickets are also available through our Box Office on 01249 446699\, or at the Town Hall.\nTickets are non-refundable unless this event is cancelled or postponed.
URL:https://onechippenham.org.uk/event/take-the-stage-2024/2024-04-19/
LOCATION:The Neeld
CATEGORIES:Music
ATTACH;FMTTYPE=image/png:https://onechippenham.org.uk/wp-content/uploads/2023/12/take-the-stage-2024.png
END:VEVENT
BEGIN:VEVENT
DTSTART;TZID=Europe/London:20240423T193000
DTEND;TZID=Europe/London:20240423T210000
DTSTAMP:20260423T042211
CREATED:20230904T122558Z
LAST-MODIFIED:20230904T122558Z
UID:14891-1713900600-1713906000@onechippenham.org.uk
SUMMARY:Allsorts Community Choir
DESCRIPTION:Allsorts Community Choir in Chippenham meet on Tuesday evenings from 7.30pm at Sheldon Road Methodist Church. \nAll sorts of age and gender welcome. No singing experience necessary. No need to read music\, No auditions\, basically if you’re enthusiastic and committed\, you’re in! All sorts of music styles from swing to gospel to folk and pop with a generous helping of everything in between. \nTwo weeks free trial\, then £3 per session (paid termly).
URL:https://onechippenham.org.uk/event/allsorts-community-choir-4/2024-04-23/
LOCATION:Sheldon Methodist Church\, Audley Road\, SN14 0DU
CATEGORIES:Choir,Community,Music,Singing
ATTACH;FMTTYPE=image/jpeg:https://onechippenham.org.uk/wp-content/uploads/2023/08/Photo-06-08-2023-13-24-24-scaled.jpg
ORGANIZER;CN="Allsorts Community Choir":MAILTO:allsortschippenham@hotmail.com
END:VEVENT
BEGIN:VEVENT
DTSTART;TZID=Europe/London:20240425T200000
DTEND;TZID=Europe/London:20240425T213000
DTSTAMP:20260423T042211
CREATED:20231208T180431Z
LAST-MODIFIED:20231208T180431Z
UID:24611-1714075200-1714080600@onechippenham.org.uk
SUMMARY:PSG Choirs
DESCRIPTION:This lively and popular choir meet on Thursday’s at 8:30pm at the King Alfred Hall. We sing a wide range of Pop\, Soul and Gospel arrangements. New members are always welcome. Please get in touch if you would like to come along to a free taster session. \nFind out more – www.psgchoirs.co.uk \n 
URL:https://onechippenham.org.uk/event/psg-choirs/2024-04-25/
LOCATION:King Alfred Hall\, Market Place\, Chippenham\, SN15 3HT
CATEGORIES:Adults,Arts,Music,Singing
ATTACH;FMTTYPE=image/png:https://onechippenham.org.uk/wp-content/uploads/2023/12/4.png
END:VEVENT
BEGIN:VEVENT
DTSTART;TZID=Europe/London:20240426T190000
DTEND;TZID=Europe/London:20240426T213000
DTSTAMP:20260423T042211
CREATED:20240103T092229Z
LAST-MODIFIED:20240103T092229Z
UID:25709-1714158000-1714167000@onechippenham.org.uk
SUMMARY:Music Cafe
DESCRIPTION:A popular music show with 5-7 different musical acts performing a variety of songs from jazz standards to folk to blues to classic pop with lots of fun! \nAlways the last Friday of the month and always different.
URL:https://onechippenham.org.uk/event/music-cafe-8/2024-04-26/
LOCATION:The Cause Music and Arts Centre\, 42 The Causeway\, Chippenham\, Wiltshire\, SN15 3DD\, United Kingdom
CATEGORIES:Community,Music
ATTACH;FMTTYPE=image/jpeg:https://onechippenham.org.uk/wp-content/uploads/2024/01/music-cafe-2024.jpg
ORGANIZER;CN="The Cause Music and Arts":MAILTO:fred@thecausevenue.com
END:VEVENT
BEGIN:VEVENT
DTSTART;TZID=Europe/London:20240426T193000
DTEND;TZID=Europe/London:20240426T193000
DTSTAMP:20260423T042211
CREATED:20240115T103251Z
LAST-MODIFIED:20240115T103251Z
UID:25881-1714159800-1714159800@onechippenham.org.uk
SUMMARY:The ELO Encounter - Blue Sky Tour
DESCRIPTION:Roll over Beethoven\, because the greatest tribute to Jeff Lynne’s Electric Light Orchestra is here! In an all live show featuring soaring strings\, striking vocal harmonies and playing all the much loved songs from ELO’s hit-filled library including Evil Woman\, Telephone Line and Don’t Bring Me Down. The ELO Encounter promises a night filled with rock\, roll and Blue Skies that would make even Mozart mambo and Bach boogie! So Hold On Tight because Rock and Roll Is King in a show that is guaranteed to have you partying All Over The World. \nNot only flawlessly recreating the wonderful music of ELO\, it’s a spectacular live show from start to finish. Stunning lights and special effects create an atmosphere that will have you fully immersed in the whole experience. As the ELO Encounter reel off ELO classic hit after hit\, it’s guaranteed to have the hairs on the back of your neck dancing in time to the music! \nAs a recent reviewer remarked\, “Not really a tribute\, that cheapens what this band does\, which is to transport you back to those days. So sensitively and authentically done\, at times it felt like it was actually ELO being mirrored up there on the stage”. \nThat’s what The ELO Encounter tribute show is all about. \n★★★★★ “Certainly went down a storm!” – Quay Theatre\n★★★★★ “A brilliant night out” – Steve Scruton – BBC Radio\n★★★★★ “Amazing … a fantastic band” – Tony Fisher – BBC Radio\n★★★★★ “I’ve never seen such a standing ovation here!” – Braintree Arts Theatre \n\nTickets: £21.00\nDuration: 2 hours 30 minutes including interval.\nPlease contact the venue for any access requirements.\n\nTickets are available through our Box Office on 01249 446699\, from the Neeld Box Office or at the Town Hall. \nTickets are non-refundable unless this event is cancelled or postponed.
URL:https://onechippenham.org.uk/event/the-elo-encounter-blue-sky-tour/
LOCATION:The Neeld
CATEGORIES:Music
ATTACH;FMTTYPE=image/jpeg:https://onechippenham.org.uk/wp-content/uploads/2024/01/ELO-image-BBC.jpg
END:VEVENT
BEGIN:VEVENT
DTSTART;TZID=Europe/London:20240430T193000
DTEND;TZID=Europe/London:20240430T210000
DTSTAMP:20260423T042211
CREATED:20230904T122558Z
LAST-MODIFIED:20230904T122558Z
UID:14892-1714505400-1714510800@onechippenham.org.uk
SUMMARY:Allsorts Community Choir
DESCRIPTION:Allsorts Community Choir in Chippenham meet on Tuesday evenings from 7.30pm at Sheldon Road Methodist Church. \nAll sorts of age and gender welcome. No singing experience necessary. No need to read music\, No auditions\, basically if you’re enthusiastic and committed\, you’re in! All sorts of music styles from swing to gospel to folk and pop with a generous helping of everything in between. \nTwo weeks free trial\, then £3 per session (paid termly).
URL:https://onechippenham.org.uk/event/allsorts-community-choir-4/2024-04-30/
LOCATION:Sheldon Methodist Church\, Audley Road\, SN14 0DU
CATEGORIES:Choir,Community,Music,Singing
ATTACH;FMTTYPE=image/jpeg:https://onechippenham.org.uk/wp-content/uploads/2023/08/Photo-06-08-2023-13-24-24-scaled.jpg
ORGANIZER;CN="Allsorts Community Choir":MAILTO:allsortschippenham@hotmail.com
END:VEVENT
END:VCALENDAR