BEGIN:VCALENDAR
VERSION:2.0
PRODID:-//One Chippenham - ECPv6.15.20//NONSGML v1.0//EN
CALSCALE:GREGORIAN
METHOD:PUBLISH
X-WR-CALNAME:One Chippenham
X-ORIGINAL-URL:https://onechippenham.org.uk
X-WR-CALDESC:Events for One Chippenham
REFRESH-INTERVAL;VALUE=DURATION:PT1H
X-Robots-Tag:noindex
X-PUBLISHED-TTL:PT1H
BEGIN:VTIMEZONE
TZID:Europe/London
BEGIN:DAYLIGHT
TZOFFSETFROM:+0000
TZOFFSETTO:+0100
TZNAME:BST
DTSTART:20230326T010000
END:DAYLIGHT
BEGIN:STANDARD
TZOFFSETFROM:+0100
TZOFFSETTO:+0000
TZNAME:GMT
DTSTART:20231029T010000
END:STANDARD
BEGIN:DAYLIGHT
TZOFFSETFROM:+0000
TZOFFSETTO:+0100
TZNAME:BST
DTSTART:20240331T010000
END:DAYLIGHT
BEGIN:STANDARD
TZOFFSETFROM:+0100
TZOFFSETTO:+0000
TZNAME:GMT
DTSTART:20241027T010000
END:STANDARD
BEGIN:DAYLIGHT
TZOFFSETFROM:+0000
TZOFFSETTO:+0100
TZNAME:BST
DTSTART:20250330T010000
END:DAYLIGHT
BEGIN:STANDARD
TZOFFSETFROM:+0100
TZOFFSETTO:+0000
TZNAME:GMT
DTSTART:20251026T010000
END:STANDARD
END:VTIMEZONE
BEGIN:VEVENT
DTSTART;TZID=Europe/London:20240225T170000
DTEND;TZID=Europe/London:20240225T170000
DTSTAMP:20260425T023648
CREATED:20240214T072848Z
LAST-MODIFIED:20240214T072848Z
UID:27683-1708880400-1708880400@onechippenham.org.uk
SUMMARY:Lucky Number 7 and Work Experience live at The Old Road Tavern
DESCRIPTION:Lucky Number Seven and Work Experience play a special Sunday afternoon show at the Old Road Tavern as part of Chippenham Fringe Feb 2024! \nThe gig starts at 5pm and is COMPLETELY FREE thanks to support from Chippenham Borough Lands Charity and Melt Productions. \nSearch Fringe Feb for a complete list of all the events happening over the weekend\, including our own Fringe Feb MEGASHOW on Saturday 24th. \nLUCKY NUMBER SEVEN are an alternative-rock band\, with a lot of on stage energy they bring you a dramatic\, “in your face” stage performance. With influences from the likes of Placebo\, Nirvana\, and Muse. Their melancholic stories and toxic love fuelled lyrics paint a taboo picture of passion and lust. \nWORK EXPERIENCE are a pop-punk band from Chippenham\, expect high energy songs\, catchy guitar hooks\, and a huge dose of Blink-influenced fun. \nThe Old Road Open Mic starts after at 8pm. \n\n  \n 
URL:https://onechippenham.org.uk/event/lucky-number-7-and-work-experience-live-at-the-old-road-tavern/
LOCATION:The Old Road Tavern\, SN15 1JA
CATEGORIES:Gig,Music
ATTACH;FMTTYPE=image/jpeg:https://onechippenham.org.uk/wp-content/uploads/2024/02/IMG_0761.jpeg
END:VEVENT
END:VCALENDAR