BEGIN:VCALENDAR
VERSION:2.0
PRODID:-//One Chippenham - ECPv6.15.20//NONSGML v1.0//EN
CALSCALE:GREGORIAN
METHOD:PUBLISH
X-WR-CALNAME:One Chippenham
X-ORIGINAL-URL:https://onechippenham.org.uk
X-WR-CALDESC:Events for One Chippenham
REFRESH-INTERVAL;VALUE=DURATION:PT1H
X-Robots-Tag:noindex
X-PUBLISHED-TTL:PT1H
BEGIN:VTIMEZONE
TZID:Europe/London
BEGIN:DAYLIGHT
TZOFFSETFROM:+0000
TZOFFSETTO:+0100
TZNAME:BST
DTSTART:20230326T010000
END:DAYLIGHT
BEGIN:STANDARD
TZOFFSETFROM:+0100
TZOFFSETTO:+0000
TZNAME:GMT
DTSTART:20231029T010000
END:STANDARD
BEGIN:DAYLIGHT
TZOFFSETFROM:+0000
TZOFFSETTO:+0100
TZNAME:BST
DTSTART:20240331T010000
END:DAYLIGHT
BEGIN:STANDARD
TZOFFSETFROM:+0100
TZOFFSETTO:+0000
TZNAME:GMT
DTSTART:20241027T010000
END:STANDARD
BEGIN:DAYLIGHT
TZOFFSETFROM:+0000
TZOFFSETTO:+0100
TZNAME:BST
DTSTART:20250330T010000
END:DAYLIGHT
BEGIN:STANDARD
TZOFFSETFROM:+0100
TZOFFSETTO:+0000
TZNAME:GMT
DTSTART:20251026T010000
END:STANDARD
END:VTIMEZONE
BEGIN:VEVENT
DTSTART;TZID=Europe/London:20240508T190000
DTEND;TZID=Europe/London:20240508T220000
DTSTAMP:20260423T103059
CREATED:20240115T102752Z
LAST-MODIFIED:20240115T102752Z
UID:26047-1715194800-1715205600@onechippenham.org.uk
SUMMARY:Runny Snotts Open Mic
DESCRIPTION:It’s the night for pairing your pints with beautiful acoustic music… it’s Runny Snotts Open Mic Night! \nThe fun starts at 7pm\, so bring a song (and an instrument\, if you play)\, gather your cheer squad\, and get ready to take your turn on the mic. \nAs always\, we’re open to absolutely everyone – you won’t find a more welcoming bunch than us! Even if you don’t sing or play\, come and join us for the incredible pints and beautiful music from Runny Snotts Acoustic Sessions! \nℹ️ This is a regular event\, so keep your diary clear on the second Wednesday of every month!!
URL:https://onechippenham.org.uk/event/runny-snotts-open-mic-2-2024-05-08/
LOCATION:Three Crowns Pub\, 18 The Causeway\, Chippenham\, SN15 3DB\, United Kingdom
CATEGORIES:Music
ATTACH;FMTTYPE=image/jpeg:https://onechippenham.org.uk/wp-content/uploads/2024/01/FB_IMG_16970915832952.jpg
ORGANIZER;CN="Runny Snotts":MAILTO:runnysnott@gmail.com
END:VEVENT
END:VCALENDAR