BEGIN:VCALENDAR
VERSION:2.0
PRODID:-//One Chippenham - ECPv6.15.20//NONSGML v1.0//EN
CALSCALE:GREGORIAN
METHOD:PUBLISH
X-ORIGINAL-URL:https://onechippenham.org.uk
X-WR-CALDESC:Events for One Chippenham
REFRESH-INTERVAL;VALUE=DURATION:PT1H
X-Robots-Tag:noindex
X-PUBLISHED-TTL:PT1H
BEGIN:VTIMEZONE
TZID:Europe/London
BEGIN:DAYLIGHT
TZOFFSETFROM:+0000
TZOFFSETTO:+0100
TZNAME:BST
DTSTART:20230326T010000
END:DAYLIGHT
BEGIN:STANDARD
TZOFFSETFROM:+0100
TZOFFSETTO:+0000
TZNAME:GMT
DTSTART:20231029T010000
END:STANDARD
BEGIN:DAYLIGHT
TZOFFSETFROM:+0000
TZOFFSETTO:+0100
TZNAME:BST
DTSTART:20240331T010000
END:DAYLIGHT
BEGIN:STANDARD
TZOFFSETFROM:+0100
TZOFFSETTO:+0000
TZNAME:GMT
DTSTART:20241027T010000
END:STANDARD
BEGIN:DAYLIGHT
TZOFFSETFROM:+0000
TZOFFSETTO:+0100
TZNAME:BST
DTSTART:20250330T010000
END:DAYLIGHT
BEGIN:STANDARD
TZOFFSETFROM:+0100
TZOFFSETTO:+0000
TZNAME:GMT
DTSTART:20251026T010000
END:STANDARD
END:VTIMEZONE
BEGIN:VEVENT
DTSTART;TZID=Europe/London:20240511T193000
DTEND;TZID=Europe/London:20240511T220000
DTSTAMP:20260423T173335
CREATED:20230915T105007Z
LAST-MODIFIED:20230915T105007Z
UID:15417-1715455800-1715464800@onechippenham.org.uk
SUMMARY:The Fureys
DESCRIPTION:When The Fureys make their eagerly awaited return to the Neeld\, they will treat their audience to one of popular music’s richest legacies. \nThey are one of Ireland’s all-time most acclaimed and influential middle of the road\, folk and traditional bands. Fureys’ classics like I Will Love You\, When You Were Sweet 16\, Red Rose Café\, Leaving Nancy\, The Old Man\, From Clare to Here and The Green Fields of France have become the soundtrack to the lives of fans all over the world. \nThe Furey brothers were still trying to make it as folk singers in the late Sixties when Eddie Furey shared flats in Scotland with then fellow folk stars-in-waiting\, Billy Connolly and Gerry Rafferty (of Baker Street fame). \nEddie and George Furey are particularly proud of their UK chart success with songs such as I Will Love You and When You Were Sweet Sixteen\, which in turn helped bring Irish folk and traditional music to a completely new audience. The band made their Top of the Pops debut in 1981. \nEddie Furey recalls how “many musicians have told us we influenced them after hearing a record from their parents’ or grandparents’ collection”. Dave Stewart of The Eurythmics has credited Eddie with teaching him his first chords on the guitar. Eddie would return the compliment by joining Dave on stage in Paris for a jam during the latter’s wedding to Bananarama’s Siobhan Fahey.
URL:https://onechippenham.org.uk/event/the-fureys-2/
LOCATION:Neeld Community & Arts Centre\, The Neeld\, High Street\, Chippenham\, Wiltshire\, SN15 3ER\, United Kingdom
CATEGORIES:Music
ATTACH;FMTTYPE=image/jpeg:https://onechippenham.org.uk/wp-content/uploads/2023/09/Fureys-photo-16-Copy-scaled.jpg
END:VEVENT
END:VCALENDAR