BEGIN:VCALENDAR
VERSION:2.0
PRODID:-//One Chippenham - ECPv6.15.20//NONSGML v1.0//EN
CALSCALE:GREGORIAN
METHOD:PUBLISH
X-ORIGINAL-URL:https://onechippenham.org.uk
X-WR-CALDESC:Events for One Chippenham
REFRESH-INTERVAL;VALUE=DURATION:PT1H
X-Robots-Tag:noindex
X-PUBLISHED-TTL:PT1H
BEGIN:VTIMEZONE
TZID:Europe/London
BEGIN:DAYLIGHT
TZOFFSETFROM:+0000
TZOFFSETTO:+0100
TZNAME:BST
DTSTART:20230326T010000
END:DAYLIGHT
BEGIN:STANDARD
TZOFFSETFROM:+0100
TZOFFSETTO:+0000
TZNAME:GMT
DTSTART:20231029T010000
END:STANDARD
BEGIN:DAYLIGHT
TZOFFSETFROM:+0000
TZOFFSETTO:+0100
TZNAME:BST
DTSTART:20240331T010000
END:DAYLIGHT
BEGIN:STANDARD
TZOFFSETFROM:+0100
TZOFFSETTO:+0000
TZNAME:GMT
DTSTART:20241027T010000
END:STANDARD
BEGIN:DAYLIGHT
TZOFFSETFROM:+0000
TZOFFSETTO:+0100
TZNAME:BST
DTSTART:20250330T010000
END:DAYLIGHT
BEGIN:STANDARD
TZOFFSETFROM:+0100
TZOFFSETTO:+0000
TZNAME:GMT
DTSTART:20251026T010000
END:STANDARD
END:VTIMEZONE
BEGIN:VEVENT
DTSTART;TZID=Europe/London:20240604T110000
DTEND;TZID=Europe/London:20240604T120000
DTSTAMP:20260422T070846
CREATED:20240506T083038Z
LAST-MODIFIED:20240506T083038Z
UID:29981-1717498800-1717502400@onechippenham.org.uk
SUMMARY:Trio Paradis Café Concert at St Andrew’s
DESCRIPTION:Trio Paradis play a Café Concert at St Andrew’s on the first Tuesday morning of each month (except January) at 11am: informal feel-good music events with refreshments available in the pop-up café half an hour before the concert\, where you can meet friends and make new ones over tea/coffee and cakes. \nOur programme for June is inspired by a variety of flowers… and gardens\, with music by Lili Boulanger – D’un Jardin clair\, Muriel Herbert\, Rud Langgaard: Fjeldblomster\, Dora Pejacevic Violets\, Franz Schubert Heidenröslein\, Germaine Tailleferre Fleurs de France\, and more. As it’s June\, roses are featured\, including Fauré: Roses d’Isphahan\, Roses from the South by Johann Strauss and Honeysuckle Rose by Thomas ‘Fats’ Waller. \nConcerts last c45m and entrance – or rather\, exit! – is by pay-what-you-feel donation\, with a retiring collection. All ages welcome\, including children.
URL:https://onechippenham.org.uk/event/trio-paradis-cafe-concert-at-st-andrews/
LOCATION:St Andrew’s Church\, St Mary’s Street\, Chippenham\, SN15 3JN\, United Kingdom
CATEGORIES:Music
ATTACH;FMTTYPE=image/jpeg:https://onechippenham.org.uk/wp-content/uploads/2024/05/IMG_1967.jpeg
ORGANIZER;CN="Trio Paradis":MAILTO:trioparadis@gmail.com
END:VEVENT
BEGIN:VEVENT
DTSTART;TZID=Europe/London:20240604T193000
DTEND;TZID=Europe/London:20240604T210000
DTSTAMP:20260422T070846
CREATED:20230904T122600Z
LAST-MODIFIED:20230904T122600Z
UID:14897-1717529400-1717534800@onechippenham.org.uk
SUMMARY:Allsorts Community Choir
DESCRIPTION:Allsorts Community Choir in Chippenham meet on Tuesday evenings from 7.30pm at Sheldon Road Methodist Church. \nAll sorts of age and gender welcome. No singing experience necessary. No need to read music\, No auditions\, basically if you’re enthusiastic and committed\, you’re in! All sorts of music styles from swing to gospel to folk and pop with a generous helping of everything in between. \nTwo weeks free trial\, then £3 per session (paid termly).
URL:https://onechippenham.org.uk/event/allsorts-community-choir-4/2024-06-04/
LOCATION:Sheldon Methodist Church\, Audley Road\, SN14 0DU
CATEGORIES:Choir,Community,Music,Singing
ATTACH;FMTTYPE=image/jpeg:https://onechippenham.org.uk/wp-content/uploads/2023/08/Photo-06-08-2023-13-24-24-scaled.jpg
ORGANIZER;CN="Allsorts Community Choir":MAILTO:allsortschippenham@hotmail.com
END:VEVENT
END:VCALENDAR