BEGIN:VCALENDAR
VERSION:2.0
PRODID:-//One Chippenham - ECPv6.15.20//NONSGML v1.0//EN
CALSCALE:GREGORIAN
METHOD:PUBLISH
X-ORIGINAL-URL:https://onechippenham.org.uk
X-WR-CALDESC:Events for One Chippenham
REFRESH-INTERVAL;VALUE=DURATION:PT1H
X-Robots-Tag:noindex
X-PUBLISHED-TTL:PT1H
BEGIN:VTIMEZONE
TZID:Europe/London
BEGIN:DAYLIGHT
TZOFFSETFROM:+0000
TZOFFSETTO:+0100
TZNAME:BST
DTSTART:20220327T010000
END:DAYLIGHT
BEGIN:STANDARD
TZOFFSETFROM:+0100
TZOFFSETTO:+0000
TZNAME:GMT
DTSTART:20221030T010000
END:STANDARD
BEGIN:DAYLIGHT
TZOFFSETFROM:+0000
TZOFFSETTO:+0100
TZNAME:BST
DTSTART:20230326T010000
END:DAYLIGHT
BEGIN:STANDARD
TZOFFSETFROM:+0100
TZOFFSETTO:+0000
TZNAME:GMT
DTSTART:20231029T010000
END:STANDARD
BEGIN:DAYLIGHT
TZOFFSETFROM:+0000
TZOFFSETTO:+0100
TZNAME:BST
DTSTART:20240331T010000
END:DAYLIGHT
BEGIN:STANDARD
TZOFFSETFROM:+0100
TZOFFSETTO:+0000
TZNAME:GMT
DTSTART:20241027T010000
END:STANDARD
END:VTIMEZONE
BEGIN:VEVENT
DTSTART;TZID=Europe/London:20231201T180000
DTEND;TZID=Europe/London:20231201T180000
DTSTAMP:20260426T034737
CREATED:20231125T082724Z
LAST-MODIFIED:20231125T083026Z
UID:21424-1701453600-1701453600@onechippenham.org.uk
SUMMARY:Luke Gittins EP Showcase Event
DESCRIPTION:Grab a slice of pizza\, enjoy a glass of wine and listen to the first ever live playthrough of Waited A Lifetime. \nPlus\, one of the last chances to buy a first edition of the Waited A Lifetime CD. \nWith Mitzi Irish opening the show if you were thinking about coming\, make sure to grab your tickets now before we sell out! \nhttps://www.ticketsource.co.uk/the-pewsham-livemusic
URL:https://onechippenham.org.uk/event/luke-gittins-ep-showcase-event/
LOCATION:The Pewsham\, The Pewsham\, Chippenham\, Wiltshire\, SN15 3RU\, United Kingdom
CATEGORIES:Arts,Music,Performance
ATTACH;FMTTYPE=image/jpeg:https://onechippenham.org.uk/wp-content/uploads/2023/11/IMG_8647.jpeg
END:VEVENT
BEGIN:VEVENT
DTSTART;TZID=Europe/London:20231201T200000
DTEND;TZID=Europe/London:20231201T200000
DTSTAMP:20260426T034737
CREATED:20231201T092332Z
LAST-MODIFIED:20231201T092407Z
UID:24061-1701460800-1701460800@onechippenham.org.uk
SUMMARY:Vamos Productions presents Will Lawton & The Alchemists with Mac Lloyd
DESCRIPTION:Friday night with Will and the Alchemists and Mac Lloyd at the Old Road Tavern is going to be a special night. Don’t miss it!
URL:https://onechippenham.org.uk/event/vamos-productions-presents-will-lawton-the-alchemists-with-mac-lloyd/
LOCATION:The Old Road Tavern\, SN15 1JA
CATEGORIES:Gig,Music
ATTACH;FMTTYPE=image/jpeg:https://onechippenham.org.uk/wp-content/uploads/2023/12/IMG_8769.jpeg
ORGANIZER;CN="Vamos Productions":MAILTO:vamospromo@gmail.com
END:VEVENT
END:VCALENDAR