BEGIN:VCALENDAR
VERSION:2.0
PRODID:-//One Chippenham - ECPv6.15.20//NONSGML v1.0//EN
CALSCALE:GREGORIAN
METHOD:PUBLISH
X-ORIGINAL-URL:https://onechippenham.org.uk
X-WR-CALDESC:Events for One Chippenham
REFRESH-INTERVAL;VALUE=DURATION:PT1H
X-Robots-Tag:noindex
X-PUBLISHED-TTL:PT1H
BEGIN:VTIMEZONE
TZID:Europe/London
BEGIN:DAYLIGHT
TZOFFSETFROM:+0000
TZOFFSETTO:+0100
TZNAME:BST
DTSTART:20230326T010000
END:DAYLIGHT
BEGIN:STANDARD
TZOFFSETFROM:+0100
TZOFFSETTO:+0000
TZNAME:GMT
DTSTART:20231029T010000
END:STANDARD
BEGIN:DAYLIGHT
TZOFFSETFROM:+0000
TZOFFSETTO:+0100
TZNAME:BST
DTSTART:20240331T010000
END:DAYLIGHT
BEGIN:STANDARD
TZOFFSETFROM:+0100
TZOFFSETTO:+0000
TZNAME:GMT
DTSTART:20241027T010000
END:STANDARD
BEGIN:DAYLIGHT
TZOFFSETFROM:+0000
TZOFFSETTO:+0100
TZNAME:BST
DTSTART:20250330T010000
END:DAYLIGHT
BEGIN:STANDARD
TZOFFSETFROM:+0100
TZOFFSETTO:+0000
TZNAME:GMT
DTSTART:20251026T010000
END:STANDARD
END:VTIMEZONE
BEGIN:VEVENT
DTSTART;TZID=Europe/London:20240206T110000
DTEND;TZID=Europe/London:20240206T120000
DTSTAMP:20260424T170536
CREATED:20231227T085213Z
LAST-MODIFIED:20231227T085213Z
UID:25265-1707217200-1707220800@onechippenham.org.uk
SUMMARY:Café Concert at St Andrew’s Church
DESCRIPTION:NEW SERIES\nTrio Paradis (Jacquelyn Bevan – piano\, Lisa Betteridge – violin & Linda Stocks – cello) bring a brand new series of monthly Café Concerts to Chippenham. \nEvery first Tuesday of each month at 11am in the beautiful surroundings and fine acoustic of St Andrew’s Church they will play an informal concert with a pop-up café from 10.30am\, where you can meet friends and make new ones over tea/coffee and cakes\, and then enjoy live music. \n‘Iberia’ is a collection of music by mostly Spanish composers to bring us some sunshine during February\, including Turina’s Circulo and works by de Falla\, Fernandez-Arbos\, Albeniz and others. \nThe concert lasts c45m and entrance is by donation\, with a retiring collection. All ages welcome\, including children. A cake and a drink in the café costs £3.50. There’s no need to book\, just turn up early for best choice of seat/cake. \nMore information at www.trioparadis.com.
URL:https://onechippenham.org.uk/event/cafe-concert-at-st-andrews-church/
LOCATION:St Andrew’s Church\, St Mary’s Street\, Chippenham\, SN15 3JN\, United Kingdom
CATEGORIES:Concert,Music
ATTACH;FMTTYPE=image/jpeg:https://onechippenham.org.uk/wp-content/uploads/2023/12/E3D42C95-BAAF-41C0-88BD-91C1376DA080.jpeg
ORGANIZER;CN="Trio Paradis":MAILTO:trioparadis@gmail.com
END:VEVENT
BEGIN:VEVENT
DTSTART;TZID=Europe/London:20240209T193000
DTEND;TZID=Europe/London:20240209T220000
DTSTAMP:20260424T170536
CREATED:20231101T093827Z
LAST-MODIFIED:20240205T225358Z
UID:16391-1707507000-1707516000@onechippenham.org.uk
SUMMARY:Counterfeit Sixties Show
DESCRIPTION:Re-live the sounds of the swinging sixties\, as Britain’s No. 1 tribute show brings alive the magic of the sixties\, with their tribute to over twenty five bands of that era. The show encompasses everything from that period\, from the clothes that were worn\, to flashbacks from television history\, including: TV programmes\, adverts and even clips from the original bands. \nThe Counterfeit Sixties presents a showcase of the great bands of this unforgettable time. The fantastic music of The Beatles\, The Rolling Stones\, The Who\, The Dave Clark Five\, The Kinks and The Monkees – to name but a few – all recreated in this stunning show. \nThe band members have performed their unique tribute shows all over the UK and abroad\, and have a wide range of experience in that field. The members of the band have individually worked with notable sixties’ artists such as The Searchers\, The Ivy League\, The Fortunes\, The Tremeloes and many more. \nJoin us for a night of sixties nostalgia!
URL:https://onechippenham.org.uk/event/counterfeit-sixties-show/
LOCATION:Neeld Community & Arts Centre\, The Neeld\, High Street\, Chippenham\, Wiltshire\, SN15 3ER\, United Kingdom
CATEGORIES:Music
ATTACH;FMTTYPE=image/jpeg:https://onechippenham.org.uk/wp-content/uploads/2023/10/The_Counterfeit_Sixites_Poster__NO_BOX__web_large.jpg
END:VEVENT
END:VCALENDAR