BEGIN:VCALENDAR
VERSION:2.0
PRODID:-//One Chippenham - ECPv6.15.20//NONSGML v1.0//EN
CALSCALE:GREGORIAN
METHOD:PUBLISH
X-ORIGINAL-URL:https://onechippenham.org.uk
X-WR-CALDESC:Events for One Chippenham
REFRESH-INTERVAL;VALUE=DURATION:PT1H
X-Robots-Tag:noindex
X-PUBLISHED-TTL:PT1H
BEGIN:VTIMEZONE
TZID:Europe/London
BEGIN:DAYLIGHT
TZOFFSETFROM:+0000
TZOFFSETTO:+0100
TZNAME:BST
DTSTART:20230326T010000
END:DAYLIGHT
BEGIN:STANDARD
TZOFFSETFROM:+0100
TZOFFSETTO:+0000
TZNAME:GMT
DTSTART:20231029T010000
END:STANDARD
BEGIN:DAYLIGHT
TZOFFSETFROM:+0000
TZOFFSETTO:+0100
TZNAME:BST
DTSTART:20240331T010000
END:DAYLIGHT
BEGIN:STANDARD
TZOFFSETFROM:+0100
TZOFFSETTO:+0000
TZNAME:GMT
DTSTART:20241027T010000
END:STANDARD
BEGIN:DAYLIGHT
TZOFFSETFROM:+0000
TZOFFSETTO:+0100
TZNAME:BST
DTSTART:20250330T010000
END:DAYLIGHT
BEGIN:STANDARD
TZOFFSETFROM:+0100
TZOFFSETTO:+0000
TZNAME:GMT
DTSTART:20251026T010000
END:STANDARD
END:VTIMEZONE
BEGIN:VEVENT
DTSTART;TZID=Europe/London:20240224T150000
DTEND;TZID=Europe/London:20240224T160000
DTSTAMP:20260425T151455
CREATED:20240130T215628Z
LAST-MODIFIED:20240130T221526Z
UID:26665-1708786800-1708790400@onechippenham.org.uk
SUMMARY:'Steppin' Thru Time'\, Fringe Feb
DESCRIPTION:Mary Lou Revue\, a vintage song and dance duo presents ‘Steppin’ Thru Time’; a celebration of music and stars from the 1930s through to the 1970s. \n\nThe show\, featuring classic songs made famous by Frank Sinatra\, Louis Armstrong\, Tom Jones\, Ella Fitzgerald\, Peggy Lee and the Mammas and Papas\, will have you tapping your toes and singing along. \nWith timeless melodies and nifty dance moves\, there’s something for all ages. Guaranteed to put a spring in your step and a song in your heart. \n\nDoors Open 2.30pm\, with the performance running from 3-4pm\nTickets £5 (+ booking fee)\nBook tickets here: https://www.ticketsource.co.uk/chippenhamchat/t-earxvzy\n\n\nThis event is part of a three-day arts festival happening around Chippenham from the 23rd-25th February. Find out more about Chippenham Fringe Feb 2024 and the other creative and vibrant Fringe performances and activities taking place by visiting our website here. \nChippenham Fringe Feb is produced and delivered by Melt Productions in collaboration with Chippenham Borough Lands Charity (CBLC) and the Chippenham Chat group. Funding for the event is provided by Chippenham Borough Lands Charity. \n#FringeFeb24 #FringeFeb #ChippEvents \n 
URL:https://onechippenham.org.uk/event/steppin-thru-time-fringe-feb/
LOCATION:The Yelde Hall
CATEGORIES:Adults,Arts,Dance,Family Friendly,Fringe Feb,Music,Over 60's,Performance,Performing Arts
ATTACH;FMTTYPE=image/png:https://onechippenham.org.uk/wp-content/uploads/2024/01/Mary-Lou-Revue.png
END:VEVENT
BEGIN:VEVENT
DTSTART;TZID=Europe/London:20240224T163000
DTEND;TZID=Europe/London:20240224T180000
DTSTAMP:20260425T151455
CREATED:20240131T093805Z
LAST-MODIFIED:20240221T150119Z
UID:26702-1708792200-1708797600@onechippenham.org.uk
SUMMARY:The Rosellys at The Rivo Lounge\, Fringe Feb
DESCRIPTION:Calling all fans of original Country and Americana – the Rosellys will be performing upstairs at The Rivo Lounge with beautiful harmonies and an array of instruments\, including pedal guitar. \nThe Rosellys are a 5-piece British-Americana band with a love for alternative country music\, The Rosellys draw influence from artists like James Taylor\, Chris Stapleton and Alison Krauss to name a few. \nThe family-led band is not short of musical talent\, with vocals\, guitar\, banjo\, drums\, keys\, fiddle\, peddle steel\, accordian and bass all accounted for. \n“Production is top-dollar and this is a band full of taste and talent\, an outfit with a firm grip and grasp of the modern country scene” (Music News Nashville) \n“The Rosellys displayed boundless energy” (American UK Live Review\, 2023) \n“Capturing the essence of country\, with folk ingredients baked into a transatlantic roots fusion” (R2 Magazine) \n“The Rosellys blend English accents with lyrical references to both the UK and US alongside well pitched bass\, feisty drum beats and stunning pedal steel and fiddle to create a sound that walks the fine line between Celtic folk and Americana” (Nashville Over Here) \n\n4:30PM – 6:30PM upstairs at The Rivo Lounge\n£5.00 (+booking fee)\nDiscounted tickets for ages 18-29yr olds\nBook your tickets in advance here. \n\n\nThis event is part of a three-day arts festival happening around Chippenham from the 23rd-25th February. Find out more about Chippenham Fringe Feb 2024 and the other creative and vibrant Fringe performances and activities taking place by visiting here. \nChippenham Fringe Feb is produced and delivered by Melt Productions in collaboration with Chippenham Borough Lands Charity (CBLC) and the Chippenham Chat group. Funding for the event is provided by Chippenham Borough Lands Charity. \n#FringeFeb24 #FringeFeb #ChippEvents
URL:https://onechippenham.org.uk/event/the-rosellys/
LOCATION:The Rivo Lounge\, 2-4 The Bridge\, Chippenham\, SN151EX
CATEGORIES:Adults,Concert,Family Friendly,Fringe Feb,Live band,Music,Performance,Performing Arts
ATTACH;FMTTYPE=image/jpeg:https://onechippenham.org.uk/wp-content/uploads/2024/01/Rosellys.jpg
END:VEVENT
BEGIN:VEVENT
DTSTART;TZID=Europe/London:20240224T180000
DTEND;TZID=Europe/London:20240224T230000
DTSTAMP:20260425T151455
CREATED:20240207T224114Z
LAST-MODIFIED:20240212T131130Z
UID:27252-1708797600-1708815600@onechippenham.org.uk
SUMMARY:Fringe Feb Megashow by Vamos Promotions
DESCRIPTION:The MEGASHOW is back!! Vamos Promotions present… The Chippenham Fringe February MEGA SHOW!  \n\nTaking place at the Old Road Tavern on Saturday 24th Feb. Check out all the awesome acts they have playing and be sure to head on over to the pub! \n  \nSHARPIE on at 6pm then alternating stages every half hour. \n\nIn the BARN:\n\nSHARPIE \nMISS KILL\nQARIAQ\nCRACKED MACHINE\nMOSAIC\n\n\n\n\nIn the PUB:\n\nTHE REAL CHEESEMAKERS (acoustic)\nCHARLTON LANE\nHARMONY\nCHEWS LIFE\n\n\nFREE ENTRY thanks to support from Chippenham Borough Lands Charity\, with Melt Productions and One Chippenham.\n\n  \n\nThis event is part of a three-day arts festival happening around Chippenham from the 23rd-25th February. Find out more about Chippenham Fringe Feb 2024 and the other creative and vibrant Fringe performances and activities taking place by visiting our website here. \nChippenham Fringe Feb is produced and delivered by Melt Productions in collaboration with Chippenham Borough Lands Charity (CBLC) and the Chippenham Chat group. Funding for the event is provided by Chippenham Borough Lands Charity. \n#FringeFeb24 #FringeFeb #ChippEvent
URL:https://onechippenham.org.uk/event/27252/
LOCATION:The Old Road Tavern\, SN15 1JA
CATEGORIES:Fringe Feb,Gig,Music
ATTACH;FMTTYPE=image/jpeg:https://onechippenham.org.uk/wp-content/uploads/2024/02/FF-.jpeg
END:VEVENT
BEGIN:VEVENT
DTSTART;TZID=Europe/London:20240224T190000
DTEND;TZID=Europe/London:20240224T213000
DTSTAMP:20260425T151455
CREATED:20240206T132310Z
LAST-MODIFIED:20240206T132310Z
UID:26988-1708801200-1708810200@onechippenham.org.uk
SUMMARY:Acoustic Musical Circle
DESCRIPTION:A relaxed and informal evening of acoustic music where you can perform a song or join in a chorus or sit back and listen.
URL:https://onechippenham.org.uk/event/acoustic-musical-circle/
LOCATION:The Cause Music and Arts Centre\, 42 The Causeway\, Chippenham\, Wiltshire\, SN15 3DD\, United Kingdom
CATEGORIES:Music
ATTACH;FMTTYPE=image/jpeg:https://onechippenham.org.uk/wp-content/uploads/2024/02/Musical-circle-Feb-24.jpg
ORGANIZER;CN="The Cause Music and Arts":MAILTO:fred@thecausevenue.com
END:VEVENT
BEGIN:VEVENT
DTSTART;TZID=Europe/London:20240224T200000
DTEND;TZID=Europe/London:20240224T220000
DTSTAMP:20260425T151455
CREATED:20240207T211442Z
LAST-MODIFIED:20240207T214410Z
UID:27036-1708804800-1708812000@onechippenham.org.uk
SUMMARY:Rent the musical! Excerpts from the show at Wine Monkey
DESCRIPTION:Catch excerpts from the upcoming musical Rent\, performed by the fabulous cast of the Maple Theatre Company—experience the essence of ‘La Vie Boheme!’ A sneak peak before the full production at the Rondo Theatre\, Bath\, 13-16 March. \nWine Monkey opening hours as usual. First come\, first served; no table bookings are being accepted for this event. \nThe Chippenham Fringe Feb Festival kicks off from Friday 23rd until Sunday 25th February packed with a diverse range of entertaining events for all ages across Chippenham. Highlights include comedy shows\, live music performances\, an art exhibition\, interactive workshops\, and family-friendly activities\, ensuring there’s something for everyone to enjoy – with affordable entry fees or free! Details and the full programme can be found here https://onechippenham.org.uk/fringefeb/. \nSuitable for 18+
URL:https://onechippenham.org.uk/event/rent-the-musical-excerpts-from-the-show-at-wine-monkey/
LOCATION:The Cellar by Wine Monkey\, 20 Borough Parade\, Chippenham\, SN15 3WL\, United Kingdom
CATEGORIES:Food and Drink,Fringe Feb,Music,Theatre
END:VEVENT
BEGIN:VEVENT
DTSTART;TZID=Europe/London:20240225T170000
DTEND;TZID=Europe/London:20240225T170000
DTSTAMP:20260425T151455
CREATED:20240214T072848Z
LAST-MODIFIED:20240214T072848Z
UID:27683-1708880400-1708880400@onechippenham.org.uk
SUMMARY:Lucky Number 7 and Work Experience live at The Old Road Tavern
DESCRIPTION:Lucky Number Seven and Work Experience play a special Sunday afternoon show at the Old Road Tavern as part of Chippenham Fringe Feb 2024! \nThe gig starts at 5pm and is COMPLETELY FREE thanks to support from Chippenham Borough Lands Charity and Melt Productions. \nSearch Fringe Feb for a complete list of all the events happening over the weekend\, including our own Fringe Feb MEGASHOW on Saturday 24th. \nLUCKY NUMBER SEVEN are an alternative-rock band\, with a lot of on stage energy they bring you a dramatic\, “in your face” stage performance. With influences from the likes of Placebo\, Nirvana\, and Muse. Their melancholic stories and toxic love fuelled lyrics paint a taboo picture of passion and lust. \nWORK EXPERIENCE are a pop-punk band from Chippenham\, expect high energy songs\, catchy guitar hooks\, and a huge dose of Blink-influenced fun. \nThe Old Road Open Mic starts after at 8pm. \n\n  \n 
URL:https://onechippenham.org.uk/event/lucky-number-7-and-work-experience-live-at-the-old-road-tavern/
LOCATION:The Old Road Tavern\, SN15 1JA
CATEGORIES:Gig,Music
ATTACH;FMTTYPE=image/jpeg:https://onechippenham.org.uk/wp-content/uploads/2024/02/IMG_0761.jpeg
END:VEVENT
END:VCALENDAR