BEGIN:VCALENDAR
VERSION:2.0
PRODID:-//One Chippenham - ECPv6.15.20//NONSGML v1.0//EN
CALSCALE:GREGORIAN
METHOD:PUBLISH
X-WR-CALNAME:One Chippenham
X-ORIGINAL-URL:https://onechippenham.org.uk
X-WR-CALDESC:Events for One Chippenham
REFRESH-INTERVAL;VALUE=DURATION:PT1H
X-Robots-Tag:noindex
X-PUBLISHED-TTL:PT1H
BEGIN:VTIMEZONE
TZID:Europe/London
BEGIN:DAYLIGHT
TZOFFSETFROM:+0000
TZOFFSETTO:+0100
TZNAME:BST
DTSTART:20230326T010000
END:DAYLIGHT
BEGIN:STANDARD
TZOFFSETFROM:+0100
TZOFFSETTO:+0000
TZNAME:GMT
DTSTART:20231029T010000
END:STANDARD
BEGIN:DAYLIGHT
TZOFFSETFROM:+0000
TZOFFSETTO:+0100
TZNAME:BST
DTSTART:20240331T010000
END:DAYLIGHT
BEGIN:STANDARD
TZOFFSETFROM:+0100
TZOFFSETTO:+0000
TZNAME:GMT
DTSTART:20241027T010000
END:STANDARD
BEGIN:DAYLIGHT
TZOFFSETFROM:+0000
TZOFFSETTO:+0100
TZNAME:BST
DTSTART:20250330T010000
END:DAYLIGHT
BEGIN:STANDARD
TZOFFSETFROM:+0100
TZOFFSETTO:+0000
TZNAME:GMT
DTSTART:20251026T010000
END:STANDARD
END:VTIMEZONE
BEGIN:VEVENT
DTSTART;TZID=Europe/London:20240405T200000
DTEND;TZID=Europe/London:20240405T200000
DTSTAMP:20260423T073241
CREATED:20240325T102621Z
LAST-MODIFIED:20240325T102717Z
UID:28705-1712347200-1712347200@onechippenham.org.uk
SUMMARY:Reuben’s Daughters & Harmer Jays at The Old Road Tavern
DESCRIPTION:Friday 5th April\, Vamos Promotions bring Reuben’s Daughters to Chippenham! 8pm start\, pay what you want entry. \nReuben’s Daughters\nAn artist of a region where alternative-pop is like a second religion Reuben Myles Tyghe\, aka Reuben’s Daughters has been evolving for almost two decades at the heart of the local independent scene in the South West of England. In 2022\, Reuben wrote a new chapter in his musical history\, with a debut album\, under the name Reuben’s Daughters. A sunnier\, more catchy and even pleasantly heady chapter. “Mami Wata”\, like the African goddess of the same name\, immediately seduces by her brilliance. The album is an adventure with\npsychedelic and hopping tones of which Reuben and a few conscripts have the secret. \nHis ‘daughters’ accompany on the stage\, in the studio and with all creative elements. Behind this nickname\, both intimate and affectionate\, hide the pillars of a rock-solid pop architecture. Musicians\, producers\, photographers\, directors\, designers who are the precious artisans collaborating on an energetic record to which everyone contributes. A collective at the service of the song\, a hive of creators whose harmonious buzz is heard from the\nfirst notes and then slides throughout an album that can be alternately catchy or exploratory.\nMami Wata was released 1st April 2022 via French label Microcultures Records to world-wide acclaim\, with lead singles playlisted on French national radio station FIP and BBC 6 Music airing courtesy of Steve Lamacq. \nReuben’s Daughters are currently finishing the follow up to Mami Wata\, which will be released in Autumn 2024 and will be touring the UK throughout the year. \nHarmer Jays\nBristol-based artist Harmer Jays is a rising force in the indie-pop scene with his evocative sound and soulful vocals. In his music\, Harmer Jays masterfully blends rich instrumentation with powerful vocals that come to the forefront\, delivering a truly unique listening experience. His lyrics explore a range of themes\, from the breathtaking bioluminescent waves in California to the struggles of maintaining relationships in the digital age. \nPay what you want on the door or advance etickets – https://www.ticketsource.co.uk/riverbank-studios/reubens-daughters-harmer-jays-at-the-old-road-tavern/2024-04-05/20:00/t-xmjlnqk? \n 
URL:https://onechippenham.org.uk/event/reubens-daughters-harmer-jays-at-the-old-road-tavern/
LOCATION:The Old Road Tavern\, SN15 1JA
CATEGORIES:Gig,Music
ATTACH;FMTTYPE=image/jpeg:https://onechippenham.org.uk/wp-content/uploads/2024/03/IMG_2541.jpeg
END:VEVENT
END:VCALENDAR