BEGIN:VCALENDAR
VERSION:2.0
PRODID:-//One Chippenham - ECPv6.15.20//NONSGML v1.0//EN
CALSCALE:GREGORIAN
METHOD:PUBLISH
X-ORIGINAL-URL:https://onechippenham.org.uk
X-WR-CALDESC:Events for One Chippenham
REFRESH-INTERVAL;VALUE=DURATION:PT1H
X-Robots-Tag:noindex
X-PUBLISHED-TTL:PT1H
BEGIN:VTIMEZONE
TZID:Europe/London
BEGIN:DAYLIGHT
TZOFFSETFROM:+0000
TZOFFSETTO:+0100
TZNAME:BST
DTSTART:20230326T010000
END:DAYLIGHT
BEGIN:STANDARD
TZOFFSETFROM:+0100
TZOFFSETTO:+0000
TZNAME:GMT
DTSTART:20231029T010000
END:STANDARD
BEGIN:DAYLIGHT
TZOFFSETFROM:+0000
TZOFFSETTO:+0100
TZNAME:BST
DTSTART:20240331T010000
END:DAYLIGHT
BEGIN:STANDARD
TZOFFSETFROM:+0100
TZOFFSETTO:+0000
TZNAME:GMT
DTSTART:20241027T010000
END:STANDARD
BEGIN:DAYLIGHT
TZOFFSETFROM:+0000
TZOFFSETTO:+0100
TZNAME:BST
DTSTART:20250330T010000
END:DAYLIGHT
BEGIN:STANDARD
TZOFFSETFROM:+0100
TZOFFSETTO:+0000
TZNAME:GMT
DTSTART:20251026T010000
END:STANDARD
END:VTIMEZONE
BEGIN:VEVENT
DTSTART;VALUE=DATE:20240524
DTEND;VALUE=DATE:20240528
DTSTAMP:20260421T225211
CREATED:20240415T093658Z
LAST-MODIFIED:20240415T093658Z
UID:29257-1716508800-1716854399@onechippenham.org.uk
SUMMARY:Chippenham Folk Festival 2024
DESCRIPTION:Building on the huge success of the 2023 festival\, our amazing team of volunteers has been working flat out to ensure the 51st Chippenham Folk Festival in 2024 will again exceed all expectations. \nWe have now confirmed over 200 artists and performers from across the UK and beyond\, turning Chippenham town into a blaze of colour\, music\, dance\, fun and laughter. A great weekend for every age and family. \nWith a range of ticket options as well as a free family and Community programme on Island Park there’s something for everyone . See the website for full details
URL:https://onechippenham.org.uk/event/chippenham-folk-festival-2024/
LOCATION:Island Park\, Chippenham
CATEGORIES:Circus,Crafts,Dance,Music
ATTACH;FMTTYPE=image/jpeg:https://onechippenham.org.uk/wp-content/uploads/2024/04/2.jpg
ORGANIZER;CN="Chippenham Folk Festival":MAILTO:info@chippfolk.co.uk
END:VEVENT
BEGIN:VEVENT
DTSTART;TZID=Europe/London:20240531T183000
DTEND;TZID=Europe/London:20240531T220000
DTSTAMP:20260421T225211
CREATED:20240529T152540Z
LAST-MODIFIED:20240529T152641Z
UID:30631-1717180200-1717192800@onechippenham.org.uk
SUMMARY:Glitz and Glam - Fundraising Night for Chippenham Pride
DESCRIPTION:Join us for a night of Glitz and Glam at The Cellar by Wine Monkey in Chippenham this Friday 31st May! \nWe have a fun quiz hosted by Chippenham’s own Glamour-puss Sheila Tackya\, live music from ZambaLando 🎶 lots of opportunities to win prizes and of course Wine Monkey’s fabulous array of fine wine\, delicious nibbles and fizz! 🥂 So come dressed to the nines in your glad-rags n’ sparkles and join us for a shimmy\, some fizz and fun! Entry to the venue is free. \n⭐ Quiz is £3 per person (Starts at 7pm)\n⭐ Games and raffle with prizes are priced individually\n⭐ Cash and Card payments accepted\n⭐ Under 18’s welcome if accompanied by an adult\, but must leave the premises by 9pm in line with licensing laws \nFundraising for Chippenham Pride 2024. \n#Chippenham #LoveWhereYouLive #Community #WhatsOn #Events #LGBTplus #BeAnAlly #LiveMusic
URL:https://onechippenham.org.uk/event/glitz-and-glam-fundraising-night-for-chippenham-pride/
LOCATION:The Cellar by Wine Monkey\, 20 Borough Parade\, Chippenham\, SN15 3WL\, United Kingdom
CATEGORIES:Adults,Games,Music,Quiz,Young adults
ATTACH;FMTTYPE=image/jpeg:https://onechippenham.org.uk/wp-content/uploads/2024/05/Screenshot_20240528-195832_Gallery.jpg
END:VEVENT
BEGIN:VEVENT
DTSTART;TZID=Europe/London:20240531T190000
DTEND;TZID=Europe/London:20240531T213000
DTSTAMP:20260421T225211
CREATED:20240103T092229Z
LAST-MODIFIED:20240103T092229Z
UID:25710-1717182000-1717191000@onechippenham.org.uk
SUMMARY:Music Cafe
DESCRIPTION:A popular music show with 5-7 different musical acts performing a variety of songs from jazz standards to folk to blues to classic pop with lots of fun! \nAlways the last Friday of the month and always different.
URL:https://onechippenham.org.uk/event/music-cafe-8/2024-05-31/
LOCATION:The Cause Music and Arts Centre\, 42 The Causeway\, Chippenham\, Wiltshire\, SN15 3DD\, United Kingdom
CATEGORIES:Community,Music
ATTACH;FMTTYPE=image/jpeg:https://onechippenham.org.uk/wp-content/uploads/2024/01/music-cafe-2024.jpg
ORGANIZER;CN="The Cause Music and Arts":MAILTO:fred@thecausevenue.com
END:VEVENT
BEGIN:VEVENT
DTSTART;TZID=Europe/London:20240601T140000
DTEND;TZID=Europe/London:20240601T180000
DTSTAMP:20260421T225211
CREATED:20240531T072905Z
LAST-MODIFIED:20240531T072928Z
UID:30687-1717250400-1717264800@onechippenham.org.uk
SUMMARY:Monkton Park Golf Course Charity Music Fete
DESCRIPTION:Join us for a fabulous afternoon of live music\, stalls and family fun to help raise funds for Chippenham District Transport. \nThere will be a cash bar\, BBQ and a variety of local businesses to support so it is set to be a fabulous afternoon. \n  \n 
URL:https://onechippenham.org.uk/event/monkton-park-golf-course-charity-music-fete/
LOCATION:Monkton Park Golf Course\, Monkton Park\, Chippenham\, Wiltshire\, SN15 3PE\, United Kingdom
CATEGORIES:Adults,Charity,Children,Fairs & Fetes,Family,Family Friendly,Music,Outdoor,Over 60's,Performance
ATTACH;FMTTYPE=image/jpeg:https://onechippenham.org.uk/wp-content/uploads/2024/05/IMG_4013.jpeg
END:VEVENT
END:VCALENDAR