BEGIN:VCALENDAR
VERSION:2.0
PRODID:-//One Chippenham - ECPv6.15.20//NONSGML v1.0//EN
CALSCALE:GREGORIAN
METHOD:PUBLISH
X-ORIGINAL-URL:https://onechippenham.org.uk
X-WR-CALDESC:Events for One Chippenham
REFRESH-INTERVAL;VALUE=DURATION:PT1H
X-Robots-Tag:noindex
X-PUBLISHED-TTL:PT1H
BEGIN:VTIMEZONE
TZID:Europe/London
BEGIN:DAYLIGHT
TZOFFSETFROM:+0000
TZOFFSETTO:+0100
TZNAME:BST
DTSTART:20220327T010000
END:DAYLIGHT
BEGIN:STANDARD
TZOFFSETFROM:+0100
TZOFFSETTO:+0000
TZNAME:GMT
DTSTART:20221030T010000
END:STANDARD
BEGIN:DAYLIGHT
TZOFFSETFROM:+0000
TZOFFSETTO:+0100
TZNAME:BST
DTSTART:20230326T010000
END:DAYLIGHT
BEGIN:STANDARD
TZOFFSETFROM:+0100
TZOFFSETTO:+0000
TZNAME:GMT
DTSTART:20231029T010000
END:STANDARD
BEGIN:DAYLIGHT
TZOFFSETFROM:+0000
TZOFFSETTO:+0100
TZNAME:BST
DTSTART:20240331T010000
END:DAYLIGHT
BEGIN:STANDARD
TZOFFSETFROM:+0100
TZOFFSETTO:+0000
TZNAME:GMT
DTSTART:20241027T010000
END:STANDARD
END:VTIMEZONE
BEGIN:VEVENT
DTSTART;VALUE=DATE:20230625
DTEND;VALUE=DATE:20230626
DTSTAMP:20260421T153648
CREATED:20230623T081500Z
LAST-MODIFIED:20230623T081502Z
UID:13555-1687651200-1687737599@onechippenham.org.uk
SUMMARY:Ramblers Walks
DESCRIPTION:Our weekly Sunday walks typically range from 4 to 12 miles. We offer the option of meeting in Chippenham so that we can car share to the start of the walk and give members without cars a lift. This enables us to take as few cars as possible. \nWe extend a warm welcome to all new walkers\, visitors and guests. Why not try us for a few weeks without any commitment. If you like what you see\, then you are more than welcome to join us. \nThe Ramblers annual membership fee amounts to less than 75p per week. As well as helping to protect the natural beauty of the British countryside\, you will also be part of a nationwide walking club. \nFind out more on our website – https://www.wiltsswindonramblers.org.uk/index.php/chippenham-ramblers \nYou can also find and join our group on Facebook – North West Wiltshire Ramblers \n\n \n  \n 
URL:https://onechippenham.org.uk/event/ramblers-walks/2023-06-25/
CATEGORIES:Exercise,Outdoor,Walks
ATTACH;FMTTYPE=image/png:https://onechippenham.org.uk/wp-content/uploads/2023/05/B59198B6-5B60-431A-B9D4-7ADAA5D64D0A.png
END:VEVENT
END:VCALENDAR