BEGIN:VCALENDAR
VERSION:2.0
PRODID:-//One Chippenham - ECPv6.15.20//NONSGML v1.0//EN
CALSCALE:GREGORIAN
METHOD:PUBLISH
X-WR-CALNAME:One Chippenham
X-ORIGINAL-URL:https://onechippenham.org.uk
X-WR-CALDESC:Events for One Chippenham
REFRESH-INTERVAL;VALUE=DURATION:PT1H
X-Robots-Tag:noindex
X-PUBLISHED-TTL:PT1H
BEGIN:VTIMEZONE
TZID:Europe/London
BEGIN:DAYLIGHT
TZOFFSETFROM:+0000
TZOFFSETTO:+0100
TZNAME:BST
DTSTART:20220327T010000
END:DAYLIGHT
BEGIN:STANDARD
TZOFFSETFROM:+0100
TZOFFSETTO:+0000
TZNAME:GMT
DTSTART:20221030T010000
END:STANDARD
BEGIN:DAYLIGHT
TZOFFSETFROM:+0000
TZOFFSETTO:+0100
TZNAME:BST
DTSTART:20230326T010000
END:DAYLIGHT
BEGIN:STANDARD
TZOFFSETFROM:+0100
TZOFFSETTO:+0000
TZNAME:GMT
DTSTART:20231029T010000
END:STANDARD
BEGIN:DAYLIGHT
TZOFFSETFROM:+0000
TZOFFSETTO:+0100
TZNAME:BST
DTSTART:20240331T010000
END:DAYLIGHT
BEGIN:STANDARD
TZOFFSETFROM:+0100
TZOFFSETTO:+0000
TZNAME:GMT
DTSTART:20241027T010000
END:STANDARD
END:VTIMEZONE
BEGIN:VEVENT
DTSTART;TZID=Europe/London:20230705T170000
DTEND;TZID=Europe/London:20230705T183000
DTSTAMP:20260421T093404
CREATED:20230623T070837Z
LAST-MODIFIED:20230623T070837Z
UID:13958-1688576400-1688581800@onechippenham.org.uk
SUMMARY:Tiny Forest Community Event at Monkton Park\, Chippenham
DESCRIPTION:We’d love for you to come and join us so together we can understand more about the environmental and social benefits that your Tiny Forest brings to the community. \nOver the course of the session\, you will learn about: \n\nWildlife in the forest including butterflies\, bees\, and bugs!\nHow trees can capture and store carbon from the air we breathe\nThe forest’s ability to store water\nThe cooling benefits of the trees\n\nSo please come along\, enjoy time immersed in nature and take part in hands-on research. \nThe Tiny Forest located in Monkton Park can be accessed via Sunningdale Close & Sadlers Mead. \nThe nearest bus stops are: \n\nSpar Store\, Stop ID: wilamwda\nMobkton Park Primary School\, Stop ID: wilamtpm\n\nThe nearest parking is: \nBrakesmead Car Park\, Sadlers Mead\, Chippenham SN15 3PD \nFind out more about this Tiny Forest on our website here. \nRefreshments will not be provided on the day so please bring some water and anything else you might need. \nOutdoor shoes and clothing are advised. If you have gardening gloves please bring these with you too. \nPlease also bring a phone or tablet along with you in order to use our online science surveys. We will have printed copies on the day too if that’s not possible. \n 
URL:https://onechippenham.org.uk/event/tiny-forest-community-event-at-monkton-park-chippenham/
LOCATION:Tiny Forest at Monkton Park\, 22 Station Hill\, Chippenham\, Wiltshire\, SN15 3QF\, United Kingdom
CATEGORIES:Outdoor
ATTACH;FMTTYPE=image/png:https://onechippenham.org.uk/wp-content/uploads/2023/06/Chippenham-new-science-day-flyer-23.png
ORGANIZER;CN="earthwatch":MAILTO:hello@earthwatch.org.uk
END:VEVENT
BEGIN:VEVENT
DTSTART;TZID=Europe/London:20230722T100000
DTEND;TZID=Europe/London:20230722T140000
DTSTAMP:20260421T093404
CREATED:20230707T134114Z
LAST-MODIFIED:20230707T134416Z
UID:14181-1690020000-1690034400@onechippenham.org.uk
SUMMARY:Bristol Avon Rivers Trust - Yellow Fish
DESCRIPTION:Only rain down the drain! \nDid you know that surface road drains lead directly into your local watercourse? This means that anything other than rain poured down the drain\, such as litter\, car oils\, detergents\, weed killers or wastewater can harm river health and its wildlife! \nBristol Avon River Trust (BART) are running an exciting Yellow Fish Campaign in the local area to help raise awareness of the impacts of human activity on water quality in the Bristol Avon. We are hosting a series of Yellowfish events with the local community\, which involves putting up posters to spread the message and painting yellow fish next to surface drains to remind the public that what enters the drain\, flows directly into the nearby river or stream. \nVolunteers will use stencils and chalk-based yellow spray paint to mark a yellow fish shape (a great family friendly activity!) \nBristol Avon Rivers Trust: is a charity which delivers education\, land and river management advice and practical river restoration work throughout the Bristol Avon catchment. BART is working in partnership with Wessex Water through the Community Connectors project (https://www.wessexwater.co.uk/visit-and-learn/community-connectors). Together\, we aim to re-connect the community with our river and to benefit local people and wildlife. \nSign up via our Eventbrite page: https://www.eventbrite.co.uk/e/yellow-fish-event-tickets-647968520287
URL:https://onechippenham.org.uk/event/bristol-avon-rivers-trust-yellow-fish/
LOCATION:Riverside Drive\, Monkton Park\, Riverside Drive\, Chippenham\, Wiltshire\, SN15 3NU\, United Kingdom
CATEGORIES:Community,Education,Environment,Family Friendly,Family Fun Day,Nature,Outdoor,Wildlife/nature
ATTACH;FMTTYPE=image/png:https://onechippenham.org.uk/wp-content/uploads/2023/07/Yellowfish-Chippenham-social-media-post.png
ORGANIZER;CN="Wessex Water":MAILTO:community@wessexwater.co.uk
END:VEVENT
END:VCALENDAR