BEGIN:VCALENDAR
VERSION:2.0
PRODID:-//One Chippenham - ECPv6.15.20//NONSGML v1.0//EN
CALSCALE:GREGORIAN
METHOD:PUBLISH
X-ORIGINAL-URL:https://onechippenham.org.uk
X-WR-CALDESC:Events for One Chippenham
REFRESH-INTERVAL;VALUE=DURATION:PT1H
X-Robots-Tag:noindex
X-PUBLISHED-TTL:PT1H
BEGIN:VTIMEZONE
TZID:Europe/London
BEGIN:DAYLIGHT
TZOFFSETFROM:+0000
TZOFFSETTO:+0100
TZNAME:BST
DTSTART:20220327T010000
END:DAYLIGHT
BEGIN:STANDARD
TZOFFSETFROM:+0100
TZOFFSETTO:+0000
TZNAME:GMT
DTSTART:20221030T010000
END:STANDARD
BEGIN:DAYLIGHT
TZOFFSETFROM:+0000
TZOFFSETTO:+0100
TZNAME:BST
DTSTART:20230326T010000
END:DAYLIGHT
BEGIN:STANDARD
TZOFFSETFROM:+0100
TZOFFSETTO:+0000
TZNAME:GMT
DTSTART:20231029T010000
END:STANDARD
BEGIN:DAYLIGHT
TZOFFSETFROM:+0000
TZOFFSETTO:+0100
TZNAME:BST
DTSTART:20240331T010000
END:DAYLIGHT
BEGIN:STANDARD
TZOFFSETFROM:+0100
TZOFFSETTO:+0000
TZNAME:GMT
DTSTART:20241027T010000
END:STANDARD
END:VTIMEZONE
BEGIN:VEVENT
DTSTART;TZID=Europe/London:20230506T110000
DTEND;TZID=Europe/London:20230506T180000
DTSTAMP:20260421T183510
CREATED:20230319T065924Z
LAST-MODIFIED:20230506T070500Z
UID:12473-1683370800-1683396000@onechippenham.org.uk
SUMMARY:Coronation Live Screening
DESCRIPTION:VENUE UPDATE: this event is now taking place at the Town Hall due to inclement weather. \nThe Coronation of His Majesty The King and Her Majesty The Queen Consort will be live-streamed on a large screen in John Coles Park. \nCome along with a picnic and enjoy the special occasion. The Derek Nash 6-piece band will play live from the bandstand afterwards. \nTo finish the afternoon\, there will be a showing of Disney’s Lion King (2019 live-action version) for everyone to enjoy.
URL:https://onechippenham.org.uk/event/coronation-live-screening/
LOCATION:John Coles Park\, John Coles Park\, Chippenham\, SN15 1NZ\, United Kingdom
CATEGORIES:Outdoor
ATTACH;FMTTYPE=image/jpeg:https://onechippenham.org.uk/wp-content/uploads/2023/03/C531BD8A-2B6B-4726-92E0-81D6B5192589.jpeg
END:VEVENT
END:VCALENDAR