BEGIN:VCALENDAR
VERSION:2.0
PRODID:-//One Chippenham - ECPv6.15.20//NONSGML v1.0//EN
CALSCALE:GREGORIAN
METHOD:PUBLISH
X-ORIGINAL-URL:https://onechippenham.org.uk
X-WR-CALDESC:Events for One Chippenham
REFRESH-INTERVAL;VALUE=DURATION:PT1H
X-Robots-Tag:noindex
X-PUBLISHED-TTL:PT1H
BEGIN:VTIMEZONE
TZID:Europe/London
BEGIN:DAYLIGHT
TZOFFSETFROM:+0000
TZOFFSETTO:+0100
TZNAME:BST
DTSTART:20220327T010000
END:DAYLIGHT
BEGIN:STANDARD
TZOFFSETFROM:+0100
TZOFFSETTO:+0000
TZNAME:GMT
DTSTART:20221030T010000
END:STANDARD
BEGIN:DAYLIGHT
TZOFFSETFROM:+0000
TZOFFSETTO:+0100
TZNAME:BST
DTSTART:20230326T010000
END:DAYLIGHT
BEGIN:STANDARD
TZOFFSETFROM:+0100
TZOFFSETTO:+0000
TZNAME:GMT
DTSTART:20231029T010000
END:STANDARD
BEGIN:DAYLIGHT
TZOFFSETFROM:+0000
TZOFFSETTO:+0100
TZNAME:BST
DTSTART:20240331T010000
END:DAYLIGHT
BEGIN:STANDARD
TZOFFSETFROM:+0100
TZOFFSETTO:+0000
TZNAME:GMT
DTSTART:20241027T010000
END:STANDARD
END:VTIMEZONE
BEGIN:VEVENT
DTSTART;TZID=Europe/London:20230508T100000
DTEND;TZID=Europe/London:20230508T120000
DTSTAMP:20260421T183512
CREATED:20230503T082141Z
LAST-MODIFIED:20230503T082141Z
UID:13197-1683540000-1683547200@onechippenham.org.uk
SUMMARY:Tiny Forest - Monkton Park - Progress Session
DESCRIPTION:Join us on Monday\, May 8th to observe the growth and progress of our trees. In addition\, you can engage with us in a range of activities\, such as having a friendly chat\, learning about citizen science tasks related to biodiversity\, or even lending a hand to help remove any thistles or other invasive plants that may be competing with our trees for vital resources like water and nutrients. \nYour involvement in our efforts to care for and protect our environment would be greatly appreciated. We hope to see you there! \n  \n  \n 
URL:https://onechippenham.org.uk/event/tiny-forest-monkton-park-progress-session/
LOCATION:Tiny Forest at Monkton Park\, 22 Station Hill\, Chippenham\, Wiltshire\, SN15 3QF\, United Kingdom
CATEGORIES:Environment,Family,Nature,Outdoor
ATTACH;FMTTYPE=image/jpeg:https://onechippenham.org.uk/wp-content/uploads/2023/05/IMG_0851-R.jpg
ORGANIZER;CN="earthwatch":MAILTO:hello@earthwatch.org.uk
END:VEVENT
END:VCALENDAR