BEGIN:VCALENDAR
VERSION:2.0
PRODID:-//One Chippenham - ECPv6.15.20//NONSGML v1.0//EN
CALSCALE:GREGORIAN
METHOD:PUBLISH
X-ORIGINAL-URL:https://onechippenham.org.uk
X-WR-CALDESC:Events for One Chippenham
REFRESH-INTERVAL;VALUE=DURATION:PT1H
X-Robots-Tag:noindex
X-PUBLISHED-TTL:PT1H
BEGIN:VTIMEZONE
TZID:Europe/London
BEGIN:DAYLIGHT
TZOFFSETFROM:+0000
TZOFFSETTO:+0100
TZNAME:BST
DTSTART:20210328T010000
END:DAYLIGHT
BEGIN:STANDARD
TZOFFSETFROM:+0100
TZOFFSETTO:+0000
TZNAME:GMT
DTSTART:20211031T010000
END:STANDARD
BEGIN:DAYLIGHT
TZOFFSETFROM:+0000
TZOFFSETTO:+0100
TZNAME:BST
DTSTART:20220327T010000
END:DAYLIGHT
BEGIN:STANDARD
TZOFFSETFROM:+0100
TZOFFSETTO:+0000
TZNAME:GMT
DTSTART:20221030T010000
END:STANDARD
BEGIN:DAYLIGHT
TZOFFSETFROM:+0000
TZOFFSETTO:+0100
TZNAME:BST
DTSTART:20230326T010000
END:DAYLIGHT
BEGIN:STANDARD
TZOFFSETFROM:+0100
TZOFFSETTO:+0000
TZNAME:GMT
DTSTART:20231029T010000
END:STANDARD
END:VTIMEZONE
BEGIN:VEVENT
DTSTART;TZID=Europe/London:20220829T100000
DTEND;TZID=Europe/London:20220829T160000
DTSTAMP:20260425T160837
CREATED:20220516T094653Z
LAST-MODIFIED:20220616T154020Z
UID:5396-1661767200-1661788800@onechippenham.org.uk
SUMMARY:Chippenham River Festival
DESCRIPTION:The return of the Chippenham River Festival is on Bank Holiday Monday 29th August 2022 from 10am-4pm \nBringing you an Artisan market\, community stalls\, a duck race\, Tree high ropes activity\, Boat trips and Stand up paddle boarding. \nFind out more information and book the high ropes and paddle boarding here. \n 
URL:https://onechippenham.org.uk/event/chippenham-river-festival/
CATEGORIES:Fairs & Fetes,Family,Family Friendly,Outdoor
ATTACH;FMTTYPE=image/jpeg:https://onechippenham.org.uk/wp-content/uploads/2022/05/Chippenham-River-Festival-poster_FINAL-Digital_with-QR-code.jpg
END:VEVENT
END:VCALENDAR