BEGIN:VCALENDAR
VERSION:2.0
PRODID:-//One Chippenham - ECPv6.15.20//NONSGML v1.0//EN
CALSCALE:GREGORIAN
METHOD:PUBLISH
X-ORIGINAL-URL:https://onechippenham.org.uk
X-WR-CALDESC:Events for One Chippenham
REFRESH-INTERVAL;VALUE=DURATION:PT1H
X-Robots-Tag:noindex
X-PUBLISHED-TTL:PT1H
BEGIN:VTIMEZONE
TZID:Europe/London
BEGIN:DAYLIGHT
TZOFFSETFROM:+0000
TZOFFSETTO:+0100
TZNAME:BST
DTSTART:20230326T010000
END:DAYLIGHT
BEGIN:STANDARD
TZOFFSETFROM:+0100
TZOFFSETTO:+0000
TZNAME:GMT
DTSTART:20231029T010000
END:STANDARD
BEGIN:DAYLIGHT
TZOFFSETFROM:+0000
TZOFFSETTO:+0100
TZNAME:BST
DTSTART:20240331T010000
END:DAYLIGHT
BEGIN:STANDARD
TZOFFSETFROM:+0100
TZOFFSETTO:+0000
TZNAME:GMT
DTSTART:20241027T010000
END:STANDARD
BEGIN:DAYLIGHT
TZOFFSETFROM:+0000
TZOFFSETTO:+0100
TZNAME:BST
DTSTART:20250330T010000
END:DAYLIGHT
BEGIN:STANDARD
TZOFFSETFROM:+0100
TZOFFSETTO:+0000
TZNAME:GMT
DTSTART:20251026T010000
END:STANDARD
END:VTIMEZONE
BEGIN:VEVENT
DTSTART;VALUE=DATE:20240803
DTEND;VALUE=DATE:20240804
DTSTAMP:20260419T202726
CREATED:20240709T160840Z
LAST-MODIFIED:20240709T160840Z
UID:31399-1722643200-1722729599@onechippenham.org.uk
SUMMARY:Summer Party in the Park
DESCRIPTION:Come along to Island Park\, which is just off Chippenham High Street to enjoy live musical entertainment.\nThere will be a licensed bar courtesy of Melt Bars\, as well as several vendors offering a variety of al fresco foods to be enjoyed. You are welcome to bring along your own picnics\, deckchairs\, picnic paraphernalia such as blankets and rugs\, but for the safety of all in attendance no glass will be allowed on site.\n\nThe line-up is as follows:\n\n13:45 – 14:30 & 14:45 – 15:30 (at the Bar) – Robbie CulleyRobbie Culley is a professional singer from Reading\, who started busking 2 years ago has travelled up and down the country performing to the towns and cities of the UK. This year he’s taking his music further by going on BBC Berkshire Radio to promote his first original song ‘Better off Alone’ which was released on all major platforms 5 February.\n\n15:30 – 16:15 & 16:30 – 17:15 (Main Stage) – Derek Nash Funk Experience\nDerek Nash Funk Experience plus special guest Noel McCalla\, celebrating the genius of Soul artists such as Al Green\, Marvin Gaye\, Stevie Wonder and Bill Withers the mesmeric vocalist\, Noel McCalla\, and award-winning saxophonist\, Derek Nash\, have put together a band of top musicians to play a wide-ranging back catalogue of classic hits by these soul legends. At the forefront of the British jazz movement\, Derek Nash is one of the most versatile saxophonists in the UK today.\n\n17:45 – 18:30 & 18:45 – 19:30 (Main Stage) – Mojo Dynamics Cover Band\nMojo Dynamics Cover Band are a four-piece band delivering hits from all eras and genres encouraging everyone to ‘get up and dance’. Mojo have toured the UK as well as played and performed internationally. Mojo will definitely bring the party vibe to the ‘Summer Party in the Park’.\n\n20:00 – 20:45 & 21:00 – 21:45 (Main Stage) – Rule the World\nRule the World are an award-winning official number one Take That tribute band who have played their accomplished act and performed at many prestigious events around the world. They are the only Take That tribute band to have been praised by Take That’s lead singer as being the nearest to the ‘real thing’. This three-piece band is sure to complete and make the evening a memorable experience!\n\nThere will be short comfort breaks in between the performances to allow for changeovers of the acts as well as time for you to refresh any food and drinks supplies.\n\nThis event is free to attend.
URL:https://onechippenham.org.uk/event/summer-party-in-the-park/
LOCATION:Island Park\, Chippenham
CATEGORIES:Community,Music,Performance,Performing Arts
ATTACH;FMTTYPE=image/jpeg:https://onechippenham.org.uk/wp-content/uploads/2024/07/Summer-Party-in-the-Park.jpg
END:VEVENT
BEGIN:VEVENT
DTSTART;TZID=Europe/London:20240825T140000
DTEND;TZID=Europe/London:20240825T140000
DTSTAMP:20260419T202726
CREATED:20240708T135326Z
LAST-MODIFIED:20240708T135326Z
UID:31365-1724594400-1724594400@onechippenham.org.uk
SUMMARY:Afternoon Tea at the Musicals
DESCRIPTION:Are you a lover of Musicals? Whether you’re a lover of musicals\, Afternoon Teas or looking to help a good cause\, this event is for you!  \nWe are hosting an Afternoon Tea at the Musicals with live entertainment from Victoria\, whilst raising money for an incredible cause!  \nTickets are available from behind the bar at the Constitutional Club or via our ticket line on 01249 652387 and must be purchased in advance!
URL:https://onechippenham.org.uk/event/afternoon-tea-at-the-musicals/
LOCATION:Constitutional Club\, 36 Foghamshire\, Chippenham\, SN15 1HB\, United Kingdom
CATEGORIES:Adults,Afternoon Tea,Music,Performance
ATTACH;FMTTYPE=image/jpeg:https://onechippenham.org.uk/wp-content/uploads/2024/07/IMG_7579.jpeg
END:VEVENT
BEGIN:VEVENT
DTSTART;TZID=Europe/London:20240831T170000
DTEND;TZID=Europe/London:20240831T233000
DTSTAMP:20260419T202726
CREATED:20240708T135946Z
LAST-MODIFIED:20240708T135946Z
UID:31362-1725123600-1725147000@onechippenham.org.uk
SUMMARY:Nam Fest
DESCRIPTION:‘Nam Fest’ is here and raring to go! A new punk rock extravaganza for you to enjoy!  \nWith 7 bands performing all evening from 5pm\, it’s going to the biggest and best punk festival around! Doors open at 5:00 pm\, first band on at 6:00pm so make sure to arrive early to secure your spot. Don’t miss out on this epic punk rock event. \nTickets are available behind the bar now or via Eventbrite.
URL:https://onechippenham.org.uk/event/nam-fest/
LOCATION:Constitutional Club\, 36 Foghamshire\, Chippenham\, SN15 1HB\, United Kingdom
CATEGORIES:Adults,Festival,Music,Performance
ATTACH;FMTTYPE=image/jpeg:https://onechippenham.org.uk/wp-content/uploads/2024/07/IMG_7578.jpeg
ORGANIZER;CN="Consti Club":MAILTO:info@consticlub.co.uk
END:VEVENT
END:VCALENDAR