BEGIN:VCALENDAR
VERSION:2.0
PRODID:-//One Chippenham - ECPv6.15.20//NONSGML v1.0//EN
CALSCALE:GREGORIAN
METHOD:PUBLISH
X-ORIGINAL-URL:https://onechippenham.org.uk
X-WR-CALDESC:Events for One Chippenham
REFRESH-INTERVAL;VALUE=DURATION:PT1H
X-Robots-Tag:noindex
X-PUBLISHED-TTL:PT1H
BEGIN:VTIMEZONE
TZID:Europe/London
BEGIN:DAYLIGHT
TZOFFSETFROM:+0000
TZOFFSETTO:+0100
TZNAME:BST
DTSTART:20230326T010000
END:DAYLIGHT
BEGIN:STANDARD
TZOFFSETFROM:+0100
TZOFFSETTO:+0000
TZNAME:GMT
DTSTART:20231029T010000
END:STANDARD
BEGIN:DAYLIGHT
TZOFFSETFROM:+0000
TZOFFSETTO:+0100
TZNAME:BST
DTSTART:20240331T010000
END:DAYLIGHT
BEGIN:STANDARD
TZOFFSETFROM:+0100
TZOFFSETTO:+0000
TZNAME:GMT
DTSTART:20241027T010000
END:STANDARD
BEGIN:DAYLIGHT
TZOFFSETFROM:+0000
TZOFFSETTO:+0100
TZNAME:BST
DTSTART:20250330T010000
END:DAYLIGHT
BEGIN:STANDARD
TZOFFSETFROM:+0100
TZOFFSETTO:+0000
TZNAME:GMT
DTSTART:20251026T010000
END:STANDARD
END:VTIMEZONE
BEGIN:VEVENT
DTSTART;TZID=Europe/London:20240518T190000
DTEND;TZID=Europe/London:20240518T203000
DTSTAMP:20260423T085021
CREATED:20240308T100334Z
LAST-MODIFIED:20240308T100334Z
UID:28182-1716058800-1716064200@onechippenham.org.uk
SUMMARY:CLOGETTES High School Musical
DESCRIPTION:Disney Channel’s smash hit movie musical comes to life in Disney’s High School Musical JR. Gabriella and the students of East High must deal with issues of love\, friends and family while balancing their classes and extra-curricular activities. \nIt’s the first day after winter break at East High. The Jocks\, Brainiacs\, Thespians and Skater Dudes all find their cliques. Basketball team captain and resident jock\, Troy\, discovers that the brainy Gabriella\, a girl he met singing karaoke on his ski trip\, has just enrolled at East High. The couple cause an upheaval when they decide to audition for the high school musical. Although many students resent the threat posed to the “status quo\,” Troy and Gabriella’s alliance might just open the door for others to shine as well. \nCome and enjoy the show’s infectious\, danceable songs! \nTickets: Standard £13.25 | Concessions (under 16\, over 65) £11 \nPrices include booking fee. \nUnder 16s must be accompanied by an adult. \nDuration: 1 hour 30 minutes \nPlease contact the venue for any access requirements. \nTickets are also available through our Box Office on 01249 446699\, from the Neeld Box Office or at the Town Hall. \nTickets are non-refundable unless this event is cancelled or postponed.
URL:https://onechippenham.org.uk/event/clogettes-high-school-musical-2/
LOCATION:Neeld Community & Arts Centre\, The Neeld\, High Street\, Chippenham\, Wiltshire\, SN15 3ER\, United Kingdom
CATEGORIES:Performance
ATTACH;FMTTYPE=image/jpeg:https://onechippenham.org.uk/wp-content/uploads/2024/03/3a764474-939f-447b-926a-3524e78bc881.jpg
END:VEVENT
BEGIN:VEVENT
DTSTART;TZID=Europe/London:20240518T193000
DTEND;TZID=Europe/London:20240518T193000
DTSTAMP:20260423T085021
CREATED:20240515T054127Z
LAST-MODIFIED:20240515T054127Z
UID:30189-1716060600-1716060600@onechippenham.org.uk
SUMMARY:Chippenham Male Voice Choir  Spring Concert
DESCRIPTION:Chippenham Male Voice Choir are holding a Spring concert with the Builth Wells Male Voice Choir in St Andrews Church\, Chippenham on Saturday 18th May 2024 at 7:30pm. \nThis promises to be a super concert so don’t miss it. \nTickets available from: \nCHOIR MEMBERS\, DOLMANS FURNISHERS\, CHIPPENHAM MUSEUM\, ST. ANDREW’S CHURCH and from HAINE & SMITH OPTICIANS. \n 
URL:https://onechippenham.org.uk/event/chippenham-male-voice-choir-spring-concert/
LOCATION:St Andrew’s Church\, St Mary’s Street\, Chippenham\, SN15 3JN\, United Kingdom
CATEGORIES:Choir,Community,Music,Performance,Singing
ATTACH;FMTTYPE=image/jpeg:https://onechippenham.org.uk/wp-content/uploads/2024/05/IMG_4364.jpeg
END:VEVENT
BEGIN:VEVENT
DTSTART;TZID=Europe/London:20240519T140000
DTEND;TZID=Europe/London:20240519T153000
DTSTAMP:20260423T085021
CREATED:20240308T100207Z
LAST-MODIFIED:20240308T100207Z
UID:28189-1716127200-1716132600@onechippenham.org.uk
SUMMARY:CLOGETTES High School Musical
DESCRIPTION:Disney Channel’s smash hit movie musical comes to life in Disney’s High School Musical JR. Gabriella and the students of East High must deal with issues of love\, friends and family while balancing their classes and extra-curricular activities. \nIt’s the first day after winter break at East High. The Jocks\, Brainiacs\, Thespians and Skater Dudes all find their cliques. Basketball team captain and resident jock\, Troy\, discovers that the brainy Gabriella\, a girl he met singing karaoke on his ski trip\, has just enrolled at East High. The couple cause an upheaval when they decide to audition for the high school musical. Although many students resent the threat posed to the “status quo\,” Troy and Gabriella’s alliance might just open the door for others to shine as well. \nCome and enjoy the show’s infectious\, danceable songs! \nTickets: Standard £13.25 | Concessions (under 16\, over 65) £11 \nPrices include booking fee. \nUnder 16s must be accompanied by an adult. \nDuration: 1 hour 30 minutes \nPlease contact the venue for any access requirements. \nTickets are also available through our Box Office on 01249 446699\, from the Neeld Box Office or at the Town Hall. \nTickets are non-refundable unless this event is cancelled or postponed
URL:https://onechippenham.org.uk/event/clogettes-high-school-musical/
LOCATION:The Neeld
CATEGORIES:Performance
ATTACH;FMTTYPE=image/jpeg:https://onechippenham.org.uk/wp-content/uploads/2024/03/3a764474-939f-447b-926a-3524e78bc881-1.jpg
END:VEVENT
END:VCALENDAR