BEGIN:VCALENDAR
VERSION:2.0
PRODID:-//One Chippenham - ECPv6.15.20//NONSGML v1.0//EN
CALSCALE:GREGORIAN
METHOD:PUBLISH
X-ORIGINAL-URL:https://onechippenham.org.uk
X-WR-CALDESC:Events for One Chippenham
REFRESH-INTERVAL;VALUE=DURATION:PT1H
X-Robots-Tag:noindex
X-PUBLISHED-TTL:PT1H
BEGIN:VTIMEZONE
TZID:Europe/London
BEGIN:DAYLIGHT
TZOFFSETFROM:+0000
TZOFFSETTO:+0100
TZNAME:BST
DTSTART:20220327T010000
END:DAYLIGHT
BEGIN:STANDARD
TZOFFSETFROM:+0100
TZOFFSETTO:+0000
TZNAME:GMT
DTSTART:20221030T010000
END:STANDARD
BEGIN:DAYLIGHT
TZOFFSETFROM:+0000
TZOFFSETTO:+0100
TZNAME:BST
DTSTART:20230326T010000
END:DAYLIGHT
BEGIN:STANDARD
TZOFFSETFROM:+0100
TZOFFSETTO:+0000
TZNAME:GMT
DTSTART:20231029T010000
END:STANDARD
BEGIN:DAYLIGHT
TZOFFSETFROM:+0000
TZOFFSETTO:+0100
TZNAME:BST
DTSTART:20240331T010000
END:DAYLIGHT
BEGIN:STANDARD
TZOFFSETFROM:+0100
TZOFFSETTO:+0000
TZNAME:GMT
DTSTART:20241027T010000
END:STANDARD
END:VTIMEZONE
BEGIN:VEVENT
DTSTART;VALUE=DATE:20230814
DTEND;VALUE=DATE:20230819
DTSTAMP:20260423T010923
CREATED:20230707T062513Z
LAST-MODIFIED:20230718T103058Z
UID:14198-1691971200-1692403199@onechippenham.org.uk
SUMMARY:Clogettes Summer School
DESCRIPTION:Join us this summer for a magical journey into the world of Musical Theatre!  \nHot on the heels of their successful Performance of Peter Pan\, The Clogettes have their annual Summer School in August. Booking Now Open!!! \nDate: August 14th\, 15th\, 17th and 18th 2023 \nLocation: St Peter’s Church Chippenham \nTime: 9:30AM – 4.30 PM \nWhat to expect: \nDaily classes in singing\, dancing\, and acting\, led by experienced teachers. \nFun and interactive sessions to enhance performance skills\, stage presence\, and confidence. \nExciting rehearsals for a musical production at the end of the week. \nOpportunities to make new friends who share the same love for musical theatre. \nFor registration and further information\, please contact us at: debiatmilliecatarts@gmail.com
URL:https://onechippenham.org.uk/event/clogettes-summer-school/
LOCATION:St Paul’s Church\, Malmesbury Road\, Chippenham\, SN15 1PW\, United Kingdom
CATEGORIES:Arts,Children,Dance,Drama,Performing Arts,School holiday,Singing,Teens,Tweens
ATTACH;FMTTYPE=image/jpeg:https://onechippenham.org.uk/wp-content/uploads/2023/07/D1A35600-8467-4DE6-B895-021BF235BA12.jpeg
END:VEVENT
BEGIN:VEVENT
DTSTART;TZID=Europe/London:20230829T103000
DTEND;TZID=Europe/London:20230829T123000
DTSTAMP:20260423T010923
CREATED:20230821T122642Z
LAST-MODIFIED:20230822T135116Z
UID:14722-1693305000-1693312200@onechippenham.org.uk
SUMMARY:Tell Your Story
DESCRIPTION:Tell Your Story \nFind your creative voice. Talk about what matters. Make your voice heard.\nFree workshops with professional creatives in stand-up\, performance poetry\, music\, podcasting\, script-writing and devising.\nLimited spaces. Age 13+ \nChippenham Town Hall:\nTues 29th August 10.30 – 12.30\nThurs 31st August 10.30 – 12.30\nThurs 31st August 1.30 – 3.30 \nemail: tellyourstorychippenham@gmail.com for more information \nTell Your Story is a Brave Bold Drama project in collaboration with Knapsack Productions. It was funded by The National Lottery Community Fund – Million Hours Funding. \nwww.bravebolddrama.co.uk/ \nwww.knapsackproductions.co.uk/
URL:https://onechippenham.org.uk/event/tell-your-story/2023-08-29/
LOCATION:Chippenham Town Hall\, High Street\, Chippenham\, Afghanistan
CATEGORIES:Arts,Books/poetry,Creative Writing,Performing Arts,Teens,Theatre,Workshop,Young adults
ATTACH;FMTTYPE=image/png:https://onechippenham.org.uk/wp-content/uploads/2023/08/Tell-your-story-2.png
END:VEVENT
BEGIN:VEVENT
DTSTART;TZID=Europe/London:20230831T153000
DTEND;TZID=Europe/London:20230831T170000
DTSTAMP:20260423T010923
CREATED:20230824T164341Z
LAST-MODIFIED:20230824T164341Z
UID:14800-1693495800-1693501200@onechippenham.org.uk
SUMMARY:Tell Your Story: End of project gig
DESCRIPTION:An acoustic gig from Riverbank Studios to celebrate the end of the Tell Your Story project. Open to those who attended the workshops – and anyone else who’d like to join us!
URL:https://onechippenham.org.uk/event/tell-your-story-end-of-project-gig/
LOCATION:Neeld Community & Arts Centre\, The Neeld\, High Street\, Chippenham\, Wiltshire\, SN15 3ER\, United Kingdom
CATEGORIES:Music,Performing Arts,Young adults
ATTACH;FMTTYPE=image/png:https://onechippenham.org.uk/wp-content/uploads/2023/08/GIG-Tell-your-story_20230824_171240_0000.png
END:VEVENT
END:VCALENDAR