BEGIN:VCALENDAR
VERSION:2.0
PRODID:-//One Chippenham - ECPv6.15.20//NONSGML v1.0//EN
CALSCALE:GREGORIAN
METHOD:PUBLISH
X-WR-CALNAME:One Chippenham
X-ORIGINAL-URL:https://onechippenham.org.uk
X-WR-CALDESC:Events for One Chippenham
REFRESH-INTERVAL;VALUE=DURATION:PT1H
X-Robots-Tag:noindex
X-PUBLISHED-TTL:PT1H
BEGIN:VTIMEZONE
TZID:Europe/London
BEGIN:DAYLIGHT
TZOFFSETFROM:+0000
TZOFFSETTO:+0100
TZNAME:BST
DTSTART:20220327T010000
END:DAYLIGHT
BEGIN:STANDARD
TZOFFSETFROM:+0100
TZOFFSETTO:+0000
TZNAME:GMT
DTSTART:20221030T010000
END:STANDARD
BEGIN:DAYLIGHT
TZOFFSETFROM:+0000
TZOFFSETTO:+0100
TZNAME:BST
DTSTART:20230326T010000
END:DAYLIGHT
BEGIN:STANDARD
TZOFFSETFROM:+0100
TZOFFSETTO:+0000
TZNAME:GMT
DTSTART:20231029T010000
END:STANDARD
BEGIN:DAYLIGHT
TZOFFSETFROM:+0000
TZOFFSETTO:+0100
TZNAME:BST
DTSTART:20240331T010000
END:DAYLIGHT
BEGIN:STANDARD
TZOFFSETFROM:+0100
TZOFFSETTO:+0000
TZNAME:GMT
DTSTART:20241027T010000
END:STANDARD
END:VTIMEZONE
BEGIN:VEVENT
DTSTART;TZID=Europe/London:20231007T193000
DTEND;TZID=Europe/London:20231007T213000
DTSTAMP:20260422T022532
CREATED:20230830T091503Z
LAST-MODIFIED:20230830T091556Z
UID:14844-1696707000-1696714200@onechippenham.org.uk
SUMMARY:The Grief Opera - Love Goes On
DESCRIPTION:The Grief Opera may be the most moving show you see this year. \n“A brilliant musical rendition of the six stages of grief”\, “The most thought-provoking evening of my life”\, “Everything you would want from a work of art”. “It will resonate with everyone who has lost someone and may help navigate grief in future”. \nThe Grief Opera is a musical journey through shock and pain to profound love. Nigel Linacre wrote the words in the months after his musician son’s death by his own hand. Jazz band leader Vladimir Miller used George’s rhythms as a starting point to compose the music\, which combines jazz and classical forms. International opera star Neil Latchman and rock singer Keri Farish lead the vocalists\, accompanied by Nigel Linacre and Gavin Macrae\, both of whom have lost a son to suicide.
URL:https://onechippenham.org.uk/event/the-grief-opera-love-goes-on-2/
LOCATION:St Andrew’s Church\, St Mary’s Street\, Chippenham\, SN15 3JN\, United Kingdom
CATEGORIES:Music,Performance,Performing Arts
ATTACH;FMTTYPE=image/jpeg:https://onechippenham.org.uk/wp-content/uploads/2023/08/Grief-Opera-Singing.jpg
ORGANIZER;CN="Nigel Linacre":MAILTO:nigelinacre@hotmail.com
END:VEVENT
BEGIN:VEVENT
DTSTART;TZID=Europe/London:20231014T200000
DTEND;TZID=Europe/London:20231014T200000
DTSTAMP:20260422T022532
CREATED:20231010T100150Z
LAST-MODIFIED:20231010T100150Z
UID:15979-1697313600-1697313600@onechippenham.org.uk
SUMMARY:Shakespeare Live! Two Gentlemen of Verona
DESCRIPTION:An early play\, ‘Two Gentlemen of Verona’ has feisty heroines\, lovelorn & bickering young men\, dictatorial parents\, foolish suitors\, cross-dressing\, letters galore\, wild outlaws\, witty servants\, a big fight\, and a lugubrious clown with a dog.\n\n\n\n\n\n\n\n\nShakespeare Live\, best known for over 30 years of outdoor productions in Wiltshire\, have been touring their popular annual autumn show for several years\, focusing on plays less often performed or on original Shakespeare-based pieces. This year\, as often before the pandemic\, we are proud that the production was picked by the RSC for performance at their open-air Dell space in Stratford upon Avon in August. Directed by Gill Morrell. featuring well-known Shakespeare Live actors together with some talented newcomers\, including Bernard the golden retriever\, and featuring fabulous medieval costumes and live original music\, Shakespeare Live promises ninety minutes of fast\, furious\, and very\, very funny entertainment.\n\n\n\n\nTickets bookable here.
URL:https://onechippenham.org.uk/event/shakespeare-live-two-gentlemen-of-verona/
LOCATION:The Cause Music and Arts Centre\, 42 The Causeway\, Chippenham\, Wiltshire\, SN15 3DD\, United Kingdom
CATEGORIES:Arts,Performance,Performing Arts,Theatre
ATTACH;FMTTYPE=image/webp:https://onechippenham.org.uk/wp-content/uploads/2023/10/Gentlemen-of-Verona.webp
END:VEVENT
BEGIN:VEVENT
DTSTART;TZID=Europe/London:20231025T103000
DTEND;TZID=Europe/London:20231025T103000
DTSTAMP:20260422T022532
CREATED:20230928T181017Z
LAST-MODIFIED:20230928T181119Z
UID:15746-1698229800-1698229800@onechippenham.org.uk
SUMMARY:Bubble Bach
DESCRIPTION:🎵✨ Experience the awe-inspiring fusion of live classical music and bubble art at Bubble Bach! \n🪄🎶 With live performances by oboe\, violin\, and piano\, brace yourself for a fascinating journey filled with giggles\, wonder\, and the beauty of JS Bach’s music. \nSuitable for ages 3 to 103\, this event guarantees laughter\, amazement\, and a unique musical adventure. \nDon’t miss out\, get your tickets now for a half term treat! https://buytickets.at/musicforbiggerminiaturestheatricalshows
URL:https://onechippenham.org.uk/event/bubble-bach/2023-10-25/
LOCATION:The Neeld
CATEGORIES:Arts,Family,Family Friendly,Music,Performance,Performing Arts
ATTACH;FMTTYPE=image/jpeg:https://onechippenham.org.uk/wp-content/uploads/2023/09/1A154539-9024-4D59-9F9C-71B626086962.jpeg
END:VEVENT
END:VCALENDAR