BEGIN:VCALENDAR
VERSION:2.0
PRODID:-//One Chippenham - ECPv6.15.20//NONSGML v1.0//EN
CALSCALE:GREGORIAN
METHOD:PUBLISH
X-WR-CALNAME:One Chippenham
X-ORIGINAL-URL:https://onechippenham.org.uk
X-WR-CALDESC:Events for One Chippenham
REFRESH-INTERVAL;VALUE=DURATION:PT1H
X-Robots-Tag:noindex
X-PUBLISHED-TTL:PT1H
BEGIN:VTIMEZONE
TZID:Europe/London
BEGIN:DAYLIGHT
TZOFFSETFROM:+0000
TZOFFSETTO:+0100
TZNAME:BST
DTSTART:20240331T010000
END:DAYLIGHT
BEGIN:STANDARD
TZOFFSETFROM:+0100
TZOFFSETTO:+0000
TZNAME:GMT
DTSTART:20241027T010000
END:STANDARD
BEGIN:DAYLIGHT
TZOFFSETFROM:+0000
TZOFFSETTO:+0100
TZNAME:BST
DTSTART:20250330T010000
END:DAYLIGHT
BEGIN:STANDARD
TZOFFSETFROM:+0100
TZOFFSETTO:+0000
TZNAME:GMT
DTSTART:20251026T010000
END:STANDARD
BEGIN:DAYLIGHT
TZOFFSETFROM:+0000
TZOFFSETTO:+0100
TZNAME:BST
DTSTART:20260329T010000
END:DAYLIGHT
BEGIN:STANDARD
TZOFFSETFROM:+0100
TZOFFSETTO:+0000
TZNAME:GMT
DTSTART:20261025T010000
END:STANDARD
END:VTIMEZONE
BEGIN:VEVENT
DTSTART;TZID=Europe/London:20250217T080000
DTEND;TZID=Europe/London:20250221T160000
DTSTAMP:20260421T054644
CREATED:20250217T103331Z
LAST-MODIFIED:20250217T103331Z
UID:38817-1739779200-1740153600@onechippenham.org.uk
SUMMARY:Half Term Holiday Sports Coaching
DESCRIPTION:In2Sport holiday clubs are the perfect solution for every active family in Chippenham & beyond with a choice of venues across Wiltshire and Bath. \nChildren can experience an action packed day\, whilst parents can rest safely in the knowledge that their child is in a safe environment having lots of fun. \nThe sessions are stimulating and engaging\, and cater for children between the ages of 4-12 years old regardless of their ability. \nAll children attending in2sport’s holiday clubs will be able to participate in a wide range of sports and activities\, which are structured to entertain\, progress and widen children’s interest in leading an active life! \nChildren will always have a choice in what activities they wish to participate in. From dance\, gymnastics\, football\, soft axe throwing\, soft archery\, tennis\, cricket\, athletics\, ball skills & much more! \nA normal in2sport day runs from 9:00am – 3:00pm but we have additional hours available to meet the demands of your busy schedule:\n9.00am – 3.00pm – £28.00 per day!*\nAdditional Hours available from 8.00am – 4.00pm for just an additional £5.50 per hour! \nBook and pay via: www.in2sportcoaching.co.uk
URL:https://onechippenham.org.uk/event/half-term-holiday-sports-coaching/
LOCATION:Ivy Lane School Field
CATEGORIES:Primary age children
ATTACH;FMTTYPE=image/jpeg:https://onechippenham.org.uk/wp-content/uploads/2025/02/IMG_6811.jpeg
END:VEVENT
BEGIN:VEVENT
DTSTART;TZID=Europe/London:20250218T093000
DTEND;TZID=Europe/London:20250218T113000
DTSTAMP:20260421T054644
CREATED:20250217T101637Z
LAST-MODIFIED:20250217T101637Z
UID:38902-1739871000-1739878200@onechippenham.org.uk
SUMMARY:Half Term Yoga for Kids
DESCRIPTION:Kids… have fun this Half Term….Parents….relax & recharge! \nLooking for a fun\, healthy\, and stress-free way to keep your kids entertained next week? \nHalf-Term Kids’ Yoga is here! Perfect for Reception to Year 6\, our classes combine movement\, mindfulness\, and plenty of giggles to: \n✅ Boost confidence\n✅ Build strength and balance\n✅ Help kids relax and recharge \nGive them a break from screens and schoolwork – and give yourself some peace of mind! \nLimited spaces available – https://www.santoshastudio.co.uk/events
URL:https://onechippenham.org.uk/event/half-term-yoga-for-kids/2025-02-18/
LOCATION:The Santosha Studio\, 1st Floor\, 40 Foghamshire\, Chippenham\, Wiltshire\, SN15 1HB\, United Kingdom
CATEGORIES:Children,Half-Term,Primary age children,Yoga
ATTACH;FMTTYPE=image/jpeg:https://onechippenham.org.uk/wp-content/uploads/2025/02/IMG_1833.jpeg
ORGANIZER;CN="Santosha Studio":MAILTO:Info@santoshastudio.co.uk
END:VEVENT
END:VCALENDAR