BEGIN:VCALENDAR
VERSION:2.0
PRODID:-//One Chippenham - ECPv6.15.20//NONSGML v1.0//EN
CALSCALE:GREGORIAN
METHOD:PUBLISH
X-ORIGINAL-URL:https://onechippenham.org.uk
X-WR-CALDESC:Events for One Chippenham
REFRESH-INTERVAL;VALUE=DURATION:PT1H
X-Robots-Tag:noindex
X-PUBLISHED-TTL:PT1H
BEGIN:VTIMEZONE
TZID:Europe/London
BEGIN:DAYLIGHT
TZOFFSETFROM:+0000
TZOFFSETTO:+0100
TZNAME:BST
DTSTART:20220327T010000
END:DAYLIGHT
BEGIN:STANDARD
TZOFFSETFROM:+0100
TZOFFSETTO:+0000
TZNAME:GMT
DTSTART:20221030T010000
END:STANDARD
BEGIN:DAYLIGHT
TZOFFSETFROM:+0000
TZOFFSETTO:+0100
TZNAME:BST
DTSTART:20230326T010000
END:DAYLIGHT
BEGIN:STANDARD
TZOFFSETFROM:+0100
TZOFFSETTO:+0000
TZNAME:GMT
DTSTART:20231029T010000
END:STANDARD
BEGIN:DAYLIGHT
TZOFFSETFROM:+0000
TZOFFSETTO:+0100
TZNAME:BST
DTSTART:20240331T010000
END:DAYLIGHT
BEGIN:STANDARD
TZOFFSETFROM:+0100
TZOFFSETTO:+0000
TZNAME:GMT
DTSTART:20241027T010000
END:STANDARD
END:VTIMEZONE
BEGIN:VEVENT
DTSTART;TZID=Europe/London:20231023T100000
DTEND;TZID=Europe/London:20231028T160000
DTSTAMP:20260421T134200
CREATED:20231011T222131Z
LAST-MODIFIED:20231011T222338Z
UID:16027-1698055200-1698508800@onechippenham.org.uk
SUMMARY:Eerie-on-Sea Monster Museum Tour
DESCRIPTION:Join us this half term as we take part in Kids In Museums Eerie-on-Sea Monster Museum Tour. \nCan you spot all the monsters of the mysterious seaside town of Eerie-on-Sea at our museum? Complete the trail and get a free Eerie-on-Sea bookmark and sticker! \nDraw your own mythical monster or magical creature and share it on social media for a chance to win a bundle of all five books in the Eerie-on-Sea series. \nMore information here \nDon’t forget we’ll be holding additional craft activities for families on Tuesday 24 and Thursday 26 October with a spooky Halloween theme. \nFree\, drop in 10.30-3.30.
URL:https://onechippenham.org.uk/event/eerie-on-sea-monster-museum-tour/
LOCATION:Chippenham Museum\, 9-10 Market Pl\, Chippenham\, SN15 3HF\, United Kingdom
CATEGORIES:Books/poetry,Children,Family,Family Friendly,Half-Term,Halloween,Heritage,Museum,School holiday,Trail
ATTACH;FMTTYPE=image/jpeg:https://onechippenham.org.uk/wp-content/uploads/2023/10/JoinUs_Eerie-on-Sea_Monster_Tour_Instagram_Post_1080x1080.jpg
ORGANIZER;CN="Chippenham Museum":MAILTO:heritage@chippenham.gov.uk
END:VEVENT
BEGIN:VEVENT
DTSTART;TZID=Europe/London:20231024T093000
DTEND;TZID=Europe/London:20231024T100000
DTSTAMP:20260421T134200
CREATED:20231011T222626Z
LAST-MODIFIED:20231011T222626Z
UID:16038-1698139800-1698141600@onechippenham.org.uk
SUMMARY:Autism Friendly Quiet Time: Half Term Creative Activities
DESCRIPTION:Enjoy our free crafty activities for October half term\, with a spooky Halloween theme\, in a quieter way before the museum opens to the public. These sessions are free\, but booking is required due to limited spaces. \nTuesday 24 & Thursday 26 October\n9.30-10.00\nFree\, booking required
URL:https://onechippenham.org.uk/event/autism-friendly-quiet-time-half-term-creative-activities/2023-10-24/
LOCATION:Chippenham Museum\, 9-10 Market Pl\, Chippenham\, SN15 3HF\, United Kingdom
CATEGORIES:Autism,Autism friendly,Children,Crafts,Family,Half-Term,Halloween,Heritage,Museum,School holiday
ATTACH;FMTTYPE=image/jpeg:https://onechippenham.org.uk/wp-content/uploads/2023/10/Quiet-Time-Grid.jpg
ORGANIZER;CN="Chippenham Museum":MAILTO:heritage@chippenham.gov.uk
END:VEVENT
BEGIN:VEVENT
DTSTART;TZID=Europe/London:20231024T103000
DTEND;TZID=Europe/London:20231024T153000
DTSTAMP:20260421T134200
CREATED:20231012T101016Z
LAST-MODIFIED:20231012T101016Z
UID:16032-1698143400-1698161400@onechippenham.org.uk
SUMMARY:Family Creative Activities: October Half Term
DESCRIPTION:Join us this October half term for our free crafty activities for families\, with a spooky Halloween theme! \nTuesday 24 & Thursday 26 October\nDrop in\, 10.30-3.30\nFree\, no booking required
URL:https://onechippenham.org.uk/event/family-creative-activities-october-half-term/2023-10-24/
LOCATION:Chippenham Museum\, 9-10 Market Pl\, Chippenham\, SN15 3HF\, United Kingdom
CATEGORIES:Crafts,Family,Family Friendly,Half-Term,Halloween,Heritage,Museum,School holiday
ATTACH;FMTTYPE=image/jpeg:https://onechippenham.org.uk/wp-content/uploads/2023/10/Activity-Grid.jpg
END:VEVENT
END:VCALENDAR