BEGIN:VCALENDAR
VERSION:2.0
PRODID:-//One Chippenham - ECPv6.15.20//NONSGML v1.0//EN
CALSCALE:GREGORIAN
METHOD:PUBLISH
X-WR-CALNAME:One Chippenham
X-ORIGINAL-URL:https://onechippenham.org.uk
X-WR-CALDESC:Events for One Chippenham
REFRESH-INTERVAL;VALUE=DURATION:PT1H
X-Robots-Tag:noindex
X-PUBLISHED-TTL:PT1H
BEGIN:VTIMEZONE
TZID:Europe/London
BEGIN:DAYLIGHT
TZOFFSETFROM:+0000
TZOFFSETTO:+0100
TZNAME:BST
DTSTART:20220327T010000
END:DAYLIGHT
BEGIN:STANDARD
TZOFFSETFROM:+0100
TZOFFSETTO:+0000
TZNAME:GMT
DTSTART:20221030T010000
END:STANDARD
BEGIN:DAYLIGHT
TZOFFSETFROM:+0000
TZOFFSETTO:+0100
TZNAME:BST
DTSTART:20230326T010000
END:DAYLIGHT
BEGIN:STANDARD
TZOFFSETFROM:+0100
TZOFFSETTO:+0000
TZNAME:GMT
DTSTART:20231029T010000
END:STANDARD
BEGIN:DAYLIGHT
TZOFFSETFROM:+0000
TZOFFSETTO:+0100
TZNAME:BST
DTSTART:20240331T010000
END:DAYLIGHT
BEGIN:STANDARD
TZOFFSETFROM:+0100
TZOFFSETTO:+0000
TZNAME:GMT
DTSTART:20241027T010000
END:STANDARD
END:VTIMEZONE
BEGIN:VEVENT
DTSTART;TZID=Europe/London:20230713T190000
DTEND;TZID=Europe/London:20230713T190000
DTSTAMP:20260420T114810
CREATED:20230705T205105Z
LAST-MODIFIED:20230705T205105Z
UID:14173-1689274800-1689274800@onechippenham.org.uk
SUMMARY:Chippenham Ladies RFC Preseason Training
DESCRIPTION:Starting the season with a bang\, our first session is going to be an evening of fun. Going back to basics\, we will be kicking off with an old school sports day filled with fun games & activities. This is the perfect opportunity to come and meet the team and enjoy a summers evening! \nWe have dedicated the next two sessions as an introduction to rugby\, and we invite you to join us! These sessions are for dedicated to new players\, players who haven’t played for awhile and anyone looking to find a new way to get fit. \n 
URL:https://onechippenham.org.uk/event/chippenham-ladies-rfc-preseason-training/2023-07-13/
LOCATION:Chippenham RFC\, Allington Field\, Chippenham\, SN14OYZ
CATEGORIES:Adults,Fitness,Sport
ATTACH;FMTTYPE=image/jpeg:https://onechippenham.org.uk/wp-content/uploads/2023/07/0349FCE1-7408-4402-B95E-7AD64F5E3BAC.jpeg
END:VEVENT
END:VCALENDAR