BEGIN:VCALENDAR
VERSION:2.0
PRODID:-//One Chippenham - ECPv6.15.20//NONSGML v1.0//EN
CALSCALE:GREGORIAN
METHOD:PUBLISH
X-ORIGINAL-URL:https://onechippenham.org.uk
X-WR-CALDESC:Events for One Chippenham
REFRESH-INTERVAL;VALUE=DURATION:PT1H
X-Robots-Tag:noindex
X-PUBLISHED-TTL:PT1H
BEGIN:VTIMEZONE
TZID:Europe/London
BEGIN:DAYLIGHT
TZOFFSETFROM:+0000
TZOFFSETTO:+0100
TZNAME:BST
DTSTART:20220327T010000
END:DAYLIGHT
BEGIN:STANDARD
TZOFFSETFROM:+0100
TZOFFSETTO:+0000
TZNAME:GMT
DTSTART:20221030T010000
END:STANDARD
BEGIN:DAYLIGHT
TZOFFSETFROM:+0000
TZOFFSETTO:+0100
TZNAME:BST
DTSTART:20230326T010000
END:DAYLIGHT
BEGIN:STANDARD
TZOFFSETFROM:+0100
TZOFFSETTO:+0000
TZNAME:GMT
DTSTART:20231029T010000
END:STANDARD
BEGIN:DAYLIGHT
TZOFFSETFROM:+0000
TZOFFSETTO:+0100
TZNAME:BST
DTSTART:20240331T010000
END:DAYLIGHT
BEGIN:STANDARD
TZOFFSETFROM:+0100
TZOFFSETTO:+0000
TZNAME:GMT
DTSTART:20241027T010000
END:STANDARD
END:VTIMEZONE
BEGIN:VEVENT
DTSTART;TZID=Europe/London:20230916T090000
DTEND;TZID=Europe/London:20230916T100000
DTSTAMP:20260419T212302
CREATED:20230909T145220Z
LAST-MODIFIED:20231218T115737Z
UID:15056-1694854800-1694858400@onechippenham.org.uk
SUMMARY:Chippenham parkrun
DESCRIPTION:A free\, weekly\, timed 5k run\, jog or walk in the park.\nOrganised by local volunteers\, the 5k parkrun event encourages individuals and groups to meet their mental as well as physical health goals in a friendly community atmosphere. \nWe have runners out to beat the course record\, their own Personal Best and meet with friends as well as walkers out to do almost exactly the same!
URL:https://onechippenham.org.uk/event/chippenham-parkrun-2/2023-09-16/
LOCATION:Monkton Park\, Chippenham
CATEGORIES:Health,Sport,Wellbeing
ATTACH;FMTTYPE=image/png:https://onechippenham.org.uk/wp-content/uploads/2023/09/inbound5435510492952247169.png
ORGANIZER;CN="Chippenham Parkrun":MAILTO:chippenham@parkrun.com
END:VEVENT
BEGIN:VEVENT
DTSTART;VALUE=DATE:20230924
DTEND;VALUE=DATE:20230925
DTSTAMP:20260419T212302
CREATED:20230830T092102Z
LAST-MODIFIED:20230830T092102Z
UID:14839-1695513600-1695599999@onechippenham.org.uk
SUMMARY:Doorway's Supermarket Sweep
DESCRIPTION:Sign up to Doorways Supermarket Sweep cycling fundraising event – taking place on Sunday 24th September\, there are a few routes for all abilities\, including a gentle family friendly route starting in John Coles Park cycling to Morrisons\, and routes of 25 miles and 45 miles for those wanting to get the miles in and challenge themselves\, why not get your family\, friends and work colleagues to sponsor you!? \nAll the routes incorporate stops at Supermarkets where you can buy some items off our shopping list to restock our food bank and then cycle to the finish point at Cousin Norman’s to continue the fundraising with a delicious BBQ (included in the ticket price) and a fantastic silent auction to help raise even more for Doorway. \nIf this is sounding like it could be fun and you want to take part but its missing a little something…….here is what the final little surprise might be….you don’t have to worry if you don’t have any lycra cycling shorts…we encourage you to dress up\, wear something fun\, bright and colourful and you could win a prize for the best dressed. \nIt’s going to be a fun day for all with plenty of entertainment after the hard work of cycling and raising money for Doorway.
URL:https://onechippenham.org.uk/event/doorways-supermarket-sweep/
LOCATION:Chippenham
CATEGORIES:Charity,Children,Community,Family Friendly,Outdoor,Sport
ATTACH;FMTTYPE=image/png:https://onechippenham.org.uk/wp-content/uploads/2023/08/Screenshot_20230820-1606512.png
ORGANIZER;CN="Doorway":MAILTO:info@doorwayproject.org.uk
END:VEVENT
END:VCALENDAR