BEGIN:VCALENDAR
VERSION:2.0
PRODID:-//One Chippenham - ECPv6.15.20//NONSGML v1.0//EN
CALSCALE:GREGORIAN
METHOD:PUBLISH
X-WR-CALNAME:One Chippenham
X-ORIGINAL-URL:https://onechippenham.org.uk
X-WR-CALDESC:Events for One Chippenham
REFRESH-INTERVAL;VALUE=DURATION:PT1H
X-Robots-Tag:noindex
X-PUBLISHED-TTL:PT1H
BEGIN:VTIMEZONE
TZID:Europe/London
BEGIN:DAYLIGHT
TZOFFSETFROM:+0000
TZOFFSETTO:+0100
TZNAME:BST
DTSTART:20220327T010000
END:DAYLIGHT
BEGIN:STANDARD
TZOFFSETFROM:+0100
TZOFFSETTO:+0000
TZNAME:GMT
DTSTART:20221030T010000
END:STANDARD
BEGIN:DAYLIGHT
TZOFFSETFROM:+0000
TZOFFSETTO:+0100
TZNAME:BST
DTSTART:20230326T010000
END:DAYLIGHT
BEGIN:STANDARD
TZOFFSETFROM:+0100
TZOFFSETTO:+0000
TZNAME:GMT
DTSTART:20231029T010000
END:STANDARD
BEGIN:DAYLIGHT
TZOFFSETFROM:+0000
TZOFFSETTO:+0100
TZNAME:BST
DTSTART:20240331T010000
END:DAYLIGHT
BEGIN:STANDARD
TZOFFSETFROM:+0100
TZOFFSETTO:+0000
TZNAME:GMT
DTSTART:20241027T010000
END:STANDARD
END:VTIMEZONE
BEGIN:VEVENT
DTSTART;TZID=Europe/London:20230602T193000
DTEND;TZID=Europe/London:20230602T213000
DTSTAMP:20260420T163712
CREATED:20230504T152048Z
LAST-MODIFIED:20230504T152314Z
UID:13261-1685734200-1685741400@onechippenham.org.uk
SUMMARY:LDN Wrestling
DESCRIPTION:The BRAND new 2023 tour of the bone-crunching superstars of LDN Wrestling are back! \nBringing a host of top American wrestling stars to the ring to face the very best of home-grown talent and fans’ favourites\, in a two-hour rip-roaring entertainment experience for all the family to enjoy. \nIf you’ve been before\, you know how good it gets. If you haven’t\, give it a try; we guarantee that the kids will be talking about it for weeks afterwards. \nFamily-friendly prices make this the best value ticket in town. \nTickets: \nStandard £16.25 | Concessions (over 60/under 16) £13.25 | Family of Four £47 \nDuration: 2 hours including an interval \nPlease contact the venue for any access requirements. \nTickets are also available through our Box Office on 01249 446699\, or at the Town Hall. \nTickets are non-refundable unless this event is cancelled or postponed
URL:https://onechippenham.org.uk/event/ldn-wrestling-3/
LOCATION:Neeld Community & Arts Centre\, The Neeld\, High Street\, Chippenham\, Wiltshire\, SN15 3ER\, United Kingdom
CATEGORIES:Sport
ATTACH;FMTTYPE=image/jpeg:https://onechippenham.org.uk/wp-content/uploads/2023/05/FB-Event-Cover.jpg
END:VEVENT
END:VCALENDAR