BEGIN:VCALENDAR
VERSION:2.0
PRODID:-//One Chippenham - ECPv6.15.20//NONSGML v1.0//EN
CALSCALE:GREGORIAN
METHOD:PUBLISH
X-WR-CALNAME:One Chippenham
X-ORIGINAL-URL:https://onechippenham.org.uk
X-WR-CALDESC:Events for One Chippenham
REFRESH-INTERVAL;VALUE=DURATION:PT1H
X-Robots-Tag:noindex
X-PUBLISHED-TTL:PT1H
BEGIN:VTIMEZONE
TZID:Europe/London
BEGIN:DAYLIGHT
TZOFFSETFROM:+0000
TZOFFSETTO:+0100
TZNAME:BST
DTSTART:20220327T010000
END:DAYLIGHT
BEGIN:STANDARD
TZOFFSETFROM:+0100
TZOFFSETTO:+0000
TZNAME:GMT
DTSTART:20221030T010000
END:STANDARD
BEGIN:DAYLIGHT
TZOFFSETFROM:+0000
TZOFFSETTO:+0100
TZNAME:BST
DTSTART:20230326T010000
END:DAYLIGHT
BEGIN:STANDARD
TZOFFSETFROM:+0100
TZOFFSETTO:+0000
TZNAME:GMT
DTSTART:20231029T010000
END:STANDARD
BEGIN:DAYLIGHT
TZOFFSETFROM:+0000
TZOFFSETTO:+0100
TZNAME:BST
DTSTART:20240331T010000
END:DAYLIGHT
BEGIN:STANDARD
TZOFFSETFROM:+0100
TZOFFSETTO:+0000
TZNAME:GMT
DTSTART:20241027T010000
END:STANDARD
END:VTIMEZONE
BEGIN:VEVENT
DTSTART;TZID=Europe/London:20230401T103000
DTEND;TZID=Europe/London:20230401T113000
DTSTAMP:20260420T054838
CREATED:20230330T123103Z
LAST-MODIFIED:20230330T123103Z
UID:12680-1680345000-1680348600@onechippenham.org.uk
SUMMARY:Talk - Rooted in History
DESCRIPTION:Join us for a free talk about the Rooted in History project. Get a glimpse into the Wiltshire and Swindon History Centre archives and hear about how we are using them to inspire people to get growing!
URL:https://onechippenham.org.uk/event/talk-rooted-in-history/
LOCATION:Wiltshire & Swindon History Centre\, Wiltshire & Swindon History Centre Cocklebury Rd\, Chippenham\, SN15 3QN
CATEGORIES:Gardening,Heritage,History,Talks & lectures
ATTACH;FMTTYPE=image/jpeg:https://onechippenham.org.uk/wp-content/uploads/2023/03/IMG_0042-scaled.jpg
END:VEVENT
END:VCALENDAR