BEGIN:VCALENDAR
VERSION:2.0
PRODID:-//One Chippenham - ECPv6.15.20//NONSGML v1.0//EN
CALSCALE:GREGORIAN
METHOD:PUBLISH
X-ORIGINAL-URL:https://onechippenham.org.uk
X-WR-CALDESC:Events for One Chippenham
REFRESH-INTERVAL;VALUE=DURATION:PT1H
X-Robots-Tag:noindex
X-PUBLISHED-TTL:PT1H
BEGIN:VTIMEZONE
TZID:Europe/London
BEGIN:DAYLIGHT
TZOFFSETFROM:+0000
TZOFFSETTO:+0100
TZNAME:BST
DTSTART:20220327T010000
END:DAYLIGHT
BEGIN:STANDARD
TZOFFSETFROM:+0100
TZOFFSETTO:+0000
TZNAME:GMT
DTSTART:20221030T010000
END:STANDARD
BEGIN:DAYLIGHT
TZOFFSETFROM:+0000
TZOFFSETTO:+0100
TZNAME:BST
DTSTART:20230326T010000
END:DAYLIGHT
BEGIN:STANDARD
TZOFFSETFROM:+0100
TZOFFSETTO:+0000
TZNAME:GMT
DTSTART:20231029T010000
END:STANDARD
BEGIN:DAYLIGHT
TZOFFSETFROM:+0000
TZOFFSETTO:+0100
TZNAME:BST
DTSTART:20240331T010000
END:DAYLIGHT
BEGIN:STANDARD
TZOFFSETFROM:+0100
TZOFFSETTO:+0000
TZNAME:GMT
DTSTART:20241027T010000
END:STANDARD
END:VTIMEZONE
BEGIN:VEVENT
DTSTART;TZID=Europe/London:20230610T180000
DTEND;TZID=Europe/London:20230610T210000
DTSTAMP:20260419T134814
CREATED:20230519T133716Z
LAST-MODIFIED:20230519T134430Z
UID:13543-1686420000-1686430800@onechippenham.org.uk
SUMMARY:Talking Climate Justice
DESCRIPTION:You are warmly invited to an evening of debate\, discussion\, information sharing and community action on the climate crisis. \nVenue: St Paul’s Church\, Malmesbury Road\, Chippenham\, SN15 1PS \nDate: 10th June 2023 \nTimes: 6pm – 9pm \nBook Free tickets before the 26th May from:  \nhttps://www.eventbrite.co.uk/e/talking-climate-justice-tickets-620550211387 \nDinner and refreshments: Will be sustainably sourced. \nPlease walk or cycle to the event if you are able. We look forward to seeing you. \n\n\nKeynote speakers:  \nFaith Ward\, attending in a personal capacity but roles advocating on action on climate change include membership of the Ethical Investment Advisory Group for the Church of England\, and Chair of the Institutional Investors Group for Climate Change. \nYvonne Penn\, Christian Aid Church Engagement Officer. \n 
URL:https://onechippenham.org.uk/event/talking-climate-justice/
LOCATION:St Paul’s Church\, Malmesbury Road\, Chippenham\, SN15 1PW\, United Kingdom
CATEGORIES:Adults,Church,Community,Talks & lectures
ATTACH;FMTTYPE=image/png:https://onechippenham.org.uk/wp-content/uploads/2023/05/Talking-climate-tour.png
END:VEVENT
BEGIN:VEVENT
DTSTART;TZID=Europe/London:20230622T183000
DTEND;TZID=Europe/London:20230622T193000
DTSTAMP:20260419T134814
CREATED:20230614T213033Z
LAST-MODIFIED:20230614T213033Z
UID:13811-1687458600-1687462200@onechippenham.org.uk
SUMMARY:Talk: From Durex to Gaslighting: Innovation and Invention Between the Wars
DESCRIPTION:Join us for the first of our free summer talks linked to our current exhibition ‘Chippenham Between the Wars’. \nExhibition curator Alan Fuller will talk about some of the surprising and well-known products\, phrases and appliances that have their origins in the 1920s and 30s. \nThe museum will also be open until 6.30pm so visitors can enjoy the exhibition before the talk. \nTickets: https://www.eventbrite.co.uk/e/talk-from-durex-to-gaslighting-innovation-and-invention-between-the-wars-tickets-657425586627
URL:https://onechippenham.org.uk/event/talk-from-durex-to-gaslighting-innovation-and-invention-between-the-wars/
LOCATION:Chippenham Museum\, 9-10 Market Pl\, Chippenham\, SN15 3HF\, United Kingdom
CATEGORIES:Exhibition,History,Museum,Talks & lectures
ATTACH;FMTTYPE=image/jpeg:https://onechippenham.org.uk/wp-content/uploads/2023/06/Alan-Talk-Grid.jpg
END:VEVENT
END:VCALENDAR