BEGIN:VCALENDAR
VERSION:2.0
PRODID:-//One Chippenham - ECPv6.15.20//NONSGML v1.0//EN
CALSCALE:GREGORIAN
METHOD:PUBLISH
X-WR-CALNAME:One Chippenham
X-ORIGINAL-URL:https://onechippenham.org.uk
X-WR-CALDESC:Events for One Chippenham
REFRESH-INTERVAL;VALUE=DURATION:PT1H
X-Robots-Tag:noindex
X-PUBLISHED-TTL:PT1H
BEGIN:VTIMEZONE
TZID:Europe/London
BEGIN:DAYLIGHT
TZOFFSETFROM:+0000
TZOFFSETTO:+0100
TZNAME:BST
DTSTART:20220327T010000
END:DAYLIGHT
BEGIN:STANDARD
TZOFFSETFROM:+0100
TZOFFSETTO:+0000
TZNAME:GMT
DTSTART:20221030T010000
END:STANDARD
BEGIN:DAYLIGHT
TZOFFSETFROM:+0000
TZOFFSETTO:+0100
TZNAME:BST
DTSTART:20230326T010000
END:DAYLIGHT
BEGIN:STANDARD
TZOFFSETFROM:+0100
TZOFFSETTO:+0000
TZNAME:GMT
DTSTART:20231029T010000
END:STANDARD
BEGIN:DAYLIGHT
TZOFFSETFROM:+0000
TZOFFSETTO:+0100
TZNAME:BST
DTSTART:20240331T010000
END:DAYLIGHT
BEGIN:STANDARD
TZOFFSETFROM:+0100
TZOFFSETTO:+0000
TZNAME:GMT
DTSTART:20241027T010000
END:STANDARD
END:VTIMEZONE
BEGIN:VEVENT
DTSTART;TZID=Europe/London:20230304T193000
DTEND;TZID=Europe/London:20230304T193000
DTSTAMP:20260420T143700
CREATED:20230119T132138Z
LAST-MODIFIED:20230119T132138Z
UID:10355-1677958200-1677958200@onechippenham.org.uk
SUMMARY:Codebreakers: The Story of Enigma
DESCRIPTION:Returning to the Neeld following a sell-out performance in 2019\, this show by Dr Mark Baldwin tells one of the Second World War’s most fascinating stories – that of the Allied Codebreakers\, who deciphered a vast number of German secret messages and used the intelligence so gained to hasten Allied victory. The Germans had entrusted their secret communications to an ingenious ciphering machine\, the Enigma\, which was portable\, easily operated\, and could be set up in millions of ways. The codes were used and every one was changed every 24 hours. \nThis fascinating talk includes the life and work of the great mathematician\, computer scientist\, philosopher and theoretical biologist Alan Turing OBE FRS. \nThe Allies gained invaluable information about troop and aircraft dispositions\, orders of battle\, U-boat movements\, technical development\, military intentions and tank and artillery strengths. It is generally reckoned that the intelligence from Enigma shortened the war by about two years. \nDr Mark Baldwin has made a detailed study of the Enigma machine\, the code-breaking work at Bletchley Park\, and U-boats and has built up a unique collection of slides which illustrate the main features of those important facts of the Second World War. He has prepared an entertaining instructive show on this subject. \nThe show is divided into two parts. It is followed by an opportunity for questions\, then a hands-on demonstration of one of the very few surviving Enigma machines. \nTickets: £15.00\nDuration: approx. 2 hours 10 minutes including an interval\nPlease contact the venue for any access requirements.\nTickets are also available through our Box Office on 01249 446699\, or at the Town Hall.\nTickets are non-refundable unless this event is cancelled or postponed
URL:https://onechippenham.org.uk/event/codebreakers-the-story-of-enigma/
LOCATION:Neeld Community & Arts Centre\, The Neeld\, High Street\, Chippenham\, Wiltshire\, SN15 3ER\, United Kingdom
CATEGORIES:Talks & lectures
ATTACH;FMTTYPE=image/jpeg:https://onechippenham.org.uk/wp-content/uploads/2023/01/07.02.23-Codebreakers-website1.jpg
END:VEVENT
END:VCALENDAR