BEGIN:VCALENDAR
VERSION:2.0
PRODID:-//One Chippenham - ECPv6.15.20//NONSGML v1.0//EN
CALSCALE:GREGORIAN
METHOD:PUBLISH
X-WR-CALNAME:One Chippenham
X-ORIGINAL-URL:https://onechippenham.org.uk
X-WR-CALDESC:Events for One Chippenham
REFRESH-INTERVAL;VALUE=DURATION:PT1H
X-Robots-Tag:noindex
X-PUBLISHED-TTL:PT1H
BEGIN:VTIMEZONE
TZID:Europe/London
BEGIN:DAYLIGHT
TZOFFSETFROM:+0000
TZOFFSETTO:+0100
TZNAME:BST
DTSTART:20220327T010000
END:DAYLIGHT
BEGIN:STANDARD
TZOFFSETFROM:+0100
TZOFFSETTO:+0000
TZNAME:GMT
DTSTART:20221030T010000
END:STANDARD
BEGIN:DAYLIGHT
TZOFFSETFROM:+0000
TZOFFSETTO:+0100
TZNAME:BST
DTSTART:20230326T010000
END:DAYLIGHT
BEGIN:STANDARD
TZOFFSETFROM:+0100
TZOFFSETTO:+0000
TZNAME:GMT
DTSTART:20231029T010000
END:STANDARD
BEGIN:DAYLIGHT
TZOFFSETFROM:+0000
TZOFFSETTO:+0100
TZNAME:BST
DTSTART:20240331T010000
END:DAYLIGHT
BEGIN:STANDARD
TZOFFSETFROM:+0100
TZOFFSETTO:+0000
TZNAME:GMT
DTSTART:20241027T010000
END:STANDARD
END:VTIMEZONE
BEGIN:VEVENT
DTSTART;TZID=Europe/London:20230113T200000
DTEND;TZID=Europe/London:20230113T214000
DTSTAMP:20260423T020655
CREATED:20220921T141830Z
LAST-MODIFIED:20220921T141830Z
UID:7750-1673640000-1673646000@onechippenham.org.uk
SUMMARY:Puss in Boots: More Than A Feline
DESCRIPTION:The Neeld Community and Arts Centre is proud to present Living Spit’s Puss in Boots: More Than A Feline. \nSo there’s this bloke. He’s stony broke. His name is Tristan Sprout\, \nHe can’t afford to pay the rent; the landlord wants him out \nHe has a cat called Roger who has several attributes \nOf note: He talks and wears a pair of fetching knee-high boots! \nBut then they hear a rumour of an Ogre on the prowl? \nCan Tristan be a hero? Or will he throw in the towel…? \nMeanwhile…. \nStu Mcloughlin\, actor and one half of Living Spit \n(The tall one with the big ears and the legs that just won’t quit)\, \nreckons that this brand-new rhyming show could be the chance \nfor him to demonstrate his new-found skills in Irish dance! \nHoward (he’s the bald one)\, needs the new show to succeed\, \nbut against his better judgement he’s reluctantly agreed. \nTold entirely through song and rhyming couplets\, Living Spit’s new version of Puss ’n’ Boots promises all the usual frolics\, festivities and foolishness\, plus the answers to such burning questions as: \n‘Is Stu’s Irish dancing actually any good?’  \n‘How are they going to do the Ogre?’ \nand \n‘What’s the refund policy?’ \nSuitable for ages 10+.  Contains a small amount of strong language and awful puns. \nTickets are also available through our Box Office on 01249 446699\, or at the Town Hall. \nFor more information\, please visit: https://www.chippenham.gov.uk/event/living-spit-puss-in-boots-more-than-a-feline/
URL:https://onechippenham.org.uk/event/puss-in-boots-more-than-a-feline/
LOCATION:Neeld Community & Arts Centre\, The Neeld\, High Street\, Chippenham\, Wiltshire\, SN15 3ER\, United Kingdom
CATEGORIES:Family,Performance,Performing Arts,Storytelling,Theatre
ATTACH;FMTTYPE=image/jpeg:https://onechippenham.org.uk/wp-content/uploads/2022/09/Puss-in-Boots-More-than-a-feline.jpg
END:VEVENT
END:VCALENDAR