BEGIN:VCALENDAR
VERSION:2.0
PRODID:-//One Chippenham - ECPv6.15.20//NONSGML v1.0//EN
CALSCALE:GREGORIAN
METHOD:PUBLISH
X-ORIGINAL-URL:https://onechippenham.org.uk
X-WR-CALDESC:Events for One Chippenham
REFRESH-INTERVAL;VALUE=DURATION:PT1H
X-Robots-Tag:noindex
X-PUBLISHED-TTL:PT1H
BEGIN:VTIMEZONE
TZID:Europe/London
BEGIN:DAYLIGHT
TZOFFSETFROM:+0000
TZOFFSETTO:+0100
TZNAME:BST
DTSTART:20220327T010000
END:DAYLIGHT
BEGIN:STANDARD
TZOFFSETFROM:+0100
TZOFFSETTO:+0000
TZNAME:GMT
DTSTART:20221030T010000
END:STANDARD
BEGIN:DAYLIGHT
TZOFFSETFROM:+0000
TZOFFSETTO:+0100
TZNAME:BST
DTSTART:20230326T010000
END:DAYLIGHT
BEGIN:STANDARD
TZOFFSETFROM:+0100
TZOFFSETTO:+0000
TZNAME:GMT
DTSTART:20231029T010000
END:STANDARD
BEGIN:DAYLIGHT
TZOFFSETFROM:+0000
TZOFFSETTO:+0100
TZNAME:BST
DTSTART:20240331T010000
END:DAYLIGHT
BEGIN:STANDARD
TZOFFSETFROM:+0100
TZOFFSETTO:+0000
TZNAME:GMT
DTSTART:20241027T010000
END:STANDARD
END:VTIMEZONE
BEGIN:VEVENT
DTSTART;TZID=Europe/London:20230114T143000
DTEND;TZID=Europe/London:20230114T143000
DTSTAMP:20260424T064641
CREATED:20230109T111603Z
LAST-MODIFIED:20230109T111603Z
UID:10120-1673706600-1673706600@onechippenham.org.uk
SUMMARY:His Way- The Frank Sinatra Story!
DESCRIPTION:Robert Habermann sings the unforgettable songs and tells the remarkable story of Francis Albert Sinatra – from band singer to 1940’s pop idol. From his fall from popularity to swinging his way through the 1950’s\, recording his most famous songs and albums and building his own record label ‘Reprise’. \nAward winning singer Robert Habermann tells the whole story of the Chairman of the Board singing all the great Sinatra classics: Come Fly With Me\, Fly Me To The Moon\, Witchcraft\, You Make Me Feel So Young\, Strangers In The Night\, My Way\, New York New York and many more. \n***** Robert and Trevor left us laughing\, and happy with remembrances and excellent performances. FLEECE JAZZ \n***** What a pro . . . . KETTERING ARTS CENTRE \nwww.roberthabermann.net \nTickets: £20.00 \nDuration: approx. 2 hours 10 minutes including an interval \nPlease contact the venue for any access requirements. \nTickets are also available through our Box Office on 01249 446699\, or at the Town Hall. \nTickets are non-refundable unless this event is cancelled or postponed
URL:https://onechippenham.org.uk/event/his-way-the-frank-sinatra-story/
LOCATION:Neeld Community & Arts Centre\, The Neeld\, High Street\, Chippenham\, Wiltshire\, SN15 3ER\, United Kingdom
CATEGORIES:Arts,Concert,Music,Performance,Performing Arts,Theatre,Tribute
ATTACH;FMTTYPE=image/jpeg:https://onechippenham.org.uk/wp-content/uploads/2023/01/His-way-image.jpg
END:VEVENT
END:VCALENDAR