BEGIN:VCALENDAR
VERSION:2.0
PRODID:-//One Chippenham - ECPv6.15.20//NONSGML v1.0//EN
CALSCALE:GREGORIAN
METHOD:PUBLISH
X-ORIGINAL-URL:https://onechippenham.org.uk
X-WR-CALDESC:Events for One Chippenham
REFRESH-INTERVAL;VALUE=DURATION:PT1H
X-Robots-Tag:noindex
X-PUBLISHED-TTL:PT1H
BEGIN:VTIMEZONE
TZID:Europe/London
BEGIN:DAYLIGHT
TZOFFSETFROM:+0000
TZOFFSETTO:+0100
TZNAME:BST
DTSTART:20220327T010000
END:DAYLIGHT
BEGIN:STANDARD
TZOFFSETFROM:+0100
TZOFFSETTO:+0000
TZNAME:GMT
DTSTART:20221030T010000
END:STANDARD
BEGIN:DAYLIGHT
TZOFFSETFROM:+0000
TZOFFSETTO:+0100
TZNAME:BST
DTSTART:20230326T010000
END:DAYLIGHT
BEGIN:STANDARD
TZOFFSETFROM:+0100
TZOFFSETTO:+0000
TZNAME:GMT
DTSTART:20231029T010000
END:STANDARD
BEGIN:DAYLIGHT
TZOFFSETFROM:+0000
TZOFFSETTO:+0100
TZNAME:BST
DTSTART:20240331T010000
END:DAYLIGHT
BEGIN:STANDARD
TZOFFSETFROM:+0100
TZOFFSETTO:+0000
TZNAME:GMT
DTSTART:20241027T010000
END:STANDARD
END:VTIMEZONE
BEGIN:VEVENT
DTSTART;TZID=Europe/London:20230225T143000
DTEND;TZID=Europe/London:20230225T143000
DTSTAMP:20260423T004146
CREATED:20230106T212120Z
LAST-MODIFIED:20230207T215751Z
UID:10064-1677335400-1677335400@onechippenham.org.uk
SUMMARY:Hairy Stars
DESCRIPTION:Hunting for hairy stars in the Messy Kitchen of the Sun. \n\nWhat is a hairy star and where would I find one?\nWhat has it got to do with your hairdresser and a bottle of ketchup?\nAre we really all just stardust?\nDid the world’s oceans fall from the sky and why is the Sun a messy cook?\n\nJoin Paul to find out how the solar system formed\, how we know and where the ice in a G&T really comes from. \nWarning! This show contains exciting experiments and fascinating facts! \nThis Fringe Feb event has been made possible with support from Chippenham Borough Lands Charity \nTickets: Pay What You Can £6 | £4 | £2 \nAge: 14+ \nDuration: approx. 50 minutes no interval\nPlease contact the venue for any access requirements. \nTickets are also available through our Box Office on 01249 446699\, or at the Town Hall.\nTickets are non-refundable unless this event is cancelled or postponed
URL:https://onechippenham.org.uk/event/hairy-stars/
LOCATION:Neeld Community & Arts Centre\, The Neeld\, High Street\, Chippenham\, Wiltshire\, SN15 3ER\, United Kingdom
CATEGORIES:Fringe Feb,Theatre
ATTACH;FMTTYPE=image/jpeg:https://onechippenham.org.uk/wp-content/uploads/2023/01/266731CB-CF86-4BDD-A695-75C3831C1B9F.jpeg
END:VEVENT
END:VCALENDAR