BEGIN:VCALENDAR
VERSION:2.0
PRODID:-//One Chippenham - ECPv6.15.20//NONSGML v1.0//EN
CALSCALE:GREGORIAN
METHOD:PUBLISH
X-ORIGINAL-URL:https://onechippenham.org.uk
X-WR-CALDESC:Events for One Chippenham
REFRESH-INTERVAL;VALUE=DURATION:PT1H
X-Robots-Tag:noindex
X-PUBLISHED-TTL:PT1H
BEGIN:VTIMEZONE
TZID:Europe/London
BEGIN:DAYLIGHT
TZOFFSETFROM:+0000
TZOFFSETTO:+0100
TZNAME:BST
DTSTART:20210328T010000
END:DAYLIGHT
BEGIN:STANDARD
TZOFFSETFROM:+0100
TZOFFSETTO:+0000
TZNAME:GMT
DTSTART:20211031T010000
END:STANDARD
BEGIN:DAYLIGHT
TZOFFSETFROM:+0000
TZOFFSETTO:+0100
TZNAME:BST
DTSTART:20220327T010000
END:DAYLIGHT
BEGIN:STANDARD
TZOFFSETFROM:+0100
TZOFFSETTO:+0000
TZNAME:GMT
DTSTART:20221030T010000
END:STANDARD
BEGIN:DAYLIGHT
TZOFFSETFROM:+0000
TZOFFSETTO:+0100
TZNAME:BST
DTSTART:20230326T010000
END:DAYLIGHT
BEGIN:STANDARD
TZOFFSETFROM:+0100
TZOFFSETTO:+0000
TZNAME:GMT
DTSTART:20231029T010000
END:STANDARD
END:VTIMEZONE
BEGIN:VEVENT
DTSTART;TZID=Europe/London:20220622T193000
DTEND;TZID=Europe/London:20220622T204500
DTSTAMP:20260425T173815
CREATED:20220521T203356Z
LAST-MODIFIED:20220607T130552Z
UID:5746-1655926200-1655930700@onechippenham.org.uk
SUMMARY:Elizabeth 1 - Virgin on the Ridiculous
DESCRIPTION:‘A case study of sinewy simplicity and honed comedy craftsmanship’ – The Stage \n‘Side-splittingly funny’ – StageTalk Magazine \n1558. England. A country divided by religion and politics\, teetering on the brink of civil war. The hopes of the nation lie with one woman. \n2020. England. A country divided by those who enjoy plays featuring men in dresses and those who don’t. The hopes of the nation lie with two West-Country actors. \nYes\, that’s right. By popular demand (and the fact that they can’t be bothered to write a new show) Elizabeth’s back! The third of Living Spit’s (un)Holy Trinity of hilarious heritage historiographies is go as Howard and Stu attempt to tell the story of the greatest monarch that ever lived – Elizabeth: The Virgin Queen. \nWith more live original music\, silly songs\, smutty shenanigans\, perfunctory props\, and hysterically historical horseplay\, this promises to be (another) poorly researched lesson in Tudor history that you’ll never forget. \nFor ages 14+
URL:https://onechippenham.org.uk/event/elizabeth-1-virgin-on-the-ridiculous/
LOCATION:Cause Arts Centre\, 42 The Causeway\, Chippenham\, Wiltshire\, SN15 3DD\, United Kingdom
CATEGORIES:Arts,Comedy,Performance,Performing Arts,Theatre
ATTACH;FMTTYPE=image/png:https://onechippenham.org.uk/wp-content/uploads/2022/05/Living-Spit-5.png
ORGANIZER;CN="Rag and Bone Arts CIC":MAILTO:ragandbonearts@gmail.com
END:VEVENT
BEGIN:VEVENT
DTSTART;TZID=Europe/London:20220624T193000
DTEND;TZID=Europe/London:20220624T210000
DTSTAMP:20260425T173815
CREATED:20220516T144843Z
LAST-MODIFIED:20220516T144843Z
UID:5523-1656099000-1656104400@onechippenham.org.uk
SUMMARY:Keeping Up Appearances
DESCRIPTION:PROJECT PLAY is delighted to present yet another absolute classic. \nPrepare for continual “Belly-Laughs” as Hyacinth continues her attempts to prove her social superiority\, and to gain standing with those she considers upper class. Her attempts as ever are constantly hampered by her lower-class extended family\, whom she is desperate to hide; but no chance of that here! \nTo buy tickets\, please visit: https://thelittleboxoffice.com/neeld/book/event/155761
URL:https://onechippenham.org.uk/event/keeping-up-appearances/2022-06-24/
LOCATION:Neeld Community & Arts Centre\, The Neeld\, High Street\, Chippenham\, Wiltshire\, SN15 3ER\, United Kingdom
CATEGORIES:Arts,Theatre
ATTACH;FMTTYPE=image/jpeg:https://onechippenham.org.uk/wp-content/uploads/2022/05/274776974_10159584405579342_9204933987833641550_n.jpeg
END:VEVENT
END:VCALENDAR