BEGIN:VCALENDAR
VERSION:2.0
PRODID:-//One Chippenham - ECPv6.15.20//NONSGML v1.0//EN
CALSCALE:GREGORIAN
METHOD:PUBLISH
X-ORIGINAL-URL:https://onechippenham.org.uk
X-WR-CALDESC:Events for One Chippenham
REFRESH-INTERVAL;VALUE=DURATION:PT1H
X-Robots-Tag:noindex
X-PUBLISHED-TTL:PT1H
BEGIN:VTIMEZONE
TZID:Europe/London
BEGIN:DAYLIGHT
TZOFFSETFROM:+0000
TZOFFSETTO:+0100
TZNAME:BST
DTSTART:20210328T010000
END:DAYLIGHT
BEGIN:STANDARD
TZOFFSETFROM:+0100
TZOFFSETTO:+0000
TZNAME:GMT
DTSTART:20211031T010000
END:STANDARD
BEGIN:DAYLIGHT
TZOFFSETFROM:+0000
TZOFFSETTO:+0100
TZNAME:BST
DTSTART:20220327T010000
END:DAYLIGHT
BEGIN:STANDARD
TZOFFSETFROM:+0100
TZOFFSETTO:+0000
TZNAME:GMT
DTSTART:20221030T010000
END:STANDARD
BEGIN:DAYLIGHT
TZOFFSETFROM:+0000
TZOFFSETTO:+0100
TZNAME:BST
DTSTART:20230326T010000
END:DAYLIGHT
BEGIN:STANDARD
TZOFFSETFROM:+0100
TZOFFSETTO:+0000
TZNAME:GMT
DTSTART:20231029T010000
END:STANDARD
END:VTIMEZONE
BEGIN:VEVENT
DTSTART;TZID=Europe/London:20221029T180000
DTEND;TZID=Europe/London:20221029T230000
DTSTAMP:20260423T204549
CREATED:20220824T144753Z
LAST-MODIFIED:20221016T050734Z
UID:7114-1667066400-1667084400@onechippenham.org.uk
SUMMARY:Murder Mystery Dinner
DESCRIPTION:Murder Mystery Dinner at The Angel Hotel. \nEveryone is having fun until someone gets killed… \nDon’t be afraid to join us for a Halloween Murder Mystery Dinner. \nFor more information\, please visit: https://www.visitwiltshire.co.uk/whats-on/murder-mystery-dinner-p3153523 
URL:https://onechippenham.org.uk/event/murder-mystery-dinner/
LOCATION:The Angel Hotel\, Market Place\, Chippenham\, SN15 3HD
CATEGORIES:Adults,Halloween,Murder Mystery,Performance,Performing Arts,Storytelling,Theatre
ATTACH;FMTTYPE=image/png:https://onechippenham.org.uk/wp-content/uploads/2022/08/Murder-Mystery-Dinner.png
ORGANIZER;CN="The Angel Hotel":MAILTO:https://www.visitwiltshire.co.uk/whats-on/murder-mystery-dinner-p3153523
END:VEVENT
END:VCALENDAR