BEGIN:VCALENDAR
VERSION:2.0
PRODID:-//One Chippenham - ECPv6.15.20//NONSGML v1.0//EN
CALSCALE:GREGORIAN
METHOD:PUBLISH
X-ORIGINAL-URL:https://onechippenham.org.uk
X-WR-CALDESC:Events for One Chippenham
REFRESH-INTERVAL;VALUE=DURATION:PT1H
X-Robots-Tag:noindex
X-PUBLISHED-TTL:PT1H
BEGIN:VTIMEZONE
TZID:Europe/London
BEGIN:DAYLIGHT
TZOFFSETFROM:+0000
TZOFFSETTO:+0100
TZNAME:BST
DTSTART:20220327T010000
END:DAYLIGHT
BEGIN:STANDARD
TZOFFSETFROM:+0100
TZOFFSETTO:+0000
TZNAME:GMT
DTSTART:20221030T010000
END:STANDARD
BEGIN:DAYLIGHT
TZOFFSETFROM:+0000
TZOFFSETTO:+0100
TZNAME:BST
DTSTART:20230326T010000
END:DAYLIGHT
BEGIN:STANDARD
TZOFFSETFROM:+0100
TZOFFSETTO:+0000
TZNAME:GMT
DTSTART:20231029T010000
END:STANDARD
BEGIN:DAYLIGHT
TZOFFSETFROM:+0000
TZOFFSETTO:+0100
TZNAME:BST
DTSTART:20240331T010000
END:DAYLIGHT
BEGIN:STANDARD
TZOFFSETFROM:+0100
TZOFFSETTO:+0000
TZNAME:GMT
DTSTART:20241027T010000
END:STANDARD
END:VTIMEZONE
BEGIN:VEVENT
DTSTART;TZID=Europe/London:20230322T193000
DTEND;TZID=Europe/London:20230322T193000
DTSTAMP:20260422T231756
CREATED:20230112T145010Z
LAST-MODIFIED:20230112T145010Z
UID:10180-1679513400-1679513400@onechippenham.org.uk
SUMMARY:CLOGS Musical Theatre present Made in Dagenham The Musical
DESCRIPTION:CLOGS Musical Theatre present Made in Dagenham the Musical\, at the Neeld Community and Arts Centre in Chippenham. Performances of the hit musical about strikes for equal pay will take place from 22-25th March with tickets now on sale via the Neeld box office. \n\nThis uplifting musical tells the story of the Ford sewing machinists who stood up and fought for equal pay in 1968. It’s a story of friendship\, love and fighting for what’s right\, with powerful and fun musical numbers of course! \n \nThis funny\, touching and timeless musical has music by David Arnold\, lyrics by Richard Thomas\, and a book by Richard Bean. Based on the 2010 film of the same name\, which in turn was based on the real events of the Ford sewing machinists strike of 1968\, the musical made its West End premiere at the Adelphi Theatre in 2014. \n\nDirected by Matt Heaton and Musical Direction by Helen Heaton\, this uplifting production is not to be missed. \nPerformance dates: Wednesday 22 – Saturday 25 March\, 7.30pm \nTickets: Neeld Box office from £13.50 \nOnline: thelittleboxoffice.com/neeld/book/event/170437 \nPhone: 01249 446699
URL:https://onechippenham.org.uk/event/clogs-musical-theatre-present-made-in-dagenham-the-musical/2023-03-22/
LOCATION:Neeld Community & Arts Centre\, The Neeld\, High Street\, Chippenham\, Wiltshire\, SN15 3ER\, United Kingdom
CATEGORIES:Arts,Performance,Performing Arts,Theatre
ATTACH;FMTTYPE=image/png:https://onechippenham.org.uk/wp-content/uploads/2023/01/Made-in-Dagenham.png
END:VEVENT
END:VCALENDAR