BEGIN:VCALENDAR
VERSION:2.0
PRODID:-//One Chippenham - ECPv6.15.20//NONSGML v1.0//EN
CALSCALE:GREGORIAN
METHOD:PUBLISH
X-WR-CALNAME:One Chippenham
X-ORIGINAL-URL:https://onechippenham.org.uk
X-WR-CALDESC:Events for One Chippenham
REFRESH-INTERVAL;VALUE=DURATION:PT1H
X-Robots-Tag:noindex
X-PUBLISHED-TTL:PT1H
BEGIN:VTIMEZONE
TZID:Europe/London
BEGIN:DAYLIGHT
TZOFFSETFROM:+0000
TZOFFSETTO:+0100
TZNAME:BST
DTSTART:20220327T010000
END:DAYLIGHT
BEGIN:STANDARD
TZOFFSETFROM:+0100
TZOFFSETTO:+0000
TZNAME:GMT
DTSTART:20221030T010000
END:STANDARD
BEGIN:DAYLIGHT
TZOFFSETFROM:+0000
TZOFFSETTO:+0100
TZNAME:BST
DTSTART:20230326T010000
END:DAYLIGHT
BEGIN:STANDARD
TZOFFSETFROM:+0100
TZOFFSETTO:+0000
TZNAME:GMT
DTSTART:20231029T010000
END:STANDARD
BEGIN:DAYLIGHT
TZOFFSETFROM:+0000
TZOFFSETTO:+0100
TZNAME:BST
DTSTART:20240331T010000
END:DAYLIGHT
BEGIN:STANDARD
TZOFFSETFROM:+0100
TZOFFSETTO:+0000
TZNAME:GMT
DTSTART:20241027T010000
END:STANDARD
END:VTIMEZONE
BEGIN:VEVENT
DTSTART;TZID=Europe/London:20230513T190000
DTEND;TZID=Europe/London:20230513T190000
DTSTAMP:20260422T231019
CREATED:20230504T155851Z
LAST-MODIFIED:20230504T155916Z
UID:13251-1684004400-1684004400@onechippenham.org.uk
SUMMARY:Clogettes Present Peter Pan Jr.
DESCRIPTION:Based on J.M. Barrie’s classic tale this high-flying Tony Award-winning musical has been performed around the world and delighted audiences for 60 years and is now adapted for young performers. \nPeter and his mischievous fairy sidekick\, Tinkerbell\, visit the nursery of the Darling children late one night and\, with a sprinkle of pixie dust\, begin a magical journey across the stars that none of them will ever forget. In the adventure of a lifetime\, the travellers come face to face with a ticking crocodile\, the fierce Brave Girls\, a band of bungling pirates and\, of course\, the villainous Captain Hook. \nFeaturing the iconic songs\, “I’m Flying\,” “I’ve Gotta Crow\,” “I Won’t Grow Up” and “Never Never Land\,” and a rousing book full of magic\, warmth and adventure\, Peter Pan JR. is the perfect show for the child in all of us… who dreamed of soaring high and never growing up. \nTickets: Standard £13.25 / Concessions (under16’s / over 65’s) £11.00 \nPlease contact the venue for any access requirements. \nTickets are also available through our Box Office on 01249 446699\, or at the Town Hall. \nTickets are non-refundable unless this event is cancelled or postponed
URL:https://onechippenham.org.uk/event/clogettes-present-peter-pan-jr/2023-05-13/
LOCATION:Neeld Community & Arts Centre\, The Neeld\, High Street\, Chippenham\, Wiltshire\, SN15 3ER\, United Kingdom
CATEGORIES:Theatre
ATTACH;FMTTYPE=image/jpeg:https://onechippenham.org.uk/wp-content/uploads/2023/05/Peter-Pan-poster-edit-neeld-2.jpg
END:VEVENT
END:VCALENDAR