BEGIN:VCALENDAR
VERSION:2.0
PRODID:-//One Chippenham - ECPv6.15.20//NONSGML v1.0//EN
CALSCALE:GREGORIAN
METHOD:PUBLISH
X-WR-CALNAME:One Chippenham
X-ORIGINAL-URL:https://onechippenham.org.uk
X-WR-CALDESC:Events for One Chippenham
REFRESH-INTERVAL;VALUE=DURATION:PT1H
X-Robots-Tag:noindex
X-PUBLISHED-TTL:PT1H
BEGIN:VTIMEZONE
TZID:Europe/London
BEGIN:DAYLIGHT
TZOFFSETFROM:+0000
TZOFFSETTO:+0100
TZNAME:BST
DTSTART:20220327T010000
END:DAYLIGHT
BEGIN:STANDARD
TZOFFSETFROM:+0100
TZOFFSETTO:+0000
TZNAME:GMT
DTSTART:20221030T010000
END:STANDARD
BEGIN:DAYLIGHT
TZOFFSETFROM:+0000
TZOFFSETTO:+0100
TZNAME:BST
DTSTART:20230326T010000
END:DAYLIGHT
BEGIN:STANDARD
TZOFFSETFROM:+0100
TZOFFSETTO:+0000
TZNAME:GMT
DTSTART:20231029T010000
END:STANDARD
BEGIN:DAYLIGHT
TZOFFSETFROM:+0000
TZOFFSETTO:+0100
TZNAME:BST
DTSTART:20240331T010000
END:DAYLIGHT
BEGIN:STANDARD
TZOFFSETFROM:+0100
TZOFFSETTO:+0000
TZNAME:GMT
DTSTART:20241027T010000
END:STANDARD
END:VTIMEZONE
BEGIN:VEVENT
DTSTART;TZID=Europe/London:20230519T200000
DTEND;TZID=Europe/London:20230519T220000
DTSTAMP:20260422T231102
CREATED:20230504T152545Z
LAST-MODIFIED:20230504T152545Z
UID:13256-1684526400-1684533600@onechippenham.org.uk
SUMMARY:Living Spit: One Man & His Cow
DESCRIPTION:Living Spit presents ONE MAN AND HIS COW \nFarmer Trevor has a big problem. Given just months to live\, he is faced with the dilemma of which one of his three children to bequeath his beloved farmstead to. \nEach has their own beguiling qualities and Trevor just can’t choose between them. Then one fateful night in the cowshed\, help arrives from the most unlikely of sources… \nA rural romp\, written and performed by “the Morecambe and Wise of Weston Super Mare” (The Daily Telegraph)\, featuring a multitude of agricultural antics and farmyard frolics\, all told with homespun charm and wit and entirely in rhyme and song. \n“World-class actors at the top of their game.” The FTR \n“Like King Lear. But with a cow” audience member \nAge suggestion: 10+ \nAudience warnings: Some mild dodgy language and terrible puns \nHoward Coggins\, who wrote the show and created the role of Trevor way back in 2013 has taken a leave of absence due to sickness. The part of Trevor will be played by…well…someone else. Check livingspit.co.uk for up-to-date casting details. \nTickets: £14 \nDuration: 1 hour 40 minutes including interval \nPlease contact the venue for any access requirements. \nTickets are also available through our Box Office on 01249 446699\, or at the Town Hall. \nTickets are non-refundable unless this event is cancelled or postponed
URL:https://onechippenham.org.uk/event/living-spit-one-man-his-cow/
LOCATION:Neeld Community & Arts Centre\, The Neeld\, High Street\, Chippenham\, Wiltshire\, SN15 3ER\, United Kingdom
CATEGORIES:Comedy,Theatre
ATTACH;FMTTYPE=image/jpeg:https://onechippenham.org.uk/wp-content/uploads/2023/05/ezgif.com-webp-to-jpg.jpg
END:VEVENT
END:VCALENDAR