BEGIN:VCALENDAR
VERSION:2.0
PRODID:-//One Chippenham - ECPv6.15.20//NONSGML v1.0//EN
CALSCALE:GREGORIAN
METHOD:PUBLISH
X-ORIGINAL-URL:https://onechippenham.org.uk
X-WR-CALDESC:Events for One Chippenham
REFRESH-INTERVAL;VALUE=DURATION:PT1H
X-Robots-Tag:noindex
X-PUBLISHED-TTL:PT1H
BEGIN:VTIMEZONE
TZID:Europe/London
BEGIN:DAYLIGHT
TZOFFSETFROM:+0000
TZOFFSETTO:+0100
TZNAME:BST
DTSTART:20190331T010000
END:DAYLIGHT
BEGIN:STANDARD
TZOFFSETFROM:+0100
TZOFFSETTO:+0000
TZNAME:GMT
DTSTART:20191027T010000
END:STANDARD
BEGIN:DAYLIGHT
TZOFFSETFROM:+0000
TZOFFSETTO:+0100
TZNAME:BST
DTSTART:20200329T010000
END:DAYLIGHT
BEGIN:STANDARD
TZOFFSETFROM:+0100
TZOFFSETTO:+0000
TZNAME:GMT
DTSTART:20201025T010000
END:STANDARD
BEGIN:DAYLIGHT
TZOFFSETFROM:+0000
TZOFFSETTO:+0100
TZNAME:BST
DTSTART:20210328T010000
END:DAYLIGHT
BEGIN:STANDARD
TZOFFSETFROM:+0100
TZOFFSETTO:+0000
TZNAME:GMT
DTSTART:20211031T010000
END:STANDARD
BEGIN:DAYLIGHT
TZOFFSETFROM:+0000
TZOFFSETTO:+0100
TZNAME:BST
DTSTART:20220327T010000
END:DAYLIGHT
BEGIN:STANDARD
TZOFFSETFROM:+0100
TZOFFSETTO:+0000
TZNAME:GMT
DTSTART:20221030T010000
END:STANDARD
BEGIN:DAYLIGHT
TZOFFSETFROM:+0000
TZOFFSETTO:+0100
TZNAME:BST
DTSTART:20230326T010000
END:DAYLIGHT
BEGIN:STANDARD
TZOFFSETFROM:+0100
TZOFFSETTO:+0000
TZNAME:GMT
DTSTART:20231029T010000
END:STANDARD
END:VTIMEZONE
BEGIN:VEVENT
DTSTART;TZID=Europe/London:20220823T163000
DTEND;TZID=Europe/London:20220823T173000
DTSTAMP:20260424T090816
CREATED:20220823T133423Z
LAST-MODIFIED:20220823T133423Z
UID:6950-1661272200-1661275800@onechippenham.org.uk
SUMMARY:Tiny Forest Carbon Storage Training Webinar
DESCRIPTION:Are you interested in getting involved with the Tiny Forest in Monkton Park? There is no commitment\, just get involved in the things that interest you. Great for individuals\, families\, schools and groups. \nLearn how to monitor Carbon Storage in your Tiny Forest\, an important metric that informs us how much atmospheric carbon trees can capture at this webinar. The webinar is an open invitation for you to learn to monitor Tiny Forests. No previous experience on the topic is required! And no specific background needed to be part of this research. \nCarbon measuring will take place between 17-25 September. \n 
URL:https://onechippenham.org.uk/event/tiny-forest-carbon-storage-training-webinar/
LOCATION:Online
CATEGORIES:Community,Environment,Nature,Training,Wildlife/nature
ATTACH;FMTTYPE=image/png:https://onechippenham.org.uk/wp-content/uploads/2022/08/Tiny-Forest.png
END:VEVENT
BEGIN:VEVENT
DTSTART;TZID=Europe/London:20220803T130000
DTEND;TZID=Europe/London:20220803T153000
DTSTAMP:20260424T090816
CREATED:20220728T103329Z
LAST-MODIFIED:20220728T103329Z
UID:6796-1659531600-1659540600@onechippenham.org.uk
SUMMARY:Bikeability training Level 3 
DESCRIPTION:A couple of places left for Bikeability Training Level 3. Must have completed Level 2.  \nAll Wiltshire Council instructors are qualified\, registered with the Bikeability Trust\, subject to enhanced DBS checks and undergo regular First Aid and safeguarding training. Riders will need a roadworthy bike\, comfortable clothing and footwear and should bring a drink and snack. We encourage all riders to wear a cycle helmet. \nKey information \n\n13.00-15.30pm on either the 3rd or 4th August\n£10 per child\nPlaces MUST be booked in advance with parent/carer consent given.\nContact bikeability@wiltshire.gov.uk for more information and to book.\n\n 
URL:https://onechippenham.org.uk/event/bikeability-training-level-3/2022-08-03/
LOCATION:Hardenhuish School\, Hardenhuish Lane\, Chippenham\, Wiltshire\, SN14 6RJ\, United Kingdom
CATEGORIES:Children,Exercise,Training
ATTACH;FMTTYPE=image/jpeg:https://onechippenham.org.uk/wp-content/uploads/2022/07/FYvj8d-WAAEdNRx.jpeg
ORGANIZER;CN="Wiltshire Council Road Safety team":MAILTO:bikeability@wiltshire.gov.uk
END:VEVENT
BEGIN:VEVENT
DTSTART;TZID=Europe/London:20220802T093000
DTEND;TZID=Europe/London:20220804T123000
DTSTAMP:20260424T090816
CREATED:20220728T101408Z
LAST-MODIFIED:20220728T102225Z
UID:6785-1659432600-1659616200@onechippenham.org.uk
SUMMARY:Bikeability Level 1/2 training
DESCRIPTION:Bikeability training for children leaving Year 6 and above. All riders must be able to start\, pedal and stop unaided. Training is progressive\, moving from off-road location to quiet local roads. \nAll Wiltshire Council instructors are qualified\, registered with the Bikeability Trust\, subject to enhanced DBS checks and undergo regular First Aid and safeguarding training. Riders will need a roadworthy bike\, comfortable clothing and footwear and should bring a drink and snack. We encourage all riders to wear a cycle helmet. \nKey information \n\n09.30am-12.30pm daily from the 2nd-4th August\n£10 per child\nPlaces MUST be booked in advance with parent/carer consent given.\nEmail to book\, for more information and to discuss any additional needs.\nLIMITED PLACES REMAINING.
URL:https://onechippenham.org.uk/event/bikeability-level-1-2-training/
LOCATION:Hardenhuish School\, Hardenhuish Lane\, Chippenham\, Wiltshire\, SN14 6RJ\, United Kingdom
CATEGORIES:Children,Exercise,Training
ATTACH;FMTTYPE=image/png:https://onechippenham.org.uk/wp-content/uploads/2022/07/Bikeability-Level-1-2-with-feedback-v3.png
ORGANIZER;CN="Wiltshire Council Road Safety team":MAILTO:bikeability@wiltshire.gov.uk
END:VEVENT
BEGIN:VEVENT
DTSTART;TZID=Europe/London:20201014T100000
DTEND;TZID=Europe/London:20201014T130000
DTSTAMP:20260424T090816
CREATED:20200929T143244Z
LAST-MODIFIED:20200929T145108Z
UID:1621-1602669600-1602680400@onechippenham.org.uk
SUMMARY:Stay Safe Online! Cyber Security training for smaller charities and community groups.
DESCRIPTION:Anyone can be impacted by cyber crime\, even charities. To the criminals you’re just another target that hasn’t protected themselves properly. Doing the basics right will go a long way in keeping your charity secure\, which is what this awareness session from NAVCA and the NCSC aims to provide. \nFurther Information: \nWhat is cyber crime? \nCyber crime is an ‘umbrella’ term for lots of crimes which either take place online or where technology is a means and/or target for attack. \nIt is one of the fastest growing criminal activities across the world\, and can affect both individuals and community groups and charities. \nSometimes it’s easy to assume that charities and community groups are either too small or too ‘nice’ to be targeted\, but have you thought about the impact of a fraudulent invoice getting through the system\, how difficult it is to be truly data secure\, and how damaging it is to find your email system or website unexpectedly offline? The smallest organisations are often the most vulnerable in all sorts of ways. And the average cost to a charity of a cyber security breach has been calculated to be around £1\,030. \nIf you are running a small group\, organisation or charity you are likely to be holding data. Come and find out how some simple effective measures can protect you and your community group or charity. \nWho the course is aimed at: \nThroughout the session\, your trainer will help you understand the content through real life examples\, videos and most importantly by removing the jargon that can make cyber security seem difficult to understand. The training will also be attended by the Cyber Prevent & Protect Officers for the Wiltshire Police. \nWhat the course will cover: \nThrough this session you can expect to learn – \n\nWhat is cyber security\nThreats that charities face\nBacking up your data\nProtecting your charity from malware\nKeeping your smartphones safe\nUsing passwords\nAvoiding phishing attacks\nReporting an incident\n\nThis is a free course for charities\, social enterprises\, community or voluntary groups. \nThe virtual session will be deliver online via Zoom. Attendees will receive a link to join the event a week prior\, via email.
URL:https://onechippenham.org.uk/event/stay-safe-online-cyber-security-training-for-smaller-charities-and-community-groups/
LOCATION:Virtual event
CATEGORIES:Training,Virtual
ATTACH;FMTTYPE=image/jpeg:https://onechippenham.org.uk/wp-content/uploads/2020/09/Cyber-course.jpeg
END:VEVENT
BEGIN:VEVENT
DTSTART;VALUE=DATE:20200828
DTEND;VALUE=DATE:20200831
DTSTAMP:20260424T090816
CREATED:20200819T082718Z
LAST-MODIFIED:20200819T082903Z
UID:1530-1598572800-1598831999@onechippenham.org.uk
SUMMARY:MC_Combat Summer Course
DESCRIPTION:New to stage combat? Or ready to refine your skills? We offer something for everyone! Over the three days you will explore and come to love a new weapon system. Rounding off the weekend with an Academy of Performance Combat Exam\, you will receive an Industry recognised qualification.\n\nWe are following government guidelines very closely to ensure everyone’s safety.\n\n \nDates: 28th-30th August\nLocation: Lacock\, Chippenham\nPrice: £150 (inclusive of all training and exam fees)\n\nTo book a place please email admin@mccombat.co.uk
URL:https://onechippenham.org.uk/event/mc_combat-summer-course/
CATEGORIES:Arts,Outdoor,Training,Workshop
ATTACH;FMTTYPE=image/jpeg:https://onechippenham.org.uk/wp-content/uploads/2020/08/combat.jpeg
END:VEVENT
END:VCALENDAR