BEGIN:VCALENDAR
VERSION:2.0
PRODID:-//One Chippenham - ECPv6.15.20//NONSGML v1.0//EN
CALSCALE:GREGORIAN
METHOD:PUBLISH
X-ORIGINAL-URL:https://onechippenham.org.uk
X-WR-CALDESC:Events for One Chippenham
REFRESH-INTERVAL;VALUE=DURATION:PT1H
X-Robots-Tag:noindex
X-PUBLISHED-TTL:PT1H
BEGIN:VTIMEZONE
TZID:Europe/London
BEGIN:DAYLIGHT
TZOFFSETFROM:+0000
TZOFFSETTO:+0100
TZNAME:BST
DTSTART:20210328T010000
END:DAYLIGHT
BEGIN:STANDARD
TZOFFSETFROM:+0100
TZOFFSETTO:+0000
TZNAME:GMT
DTSTART:20211031T010000
END:STANDARD
BEGIN:DAYLIGHT
TZOFFSETFROM:+0000
TZOFFSETTO:+0100
TZNAME:BST
DTSTART:20220327T010000
END:DAYLIGHT
BEGIN:STANDARD
TZOFFSETFROM:+0100
TZOFFSETTO:+0000
TZNAME:GMT
DTSTART:20221030T010000
END:STANDARD
BEGIN:DAYLIGHT
TZOFFSETFROM:+0000
TZOFFSETTO:+0100
TZNAME:BST
DTSTART:20230326T010000
END:DAYLIGHT
BEGIN:STANDARD
TZOFFSETFROM:+0100
TZOFFSETTO:+0000
TZNAME:GMT
DTSTART:20231029T010000
END:STANDARD
END:VTIMEZONE
BEGIN:VEVENT
DTSTART;TZID=Europe/London:20220806T093000
DTEND;TZID=Europe/London:20220806T103000
DTSTAMP:20260425T153011
CREATED:20220704T101942Z
LAST-MODIFIED:20220704T101942Z
UID:6285-1659778200-1659781800@onechippenham.org.uk
SUMMARY:Free PARK YOGA sessions
DESCRIPTION:Free PARK YOGA sessions 9.30 – 10.30am every Saturday in August.\n\n\n\nOpen to everyone*. Please bring a mat and a drink.\n\n\n*Children under 18 must be accompanied by an adult
URL:https://onechippenham.org.uk/event/free-park-yoga-sessions/2022-08-06/
LOCATION:John Coles Park\, John Coles Park\, Chippenham\, SN15 1NZ\, United Kingdom
CATEGORIES:Adults,Exercise,Family,Family Friendly,Fitness,Outdoor,Teens,Tweens,Wellbeing,Workshop,Young adults
ATTACH;FMTTYPE=image/jpeg:https://onechippenham.org.uk/wp-content/uploads/2022/07/291850232_5278859528828823_5546677767322471646_n.jpg
END:VEVENT
END:VCALENDAR