BEGIN:VCALENDAR
VERSION:2.0
PRODID:-//One Chippenham - ECPv6.15.20//NONSGML v1.0//EN
CALSCALE:GREGORIAN
METHOD:PUBLISH
X-ORIGINAL-URL:https://onechippenham.org.uk
X-WR-CALDESC:Events for One Chippenham
REFRESH-INTERVAL;VALUE=DURATION:PT1H
X-Robots-Tag:noindex
X-PUBLISHED-TTL:PT1H
BEGIN:VTIMEZONE
TZID:Europe/London
BEGIN:DAYLIGHT
TZOFFSETFROM:+0000
TZOFFSETTO:+0100
TZNAME:BST
DTSTART:20210328T010000
END:DAYLIGHT
BEGIN:STANDARD
TZOFFSETFROM:+0100
TZOFFSETTO:+0000
TZNAME:GMT
DTSTART:20211031T010000
END:STANDARD
BEGIN:DAYLIGHT
TZOFFSETFROM:+0000
TZOFFSETTO:+0100
TZNAME:BST
DTSTART:20220327T010000
END:DAYLIGHT
BEGIN:STANDARD
TZOFFSETFROM:+0100
TZOFFSETTO:+0000
TZNAME:GMT
DTSTART:20221030T010000
END:STANDARD
BEGIN:DAYLIGHT
TZOFFSETFROM:+0000
TZOFFSETTO:+0100
TZNAME:BST
DTSTART:20230326T010000
END:DAYLIGHT
BEGIN:STANDARD
TZOFFSETFROM:+0100
TZOFFSETTO:+0000
TZNAME:GMT
DTSTART:20231029T010000
END:STANDARD
END:VTIMEZONE
BEGIN:VEVENT
DTSTART;TZID=Europe/London:20220213T140000
DTEND;TZID=Europe/London:20220213T150000
DTSTAMP:20260425T144153
CREATED:20220131T111551Z
LAST-MODIFIED:20220131T111551Z
UID:4449-1644760800-1644764400@onechippenham.org.uk
SUMMARY:A Real Fiction
DESCRIPTION:Fasten your seatbelts\, A Real Fiction is coming and it is filled with fun\, funk and foam bananas! A Real Fiction has been whipping up a storm and collecting memories on the way through! \nLoaded with current affairs\, childhood nostalgias and one hit wonders this work has been co-created with the community\, for the community. \nA hyperactive mix of dance\, theatre\, meme and pop culture. You can expect the unexpected as you lose yourself in other peoples memories\, whilst we guarantee you’ll have an unforgettable time. \n\nThis event is funded thanks to support from Chippenham Borough Lands Charity
URL:https://onechippenham.org.uk/event/a-real-fiction/
LOCATION:The Yelde Hall
CATEGORIES:Adults,Arts,Dance,Family Friendly,Teens,Theatre,Tweens
ATTACH;FMTTYPE=image/jpeg:https://onechippenham.org.uk/wp-content/uploads/2022/01/19447EC3-F792-41CC-8E36-9E295FCE9AC7.jpeg
END:VEVENT
END:VCALENDAR