BEGIN:VCALENDAR
VERSION:2.0
PRODID:-//One Chippenham - ECPv6.15.20//NONSGML v1.0//EN
CALSCALE:GREGORIAN
METHOD:PUBLISH
X-ORIGINAL-URL:https://onechippenham.org.uk
X-WR-CALDESC:Events for One Chippenham
REFRESH-INTERVAL;VALUE=DURATION:PT1H
X-Robots-Tag:noindex
X-PUBLISHED-TTL:PT1H
BEGIN:VTIMEZONE
TZID:Europe/London
BEGIN:DAYLIGHT
TZOFFSETFROM:+0000
TZOFFSETTO:+0100
TZNAME:BST
DTSTART:20230326T010000
END:DAYLIGHT
BEGIN:STANDARD
TZOFFSETFROM:+0100
TZOFFSETTO:+0000
TZNAME:GMT
DTSTART:20231029T010000
END:STANDARD
BEGIN:DAYLIGHT
TZOFFSETFROM:+0000
TZOFFSETTO:+0100
TZNAME:BST
DTSTART:20240331T010000
END:DAYLIGHT
BEGIN:STANDARD
TZOFFSETFROM:+0100
TZOFFSETTO:+0000
TZNAME:GMT
DTSTART:20241027T010000
END:STANDARD
BEGIN:DAYLIGHT
TZOFFSETFROM:+0000
TZOFFSETTO:+0100
TZNAME:BST
DTSTART:20250330T010000
END:DAYLIGHT
BEGIN:STANDARD
TZOFFSETFROM:+0100
TZOFFSETTO:+0000
TZNAME:GMT
DTSTART:20251026T010000
END:STANDARD
END:VTIMEZONE
BEGIN:VEVENT
DTSTART;TZID=Europe/London:20240102T093000
DTEND;TZID=Europe/London:20240102T113000
DTSTAMP:20260421T042057
CREATED:20240102T114327Z
LAST-MODIFIED:20240102T114327Z
UID:25342-1704187800-1704195000@onechippenham.org.uk
SUMMARY:Beginners Art - Portraits
DESCRIPTION:Join Charlie for another (incredibly popular) 6 week course in how to draw portraits. \nStarting from the very basics of portrait drawing\, moving on to studying proportion and then the individual features with simple line drawings. Finally\, producing your very own portrait painting to be proud of. \nA beautiful venue\, experienced tutor and fresh coffee – come and indulge with other lovely local budding artists. Enjoy learning from a passionate and experienced artist and make some new friends. \nPlease book in via the website\, then pay by balance transfer to keep our costs affordable for you – www.ragandbonearts.com – £96 for 6 weeks – all materials\, coffee\, tea and biscuits supplied. \nWe look forward to meeting you in January 2024
URL:https://onechippenham.org.uk/event/beginners-art-portraits/
LOCATION:The Cause Music and Arts Centre\, 42 The Causeway\, Chippenham\, Wiltshire\, SN15 3DD\, United Kingdom
CATEGORIES:Visual Arts
ATTACH;FMTTYPE=image/jpeg:https://onechippenham.org.uk/wp-content/uploads/2024/01/Beginners-Portrait-.jpeg
ORGANIZER;CN="Rag and Bone Arts CIC":MAILTO:ragandbonearts@gmail.com
END:VEVENT
BEGIN:VEVENT
DTSTART;TZID=Europe/London:20240102T123000
DTEND;TZID=Europe/London:20240102T143000
DTSTAMP:20260421T042057
CREATED:20240102T094512Z
LAST-MODIFIED:20240102T095246Z
UID:25354-1704198600-1704205800@onechippenham.org.uk
SUMMARY:Improvers Art - Portraits
DESCRIPTION:Join Charlie for another incredibly popular 6 week course in portraiture for the improver. \nBuilding of previous drawing experience\, you’ll be considering lighting and the representation of hands to produce a dramatic and convincing portrait painting. A beautiful venue\, experienced tutor and fresh coffee – come and indulge with other lovely local budding artists. \nEnjoy learning from a passionate and experienced artist and make some new friends along the way. \nPlease book in via the website\, then pay by balance transfer to keep our costs affordable for you – www.ragandbonearts.com \n£96 for 6 weeks – all materials\, coffee\, tea and biscuits supplied.\nWe look forward to meeting you in January 2024\nFeel free to get in touch with any questions. We look forward to meeting you in January 2024
URL:https://onechippenham.org.uk/event/improvers-art-portraits/2024-01-02/
LOCATION:The Cause Music and Arts Centre\, 42 The Causeway\, Chippenham\, Wiltshire\, SN15 3DD\, United Kingdom
CATEGORIES:Visual Arts
ATTACH;FMTTYPE=image/jpeg:https://onechippenham.org.uk/wp-content/uploads/2024/01/Improvers-Art-.jpeg
ORGANIZER;CN="Rag and Bone Arts CIC":MAILTO:ragandbonearts@gmail.com
END:VEVENT
END:VCALENDAR