BEGIN:VCALENDAR
VERSION:2.0
PRODID:-//One Chippenham - ECPv6.15.20//NONSGML v1.0//EN
CALSCALE:GREGORIAN
METHOD:PUBLISH
X-ORIGINAL-URL:https://onechippenham.org.uk
X-WR-CALDESC:Events for One Chippenham
REFRESH-INTERVAL;VALUE=DURATION:PT1H
X-Robots-Tag:noindex
X-PUBLISHED-TTL:PT1H
BEGIN:VTIMEZONE
TZID:Europe/London
BEGIN:DAYLIGHT
TZOFFSETFROM:+0000
TZOFFSETTO:+0100
TZNAME:BST
DTSTART:20230326T010000
END:DAYLIGHT
BEGIN:STANDARD
TZOFFSETFROM:+0100
TZOFFSETTO:+0000
TZNAME:GMT
DTSTART:20231029T010000
END:STANDARD
BEGIN:DAYLIGHT
TZOFFSETFROM:+0000
TZOFFSETTO:+0100
TZNAME:BST
DTSTART:20240331T010000
END:DAYLIGHT
BEGIN:STANDARD
TZOFFSETFROM:+0100
TZOFFSETTO:+0000
TZNAME:GMT
DTSTART:20241027T010000
END:STANDARD
BEGIN:DAYLIGHT
TZOFFSETFROM:+0000
TZOFFSETTO:+0100
TZNAME:BST
DTSTART:20250330T010000
END:DAYLIGHT
BEGIN:STANDARD
TZOFFSETFROM:+0100
TZOFFSETTO:+0000
TZNAME:GMT
DTSTART:20251026T010000
END:STANDARD
END:VTIMEZONE
BEGIN:VEVENT
DTSTART;TZID=Europe/London:20241026T140000
DTEND;TZID=Europe/London:20241026T173000
DTSTAMP:20260420T061432
CREATED:20241024T164036Z
LAST-MODIFIED:20241024T164036Z
UID:35063-1729951200-1729963800@onechippenham.org.uk
SUMMARY:Kandu Arts Annual Visual Art Exhibition
DESCRIPTION:Join Kandu Arts for the FIRST Annual Visual Arts Exhibition opening afternoon 🖼️ \nLocated in the Kandu Arts Social Hub\, you’ll find many local artists displaying their wonderful pieces\, with no specific theme\, we’ve encouraged artists to share a snippet of their artistic journeys with us. \nFree hot drinks and sweet treats ☕️ \nAll funds raised from the Kandu Arts Annual Art Exhibition will go towards Kandu Community Projects
URL:https://onechippenham.org.uk/event/kandu-arts-annual-visual-art-exhibition/
LOCATION:Emery Gate shopping centre\, Emery Gate shopping centre\, Chippenham\, Wiltshire\, SN15 3JP
CATEGORIES:Exhibition,Visual Arts
ATTACH;FMTTYPE=image/jpeg:https://onechippenham.org.uk/wp-content/uploads/2024/10/Kandu-Arts-Exhibition.jpg
ORGANIZER;CN="Kandu Arts Community Projects CIC":MAILTO:office@kandu-arts.com
END:VEVENT
END:VCALENDAR