BEGIN:VCALENDAR
VERSION:2.0
PRODID:-//One Chippenham - ECPv6.15.20//NONSGML v1.0//EN
CALSCALE:GREGORIAN
METHOD:PUBLISH
X-WR-CALNAME:One Chippenham
X-ORIGINAL-URL:https://onechippenham.org.uk
X-WR-CALDESC:Events for One Chippenham
REFRESH-INTERVAL;VALUE=DURATION:PT1H
X-Robots-Tag:noindex
X-PUBLISHED-TTL:PT1H
BEGIN:VTIMEZONE
TZID:Europe/London
BEGIN:DAYLIGHT
TZOFFSETFROM:+0000
TZOFFSETTO:+0100
TZNAME:BST
DTSTART:20220327T010000
END:DAYLIGHT
BEGIN:STANDARD
TZOFFSETFROM:+0100
TZOFFSETTO:+0000
TZNAME:GMT
DTSTART:20221030T010000
END:STANDARD
BEGIN:DAYLIGHT
TZOFFSETFROM:+0000
TZOFFSETTO:+0100
TZNAME:BST
DTSTART:20230326T010000
END:DAYLIGHT
BEGIN:STANDARD
TZOFFSETFROM:+0100
TZOFFSETTO:+0000
TZNAME:GMT
DTSTART:20231029T010000
END:STANDARD
BEGIN:DAYLIGHT
TZOFFSETFROM:+0000
TZOFFSETTO:+0100
TZNAME:BST
DTSTART:20240331T010000
END:DAYLIGHT
BEGIN:STANDARD
TZOFFSETFROM:+0100
TZOFFSETTO:+0000
TZNAME:GMT
DTSTART:20241027T010000
END:STANDARD
END:VTIMEZONE
BEGIN:VEVENT
DTSTART;TZID=Europe/London:20231118T100000
DTEND;TZID=Europe/London:20231118T160000
DTSTAMP:20260422T123440
CREATED:20231107T192105Z
LAST-MODIFIED:20231107T192105Z
UID:17073-1700301600-1700323200@onechippenham.org.uk
SUMMARY:Spotlight 3: Modern & Contemporary Art from the Collection of Chippenham Museum
DESCRIPTION:This exhibition is the third in Chippenham Museum’s Spotlight series dedicated to its growing Modern and Contemporary Art Collection. \nThe project began in 2019 with the desire to celebrate the rich artistic history of this part of North Wiltshire. As a permanent collection\, it acts as a source of inspiration\, education and enjoyment for all. \nAt the heart of the Modern and Contemporary Art Collection are works that acknowledge the legacy of the Bath Academy of Art in Corsham\, a pioneering residential art school that counted some of the biggest names in modern and contemporary art amongst its teachers and students. \nNorth Wiltshire’s creativity proudly extends beyond the Academy\, and the collection records and celebrates the many contemporary artists who continue to live and work in this area today. \nFurther details about the artworks can also be found in the accompanying catalogue available in the museum shop. \nOpen Monday-Saturday\, 10am-4pm\nFree entry \nImage: Teal Grail\, © Nicholas Lees
URL:https://onechippenham.org.uk/event/spotlight-3-modern-contemporary-art-from-the-collection-of-chippenham-museum/2023-11-18/
LOCATION:Chippenham Museum\, 9-10 Market Pl\, Chippenham\, SN15 3HF\, United Kingdom
CATEGORIES:Arts,Exhibition,Museum,Visual Arts
ATTACH;FMTTYPE=image/jpeg:https://onechippenham.org.uk/wp-content/uploads/2023/11/Nicholas-Lees-Low-Res.jpg
ORGANIZER;CN="Chippenham Museum":MAILTO:heritage@chippenham.gov.uk
END:VEVENT
END:VCALENDAR